From mboxrd@z Thu Jan 1 00:00:00 1970 Return-Path: Received: from mails.dpdk.org (mails.dpdk.org [217.70.189.124]) by inbox.dpdk.org (Postfix) with ESMTP id 1681948A73 for ; Wed, 5 Nov 2025 16:35:22 +0100 (CET) Received: from mails.dpdk.org (localhost [127.0.0.1]) by mails.dpdk.org (Postfix) with ESMTP id 0E81740A81; Wed, 5 Nov 2025 16:35:22 +0100 (CET) Received: from mail-il1-f228.google.com (mail-il1-f228.google.com [209.85.166.228]) by mails.dpdk.org (Postfix) with ESMTP id 9AA8740A81 for ; Wed, 5 Nov 2025 16:35:20 +0100 (CET) Received: by mail-il1-f228.google.com with SMTP id e9e14a558f8ab-433101f2032so20402105ab.1 for ; Wed, 05 Nov 2025 07:35:20 -0800 (PST) DKIM-Signature: v=1; a=rsa-sha256; c=relaxed/relaxed; d=iol.unh.edu; s=unh-iol; t=1762356920; x=1762961720; darn=dpdk.org; h=references:in-reply-to:cc:to:from:subject:message-id:date:from:to :cc:subject:date:message-id:reply-to; bh=rF06jSLYqS7JeVJVAq6P3/hHFmko9kXnCIvBAb5PXKE=; b=bIAZ+rVRqxVwnbu86XtukXYz04H8sH4OzN/oS2KNYRkQVooeAQH2BNJLXSetTgbK7A tCR1uj/AnHfZOwWvVHNNxH7UrqmEdesS+ichA0SvFZdTR6q+xRkILcOQHgEleZflVW0y l6qvXX33AiKwyV9BVnpli9KIznNzVWXW609K4= X-Google-DKIM-Signature: v=1; a=rsa-sha256; c=relaxed/relaxed; d=1e100.net; s=20230601; t=1762356920; x=1762961720; h=references:in-reply-to:cc:to:from:subject:message-id:date :x-gm-message-state:from:to:cc:subject:date:message-id:reply-to; bh=rF06jSLYqS7JeVJVAq6P3/hHFmko9kXnCIvBAb5PXKE=; b=GZ836LAjnxJc6h31BAtZOJesNkNRP1Fm/3vlSCHSCMPXbKAUJ7hzXlkE3H7rG2x6H3 2EkqJcHDBAVKe21EZmvmkjlI5SlA42pF0m+azjvfXFwflsxTep69lRj5/lIH29vZCul2 1GhqHpjGmNnntMbG4gp+eQz98FWqKkLAvSJ7DIW2IUUXXTUDSKCELk7N9lqzzuos+xsf PBWGbv/AAzylaJSHCz7407Et/ZioHyEMDoIAsh44yLeW6hcPCLOHVFEVQiqjc2OcYnjY xbukwAPSLDt9aGdvK+HUslZyktQmv0jUxeKa52gckaVrHh5b4cu+GcuQlbIoCafsgsaC 0TAw== X-Gm-Message-State: AOJu0YwM94gmfjH5KnAONjHkBvV8r1yQ6x7S2mIcYBF3QOLwJmft6B7J YrSTsBPYxrDbXFZ0T+g92mUdLonMj3akgXZr7/3q/cimBK1Kj7xZAfYGa5AOkPnhHX10BTvb9aL 70MOAYpnRz7ZYscVo46WS69ebTo1du0sG/oISrtWoyiRH X-Gm-Gg: ASbGncv5h83ISin1XmficW7uT7K4BEyi8AwYQb8FVXpkwilAGR/bg2XdxgsvZMdjvzu Ue5U4oMDCX0jPJ70UVgIa30sdluQlCqKlDL2UO1MpNuDXeqlbeP1HLqHijKtGGEC+GMpyAOWQGr ts75/UEx4n+DIZ1HIoAhmctUJkZoC7j3LJU4sXME76TIvczL8h5AUK70H0dl3/6vWOr+027gvUi rsQ33SjqAFcI+awL2xXmehiTPR7RSdQ3+pSFvYIangLHwReOMMlg2pTD6SEIDEcsYyquKsklDSu hBwI0bZLDoXUzWSUq2r9RiOgJDNohcehScPijBzzJDBhEQd5PmHeLxqj5nqQ4ngt2jfQB72M7C/ BoAXChT98FkhR5vkSa/ih237DfK9CiX8= X-Google-Smtp-Source: AGHT+IEeYcKGqxsibK312jc7WJszRrMFDxFdRy9zoTGVygshElWL3dVfLaMIeIT/6rgMFI+cM0iAtDTQKVxB X-Received: by 2002:a92:ca0f:0:b0:433:2167:cfca with SMTP id e9e14a558f8ab-433407bf755mr52996175ab.15.1762356919903; Wed, 05 Nov 2025 07:35:19 -0800 (PST) Received: from postal.iol.unh.edu (postal.iol.unh.edu. [132.177.123.84]) by smtp-relay.gmail.com with ESMTPS id e9e14a558f8ab-43335b2c243sm5415475ab.17.2025.11.05.07.35.19 (version=TLS1_2 cipher=ECDHE-ECDSA-AES128-GCM-SHA256 bits=128/128); Wed, 05 Nov 2025 07:35:19 -0800 (PST) X-Relaying-Domain: iol.unh.edu Date: Wed, 05 Nov 2025 07:35:19 -0800 (PST) Message-ID: <690b6eb7.050a0220.25eee4.d201SMTPIN_ADDED_MISSING@mx.google.com> Received: from [172.21.0.2] (unknown [172.18.0.240]) by postal.iol.unh.edu (Postfix) with ESMTP id 5E9DF6050A61; Wed, 5 Nov 2025 10:35:19 -0500 (EST) Subject: |SUCCESS| pw158460 [PATCH] [v1] net/mlx5: fix indirect meter index l From: dpdklab@iol.unh.edu To: Test Report Cc: dpdk-test-reports@iol.unh.edu In-Reply-To: <20251105125433.468878-1-rongweil@nvidia.com> References: <20251105125433.468878-1-rongweil@nvidia.com> Content-Type: text/plain X-BeenThere: test-report@dpdk.org X-Mailman-Version: 2.1.29 Precedence: list List-Id: automatic DPDK test reports List-Unsubscribe: , List-Archive: List-Post: List-Help: List-Subscribe: , Errors-To: test-report-bounces@dpdk.org Test-Label: iol-unit-amd64-testing Test-Status: SUCCESS http://dpdk.org/patch/158460 _Testing PASS_ Submitter: Rongwei Liu Date: Wednesday, November 05 2025 12:54:33 DPDK git baseline: Repo:dpdk-next-net-mlx Branch: master CommitID:f1c1f82f2421be9ac2f46b4ec2a616ca28da4ca7 158460 --> testing pass Upstream job id: Generic-VM-Unit-Test-DPDK#32314 Test environment and result as below: +-------------------------------+----------------+ | Environment | dpdk_unit_test | +===============================+================+ | Debian GNU/Linux 12 | PASS | +-------------------------------+----------------+ | CentOS Stream 10 | PASS | +-------------------------------+----------------+ | CentOS Stream 9 | PASS | +-------------------------------+----------------+ | Fedora Linux 41 | PASS | +-------------------------------+----------------+ | Ubuntu 22.04 | PASS | +-------------------------------+----------------+ | Fedora Linux 42 | PASS | +-------------------------------+----------------+ | Red Hat Enterprise Linux 8.10 | PASS | +-------------------------------+----------------+ | Fedora Linux 40 | PASS | +-------------------------------+----------------+ | Ubuntu 20.04 | PASS | +-------------------------------+----------------+ | Ubuntu 24.04 | PASS | +-------------------------------+----------------+ | Red Hat Enterprise Linux 9.5 | PASS | +-------------------------------+----------------+ | Windows Server 2022 | PASS | +-------------------------------+----------------+ Debian GNU/Linux 12 Kernel: 5.15 Compiler: gcc gcc (Debian 12.2.0-14+deb12u1) 12.2.0 CentOS Stream 10 Kernel: 5.15 Compiler: gcc gcc (GCC) 14.2.1 20250110 (Red Hat 14.2.1-8) CentOS Stream 9 Kernel: 5.15 Compiler: gcc gcc (GCC) 11.5.0 20240719 (Red Hat 11.5.0-11) Fedora Linux 41 Kernel: 5.15 Compiler: clang gcc (GCC) 14.3.1 20250523 (Red Hat 14.3.1-1) Ubuntu 22.04 Kernel: 5.15 Compiler: gcc gcc (Ubuntu 11.4.0-1ubuntu1~22.04) 11.4.0 Fedora Linux 42 Kernel: 5.15 Compiler: clang gcc (GCC) 15.2.1 20250808 (Red Hat 15.2.1-1) Red Hat Enterprise Linux 8.10 Kernel: 5.15 Compiler: gcc gcc (GCC) 8.5.0 20210514 (Red Hat 8.5.0-22) Fedora Linux 40 Kernel: 5.15 Compiler: gcc gcc (GCC) 14.2.1 20240912 (Red Hat 14.2.1-3) Ubuntu 20.04 Kernel: 5.15 Compiler: gcc gcc (Ubuntu 9.4.0-1ubuntu1~20.04.2) 9.4.0 Ubuntu 24.04 Kernel: 5.15 Compiler: gcc gcc (Ubuntu 13.3.0-6ubuntu2~24.04) 13.3.0 Red Hat Enterprise Linux 9.5 Kernel: 5.15 Compiler: gcc gcc (GCC) 11.5.0 20240719 (Red Hat 11.5.0-2) Windows Server 2022 Kernel: 10.0.20348.2031 Compiler: clang 15.0.7, gcc 14.1.0 (MinGW), and MSVC VS 19.39.33521 To view detailed results, visit: https://lab.dpdk.org/results/dashboard/patchsets/34473/ UNH-IOL DPDK Community Lab To manage your email subscriptions, visit: https://lab.dpdk.org/results/dashboard/preferences/subscriptions/