From: dpdklab@iol.unh.edu
To: Test Report <test-report@dpdk.org>
Cc: dpdk-test-reports@iol.unh.edu
Subject: |SUCCESS| pw158459 [PATCH] [v1] net/mlx5: fix invalid queue index ha
Date: Wed, 05 Nov 2025 07:46:07 -0800 (PST) [thread overview]
Message-ID: <690b713f.170a0220.39fea7.197cSMTPIN_ADDED_MISSING@mx.google.com> (raw)
In-Reply-To: <20251105125200.468312-1-rongweil@nvidia.com>
Test-Label: iol-compile-amd64-testing
Test-Status: SUCCESS
http://dpdk.org/patch/158459
_Testing PASS_
Submitter: Rongwei Liu <rongweil@nvidia.com>
Date: Wednesday, November 05 2025 12:52:00
DPDK git baseline: Repo:dpdk-next-net-mlx
Branch: master
CommitID:f1c1f82f2421be9ac2f46b4ec2a616ca28da4ca7
158459 --> testing pass
Upstream job id: Windows-Compile-DPDK-VS#7433
Test environment and result as below:
+-------------------------------+--------------------+------------------+-------------------+
| Environment | dpdk_meson_compile | dpdk_compile_ovs | dpdk_msvc_compile |
+===============================+====================+==================+===================+
| Debian GNU/Linux 12 | PASS | SKIPPED | SKIPPED |
+-------------------------------+--------------------+------------------+-------------------+
| Ubuntu 24.04 | PASS | PASS | SKIPPED |
+-------------------------------+--------------------+------------------+-------------------+
| CentOS Stream 9 | PASS | SKIPPED | SKIPPED |
+-------------------------------+--------------------+------------------+-------------------+
| CentOS Stream 10 | PASS | SKIPPED | SKIPPED |
+-------------------------------+--------------------+------------------+-------------------+
| Ubuntu 20.04 | PASS | SKIPPED | SKIPPED |
+-------------------------------+--------------------+------------------+-------------------+
| Fedora Linux 42 | PASS | PASS | SKIPPED |
+-------------------------------+--------------------+------------------+-------------------+
| Red Hat Enterprise Linux 9.5 | PASS | SKIPPED | SKIPPED |
+-------------------------------+--------------------+------------------+-------------------+
| Ubuntu 22.04 | PASS | SKIPPED | SKIPPED |
+-------------------------------+--------------------+------------------+-------------------+
| Red Hat Enterprise Linux 8.10 | PASS | SKIPPED | SKIPPED |
+-------------------------------+--------------------+------------------+-------------------+
| Alpine Linux 3.22.0 | PASS | SKIPPED | SKIPPED |
+-------------------------------+--------------------+------------------+-------------------+
| openSUSE Leap 15.6 | PASS | SKIPPED | SKIPPED |
+-------------------------------+--------------------+------------------+-------------------+
| FreeBSD 14.2 | PASS | SKIPPED | SKIPPED |
+-------------------------------+--------------------+------------------+-------------------+
| Windows Server 2022 | SKIPPED | SKIPPED | PASS |
+-------------------------------+--------------------+------------------+-------------------+
Debian GNU/Linux 12
Kernel: 5.15
Compiler: gcc gcc (Debian 12.2.0-14+deb12u1) 12.2.0
Ubuntu 24.04
Kernel: 5.15
Compiler: gcc gcc (Ubuntu 13.3.0-6ubuntu2~24.04) 13.3.0
CentOS Stream 9
Kernel: 5.15
Compiler: gcc gcc (GCC) 11.5.0 20240719 (Red Hat 11.5.0-11)
CentOS Stream 10
Kernel: 5.15
Compiler: gcc gcc (GCC) 14.2.1 20250110 (Red Hat 14.2.1-8)
Ubuntu 20.04
Kernel: 4.19
Compiler: gcc gcc (Ubuntu 9.4.0-1ubuntu1~20.04.2) 9.4.0
Fedora Linux 42
Kernel: 5.15
Compiler: clang gcc (GCC) 15.2.1 20250808 (Red Hat 15.2.1-1)
Red Hat Enterprise Linux 9.5
Kernel: 5.15
Compiler: gcc gcc (GCC) 11.5.0 20240719 (Red Hat 11.5.0-2)
Ubuntu 22.04
Kernel: 5.15
Compiler: gcc gcc (Ubuntu 11.4.0-1ubuntu1~22.04) 11.4.0
Red Hat Enterprise Linux 8.10
Kernel: 5.15
Compiler: gcc gcc (GCC) 8.5.0 20210514 (Red Hat 8.5.0-22)
Alpine Linux 3.22.0
Kernel: 5.15
Compiler: gcc gcc (Alpine 14.2.0) 14.2.0
openSUSE Leap 15.6
Kernel: 5.15
Compiler: gcc gcc (SUSE Linux) 7.5.0
FreeBSD 14.2
Kernel: 14.2-RELEASE
Compiler: clang 18.1.6
Windows Server 2022
Kernel: 10.0.20348.2031
Compiler: clang 15.0.7, gcc 14.1.0 (MinGW), and MSVC VS 19.39.33521
To view detailed results, visit:
https://lab.dpdk.org/results/dashboard/patchsets/34474/
UNH-IOL DPDK Community Lab
To manage your email subscriptions, visit:
https://lab.dpdk.org/results/dashboard/preferences/subscriptions/
next prev parent reply other threads:[~2025-11-05 15:46 UTC|newest]
Thread overview: 25+ messages / expand[flat|nested] mbox.gz Atom feed top
[not found] <20251105125200.468312-1-rongweil@nvidia.com>
2025-11-05 12:19 ` |SUCCESS| pw158459 [PATCH v1] net/mlx5: fix invalid queue index handling qemudev
2025-11-05 12:24 ` qemudev
2025-11-05 12:53 ` checkpatch
2025-11-05 13:45 ` |PENDING| pw158459 [PATCH] [v1] net/mlx5: fix invalid queue index ha dpdklab
2025-11-05 13:45 ` |SUCCESS| " dpdklab
2025-11-05 13:47 ` dpdklab
2025-11-05 13:56 ` dpdklab
2025-11-05 14:02 ` |PENDING| " dpdklab
2025-11-05 14:02 ` dpdklab
2025-11-05 14:13 ` |SUCCESS| " dpdklab
2025-11-05 14:17 ` dpdklab
2025-11-05 14:23 ` dpdklab
2025-11-05 14:23 ` dpdklab
2025-11-05 14:26 ` dpdklab
2025-11-05 15:00 ` dpdklab
2025-11-05 15:13 ` |SUCCESS| pw158459 [PATCH v1] net/mlx5: fix invalid queue index handling 0-day Robot
2025-11-05 15:14 ` |SUCCESS| pw158459 [PATCH] [v1] net/mlx5: fix invalid queue index ha dpdklab
2025-11-05 15:19 ` dpdklab
2025-11-05 15:46 ` dpdklab [this message]
2025-11-05 15:58 ` dpdklab
2025-11-05 16:04 ` dpdklab
2025-11-05 18:56 ` dpdklab
2025-11-05 19:12 ` dpdklab
2025-11-05 19:14 ` dpdklab
2025-11-05 20:14 ` dpdklab
Reply instructions:
You may reply publicly to this message via plain-text email
using any one of the following methods:
* Save the following mbox file, import it into your mail client,
and reply-to-all from there: mbox
Avoid top-posting and favor interleaved quoting:
https://en.wikipedia.org/wiki/Posting_style#Interleaved_style
* Reply using the --to, --cc, and --in-reply-to
switches of git-send-email(1):
git send-email \
--in-reply-to=690b713f.170a0220.39fea7.197cSMTPIN_ADDED_MISSING@mx.google.com \
--to=dpdklab@iol.unh.edu \
--cc=dpdk-test-reports@iol.unh.edu \
--cc=test-report@dpdk.org \
/path/to/YOUR_REPLY
https://kernel.org/pub/software/scm/git/docs/git-send-email.html
* If your mail client supports setting the In-Reply-To header
via mailto: links, try the mailto: link
Be sure your reply has a Subject: header at the top and a blank line
before the message body.
This is a public inbox, see mirroring instructions
for how to clone and mirror all data and code used for this inbox;
as well as URLs for NNTP newsgroup(s).