From mboxrd@z Thu Jan 1 00:00:00 1970 Return-Path: Received: from mails.dpdk.org (mails.dpdk.org [217.70.189.124]) by inbox.dpdk.org (Postfix) with ESMTP id EAC6748A73 for ; Wed, 5 Nov 2025 16:46:10 +0100 (CET) Received: from mails.dpdk.org (localhost [127.0.0.1]) by mails.dpdk.org (Postfix) with ESMTP id 390F140A8A; Wed, 5 Nov 2025 16:46:09 +0100 (CET) Received: from mail-pl1-f226.google.com (mail-pl1-f226.google.com [209.85.214.226]) by mails.dpdk.org (Postfix) with ESMTP id F17BD40A71 for ; Wed, 5 Nov 2025 16:46:07 +0100 (CET) Received: by mail-pl1-f226.google.com with SMTP id d9443c01a7336-29599f08202so46374865ad.3 for ; Wed, 05 Nov 2025 07:46:07 -0800 (PST) DKIM-Signature: v=1; a=rsa-sha256; c=relaxed/relaxed; d=iol.unh.edu; s=unh-iol; t=1762357567; x=1762962367; darn=dpdk.org; h=references:in-reply-to:cc:to:from:subject:message-id:date:from:to :cc:subject:date:message-id:reply-to; bh=z1DytK/unRV8mhtGrBtrggk3equVNfI4iKQnaC4XzBE=; b=CeBiC1TFMmoFaifE2r7k8bEVq22z4n1+gcK8h+lJbRiLuYVR1pSQ4KkYdB6tc18DQT G27dd30JjzKkWwcYw2Rs5cohf3D6BMClH3bYeh4XnKUSMDZczaL7rNGW6RkydGy5QhdZ aBOu4nBgRV2wBOmBlQSuCP+H+ZD/WzyokOCjA= X-Google-DKIM-Signature: v=1; a=rsa-sha256; c=relaxed/relaxed; d=1e100.net; s=20230601; t=1762357567; x=1762962367; h=references:in-reply-to:cc:to:from:subject:message-id:date :x-gm-message-state:from:to:cc:subject:date:message-id:reply-to; bh=z1DytK/unRV8mhtGrBtrggk3equVNfI4iKQnaC4XzBE=; b=N9lFZjH+Fvce+/8fyseCcQkcPRJvjQRoExS5mEJ3R0p8Gqo7bOe4FqUsXvhRFTaVFi ZZBnC8DBR51SuyPV0hNA/83432gl3PAkropMZVPia5XjsTC9KCxTRuU9BXb1O7QWKC02 gCsH858wHvQ0apKtBDALie2l2K8LtZQ0QYwTzjo3sukyvWTnhU0scP+MqFEPe4F5lQXm C+o8pXrzDH34ScQl70KzhihCy3TnV7RMnw/DaooNltIVTeSE3q369vRHRWsSykWnuXSe qrDu08pSeFz4H0x5LOZhC+dbfBhh6sxsNvZdpN4DSlRzl/n5hnl6LOUvZpCVBMgkHRTU jhhQ== X-Gm-Message-State: AOJu0Ywyzn9lCY+DzHkd9JOnG4aXsM2oV1/OuYDFA6gvyPBde0hiQuxK sHMbqfz6F7ZQL0ueudVPhejg/Kuric65SN7SGqhsMozTlYaPL8MqDRYGqqigwx6NRcy0ZlUGEG7 UvWSjiTUx/T0s04SGhN+XDhgZSiMaS5uv0v/RshLP5z9wVQuBfeX6CpzjUReN X-Gm-Gg: ASbGncuECZB1WQwl8TyBh15uNF5IU44vIVCNHEngbN8b0aWpKHcwn/7rmQxxy4qGijq O0O0i5Ql9cb2IcXPJT/U7No7DN3UhB02gm8BNK9n8FQ3vfOEHqMnTBTicZX6+Wop0nUseD3IzBl Qt/4EzgfXZ66NpkAmCcH0URGjOaIdIciIQnTXrM8Z0LwdzKhh18QheiGApGAlz1b5vfAXkbnRms YqkzafNg/YK9q8figivo8EKrH/k8/mnwsUUwc5k10U7B0JoWudoS5YcK+cim07jUiRngHVdJM65 rgmpetE8ct07vLu2fWBcd3AEuakbKY61a4zjebZMAWFacOAHHCUrj3ld3QSnVOOo+TmHN04fVAu fH1Ed3Qas X-Google-Smtp-Source: AGHT+IFmDxP4JEasm0oLpUqTm+tMAye42TBi7RBF+EnbsgG6yMCOK/QtufYUze3R5Q5dIxZRMqd2rXp46A4y X-Received: by 2002:a17:903:46c6:b0:294:fd3c:6de2 with SMTP id d9443c01a7336-2962ad0c4b7mr49876655ad.12.1762357567106; Wed, 05 Nov 2025 07:46:07 -0800 (PST) Received: from postal.iol.unh.edu (postal.iol.unh.edu. [2606:4100:3880:1234::84]) by smtp-relay.gmail.com with ESMTPS id d9443c01a7336-2960195fe12sm5817835ad.11.2025.11.05.07.46.06 (version=TLS1_2 cipher=ECDHE-ECDSA-AES128-GCM-SHA256 bits=128/128); Wed, 05 Nov 2025 07:46:07 -0800 (PST) X-Relaying-Domain: iol.unh.edu Date: Wed, 05 Nov 2025 07:46:07 -0800 (PST) Message-ID: <690b713f.170a0220.39fea7.197cSMTPIN_ADDED_MISSING@mx.google.com> Received: from [172.21.0.3] (unknown [172.18.0.240]) by postal.iol.unh.edu (Postfix) with ESMTP id 5758F6050A61; Wed, 5 Nov 2025 10:46:06 -0500 (EST) Subject: |SUCCESS| pw158459 [PATCH] [v1] net/mlx5: fix invalid queue index ha From: dpdklab@iol.unh.edu To: Test Report Cc: dpdk-test-reports@iol.unh.edu In-Reply-To: <20251105125200.468312-1-rongweil@nvidia.com> References: <20251105125200.468312-1-rongweil@nvidia.com> Content-Type: text/plain X-BeenThere: test-report@dpdk.org X-Mailman-Version: 2.1.29 Precedence: list List-Id: automatic DPDK test reports List-Unsubscribe: , List-Archive: List-Post: List-Help: List-Subscribe: , Errors-To: test-report-bounces@dpdk.org Test-Label: iol-compile-amd64-testing Test-Status: SUCCESS http://dpdk.org/patch/158459 _Testing PASS_ Submitter: Rongwei Liu Date: Wednesday, November 05 2025 12:52:00 DPDK git baseline: Repo:dpdk-next-net-mlx Branch: master CommitID:f1c1f82f2421be9ac2f46b4ec2a616ca28da4ca7 158459 --> testing pass Upstream job id: Windows-Compile-DPDK-VS#7433 Test environment and result as below: +-------------------------------+--------------------+------------------+-------------------+ | Environment | dpdk_meson_compile | dpdk_compile_ovs | dpdk_msvc_compile | +===============================+====================+==================+===================+ | Debian GNU/Linux 12 | PASS | SKIPPED | SKIPPED | +-------------------------------+--------------------+------------------+-------------------+ | Ubuntu 24.04 | PASS | PASS | SKIPPED | +-------------------------------+--------------------+------------------+-------------------+ | CentOS Stream 9 | PASS | SKIPPED | SKIPPED | +-------------------------------+--------------------+------------------+-------------------+ | CentOS Stream 10 | PASS | SKIPPED | SKIPPED | +-------------------------------+--------------------+------------------+-------------------+ | Ubuntu 20.04 | PASS | SKIPPED | SKIPPED | +-------------------------------+--------------------+------------------+-------------------+ | Fedora Linux 42 | PASS | PASS | SKIPPED | +-------------------------------+--------------------+------------------+-------------------+ | Red Hat Enterprise Linux 9.5 | PASS | SKIPPED | SKIPPED | +-------------------------------+--------------------+------------------+-------------------+ | Ubuntu 22.04 | PASS | SKIPPED | SKIPPED | +-------------------------------+--------------------+------------------+-------------------+ | Red Hat Enterprise Linux 8.10 | PASS | SKIPPED | SKIPPED | +-------------------------------+--------------------+------------------+-------------------+ | Alpine Linux 3.22.0 | PASS | SKIPPED | SKIPPED | +-------------------------------+--------------------+------------------+-------------------+ | openSUSE Leap 15.6 | PASS | SKIPPED | SKIPPED | +-------------------------------+--------------------+------------------+-------------------+ | FreeBSD 14.2 | PASS | SKIPPED | SKIPPED | +-------------------------------+--------------------+------------------+-------------------+ | Windows Server 2022 | SKIPPED | SKIPPED | PASS | +-------------------------------+--------------------+------------------+-------------------+ Debian GNU/Linux 12 Kernel: 5.15 Compiler: gcc gcc (Debian 12.2.0-14+deb12u1) 12.2.0 Ubuntu 24.04 Kernel: 5.15 Compiler: gcc gcc (Ubuntu 13.3.0-6ubuntu2~24.04) 13.3.0 CentOS Stream 9 Kernel: 5.15 Compiler: gcc gcc (GCC) 11.5.0 20240719 (Red Hat 11.5.0-11) CentOS Stream 10 Kernel: 5.15 Compiler: gcc gcc (GCC) 14.2.1 20250110 (Red Hat 14.2.1-8) Ubuntu 20.04 Kernel: 4.19 Compiler: gcc gcc (Ubuntu 9.4.0-1ubuntu1~20.04.2) 9.4.0 Fedora Linux 42 Kernel: 5.15 Compiler: clang gcc (GCC) 15.2.1 20250808 (Red Hat 15.2.1-1) Red Hat Enterprise Linux 9.5 Kernel: 5.15 Compiler: gcc gcc (GCC) 11.5.0 20240719 (Red Hat 11.5.0-2) Ubuntu 22.04 Kernel: 5.15 Compiler: gcc gcc (Ubuntu 11.4.0-1ubuntu1~22.04) 11.4.0 Red Hat Enterprise Linux 8.10 Kernel: 5.15 Compiler: gcc gcc (GCC) 8.5.0 20210514 (Red Hat 8.5.0-22) Alpine Linux 3.22.0 Kernel: 5.15 Compiler: gcc gcc (Alpine 14.2.0) 14.2.0 openSUSE Leap 15.6 Kernel: 5.15 Compiler: gcc gcc (SUSE Linux) 7.5.0 FreeBSD 14.2 Kernel: 14.2-RELEASE Compiler: clang 18.1.6 Windows Server 2022 Kernel: 10.0.20348.2031 Compiler: clang 15.0.7, gcc 14.1.0 (MinGW), and MSVC VS 19.39.33521 To view detailed results, visit: https://lab.dpdk.org/results/dashboard/patchsets/34474/ UNH-IOL DPDK Community Lab To manage your email subscriptions, visit: https://lab.dpdk.org/results/dashboard/preferences/subscriptions/