From mboxrd@z Thu Jan 1 00:00:00 1970 Return-Path: Received: from mails.dpdk.org (mails.dpdk.org [217.70.189.124]) by inbox.dpdk.org (Postfix) with ESMTP id BA69448A73 for ; Wed, 5 Nov 2025 16:49:16 +0100 (CET) Received: from mails.dpdk.org (localhost [127.0.0.1]) by mails.dpdk.org (Postfix) with ESMTP id B4345406B4; Wed, 5 Nov 2025 16:49:16 +0100 (CET) Received: from mail-il1-f227.google.com (mail-il1-f227.google.com [209.85.166.227]) by mails.dpdk.org (Postfix) with ESMTP id ECBDA406B4 for ; Wed, 5 Nov 2025 16:49:15 +0100 (CET) Received: by mail-il1-f227.google.com with SMTP id e9e14a558f8ab-43325879139so34461575ab.1 for ; Wed, 05 Nov 2025 07:49:15 -0800 (PST) DKIM-Signature: v=1; a=rsa-sha256; c=relaxed/relaxed; d=iol.unh.edu; s=unh-iol; t=1762357755; x=1762962555; darn=dpdk.org; h=references:in-reply-to:cc:to:from:subject:message-id:date:from:to :cc:subject:date:message-id:reply-to; bh=oxDPgy/Bu20yPyTZkl/ZcQYeb5BAwiQJar3+0Ure6pU=; b=V3QuU4RqHm4PINPmx+pcT4W1TlHLsggOqo1TWpfhqT7vA/l0zZiTPFk0K3Tcj20mIO 0Pnr/mDBtpyiRQy7nw5NOfBBQzvVUq9INr2qx2r8yfobyoC8/TFldGavrxAcpcmLq2Ag 7S8rKmaoyysCeJx5PVd5Qsv94E2shfQl/2CEo= X-Google-DKIM-Signature: v=1; a=rsa-sha256; c=relaxed/relaxed; d=1e100.net; s=20230601; t=1762357755; x=1762962555; h=references:in-reply-to:cc:to:from:subject:message-id:date :x-gm-message-state:from:to:cc:subject:date:message-id:reply-to; bh=oxDPgy/Bu20yPyTZkl/ZcQYeb5BAwiQJar3+0Ure6pU=; b=dHOaYumj3HaTzIwQpLTJNMuEYtU03kun5gyNN+K8LSMTgNs6P1ik7A5jJBdkSlmY5W m9+LDhgtcy1MbBxu+gIVn+Ei+hdLGsByO35DWa2uYbI5xnIWRfncptxYbJD8vHr1DSFC I1EkK+j6OllnZJ0qRvQ/GD0lPBYFJECdkREb/iMxEuxymarG8n+vH6SLD3qONmYQxHDo V1IUyFW6dbM12Er6g7+SRFVZCxAgVZIQwkFVtZJDEPCjGwWUNFcET3AcaQqJHg6hus3f Vqo6wF7qFwWncO9CwG/hv0jKDHJCn4Pvp4zz2ysL06rTs0FH4Nz5gx0Kqko7Ixy+/0q6 akNg== X-Gm-Message-State: AOJu0Ywp6J8wamc82eBG9HlD7sPGJHqzP/rB5wbjqu3seZMWTfAi8Ceh ehxADKA0uJWiTlWTSOUN+h5pEOCJPF3ViKOaUdE8shYrZtPUWHltrOf51Xi1NiYmzlLlbel58nN je0xHNvJbclLrX6pgPL0Si3W5ERUAVbGwqHcT65DcbcRJ X-Gm-Gg: ASbGncsRHrbvrOPQIu1EhxswwK2BJC5xWqk0zbH7dObhnzIMwTmtu6sGh9uXjtH8sWH aahGvIEv0Z8S8TtT3psQ2EKbQgfzctksekZSU38FMa+E5spIMdKWCEDc2qYg6JaZgtz5ZjsTs/c /GAQ99bbQfLr3rm6Tcq+3q36jGpKBxdapZPo/5tmqTCfWUMQPVBK02wApKSrBKrpmB9CInBXEuM iXhowcBBVvKbaE3+bTq/I5mMGf3/BUckuDLbKf/ge3gROJabg3KWo8aOzK9qYYEsW/sK8g4Y1XL jM0eL4FOr7BAywNRYIkHX9oHx8VtExmQv1Nk9q5Ks5PLTb0Dzf5KNRGDByO0H3Nrz2ksC1lN1Xp KbC2ytn0cE5JVdnc1qiM5KTR18tlrU4s= X-Google-Smtp-Source: AGHT+IGAha6a806okxkdU1Fz76IZApLhdQtKy1MuQdPLZCXzIl5pWkdFzsU0RxflCc3mwhj6fcf6Hs0jGjlf X-Received: by 2002:a05:6e02:12c3:b0:433:220d:f49c with SMTP id e9e14a558f8ab-433406467d7mr52263645ab.0.1762357755234; Wed, 05 Nov 2025 07:49:15 -0800 (PST) Received: from postal.iol.unh.edu (postal.iol.unh.edu. [132.177.123.84]) by smtp-relay.gmail.com with ESMTPS id 8926c6da1cb9f-5b7226fe608sm679492173.33.2025.11.05.07.49.15 (version=TLS1_2 cipher=ECDHE-ECDSA-AES128-GCM-SHA256 bits=128/128); Wed, 05 Nov 2025 07:49:15 -0800 (PST) X-Relaying-Domain: iol.unh.edu Date: Wed, 05 Nov 2025 07:49:15 -0800 (PST) Message-ID: <690b71fb.050a0220.27ec72.5c6eSMTPIN_ADDED_MISSING@mx.google.com> Received: from [172.21.0.2] (unknown [172.18.0.240]) by postal.iol.unh.edu (Postfix) with ESMTP id BFC176051830; Wed, 5 Nov 2025 10:49:14 -0500 (EST) Subject: |SUCCESS| pw158455-158457 [PATCH] [v2,3/3] app/testpmd: support paus From: dpdklab@iol.unh.edu To: Test Report Cc: dpdk-test-reports@iol.unh.edu, Stephen Hemminger In-Reply-To: <20251105094748.3269-4-fengchengwen@huawei.com> References: <20251105094748.3269-4-fengchengwen@huawei.com> Content-Type: text/plain X-BeenThere: test-report@dpdk.org X-Mailman-Version: 2.1.29 Precedence: list List-Id: automatic DPDK test reports List-Unsubscribe: , List-Archive: List-Post: List-Help: List-Subscribe: , Errors-To: test-report-bounces@dpdk.org Test-Label: iol-compile-amd64-testing Test-Status: SUCCESS http://dpdk.org/patch/158457 _Testing PASS_ Submitter: Chengwen Feng Date: Wednesday, November 05 2025 09:47:48 DPDK git baseline: Repo:dpdk-next-net Branch: master CommitID:538052bb364db22ba8cc08b5e23a9e6d25a864a9 158455-158457 --> testing pass Upstream job id: Windows-Compile-DPDK-Native#32135 Test environment and result as below: +-------------------------------+--------------------+------------------+-------------------+-------------------------+ | Environment | dpdk_meson_compile | dpdk_compile_ovs | dpdk_msvc_compile | dpdk_llvm_clang_compile | +===============================+====================+==================+===================+=========================+ | Ubuntu 20.04 | PASS | SKIPPED | SKIPPED | SKIPPED | +-------------------------------+--------------------+------------------+-------------------+-------------------------+ | Red Hat Enterprise Linux 8.10 | PASS | SKIPPED | SKIPPED | SKIPPED | +-------------------------------+--------------------+------------------+-------------------+-------------------------+ | openSUSE Leap 15.6 | PASS | SKIPPED | SKIPPED | SKIPPED | +-------------------------------+--------------------+------------------+-------------------+-------------------------+ | Fedora Linux 42 | PASS | PASS | SKIPPED | SKIPPED | +-------------------------------+--------------------+------------------+-------------------+-------------------------+ | Red Hat Enterprise Linux 9.5 | PASS | SKIPPED | SKIPPED | SKIPPED | +-------------------------------+--------------------+------------------+-------------------+-------------------------+ | CentOS Stream 9 | PASS | SKIPPED | SKIPPED | SKIPPED | +-------------------------------+--------------------+------------------+-------------------+-------------------------+ | Debian GNU/Linux 12 | PASS | SKIPPED | SKIPPED | SKIPPED | +-------------------------------+--------------------+------------------+-------------------+-------------------------+ | CentOS Stream 10 | PASS | SKIPPED | SKIPPED | SKIPPED | +-------------------------------+--------------------+------------------+-------------------+-------------------------+ | Ubuntu 22.04 | PASS | SKIPPED | SKIPPED | SKIPPED | +-------------------------------+--------------------+------------------+-------------------+-------------------------+ | Ubuntu 24.04 | PASS | PASS | SKIPPED | SKIPPED | +-------------------------------+--------------------+------------------+-------------------+-------------------------+ | FreeBSD 14.2 | PASS | SKIPPED | SKIPPED | SKIPPED | +-------------------------------+--------------------+------------------+-------------------+-------------------------+ | Alpine Linux 3.22.0 | PASS | SKIPPED | SKIPPED | SKIPPED | +-------------------------------+--------------------+------------------+-------------------+-------------------------+ | Windows Server 2022 | SKIPPED | SKIPPED | PASS | PASS | +-------------------------------+--------------------+------------------+-------------------+-------------------------+ Ubuntu 20.04 Kernel: 5.15 Compiler: gcc gcc (Ubuntu 9.4.0-1ubuntu1~20.04.2) 9.4.0 Red Hat Enterprise Linux 8.10 Kernel: 5.15 Compiler: gcc gcc (GCC) 8.5.0 20210514 (Red Hat 8.5.0-22) openSUSE Leap 15.6 Kernel: 5.15 Compiler: gcc gcc (SUSE Linux) 7.5.0 Fedora Linux 42 Kernel: 5.15 Compiler: clang gcc (GCC) 15.2.1 20250808 (Red Hat 15.2.1-1) Red Hat Enterprise Linux 9.5 Kernel: 5.15 Compiler: gcc gcc (GCC) 11.5.0 20240719 (Red Hat 11.5.0-2) CentOS Stream 9 Kernel: 5.15 Compiler: gcc gcc (GCC) 11.5.0 20240719 (Red Hat 11.5.0-11) Debian GNU/Linux 12 Kernel: 5.15 Compiler: gcc gcc (Debian 12.2.0-14+deb12u1) 12.2.0 CentOS Stream 10 Kernel: 5.15 Compiler: gcc gcc (GCC) 14.2.1 20250110 (Red Hat 14.2.1-8) Ubuntu 22.04 Kernel: 5.15 Compiler: gcc gcc (Ubuntu 11.4.0-1ubuntu1~22.04) 11.4.0 Ubuntu 24.04 Kernel: 5.15 Compiler: gcc gcc (Ubuntu 13.3.0-6ubuntu2~24.04) 13.3.0 FreeBSD 14.2 Kernel: 14.2-RELEASE Compiler: clang 18.1.6 Alpine Linux 3.22.0 Kernel: 5.15 Compiler: gcc gcc (Alpine 14.2.0) 14.2.0 Windows Server 2022 Kernel: 10.0.20348.2031 Compiler: clang 15.0.7, gcc 14.1.0 (MinGW), and MSVC VS 19.39.33521 To view detailed results, visit: https://lab.dpdk.org/results/dashboard/patchsets/34471/ UNH-IOL DPDK Community Lab To manage your email subscriptions, visit: https://lab.dpdk.org/results/dashboard/preferences/subscriptions/