From mboxrd@z Thu Jan 1 00:00:00 1970 Return-Path: Received: from mails.dpdk.org (mails.dpdk.org [217.70.189.124]) by inbox.dpdk.org (Postfix) with ESMTP id CF19748A73 for ; Wed, 5 Nov 2025 16:58:10 +0100 (CET) Received: from mails.dpdk.org (localhost [127.0.0.1]) by mails.dpdk.org (Postfix) with ESMTP id C2DB04021F; Wed, 5 Nov 2025 16:58:10 +0100 (CET) Received: from mail-il1-f226.google.com (mail-il1-f226.google.com [209.85.166.226]) by mails.dpdk.org (Postfix) with ESMTP id D0C6D4021F for ; Wed, 5 Nov 2025 16:58:09 +0100 (CET) Received: by mail-il1-f226.google.com with SMTP id e9e14a558f8ab-4330fc37de7so20845835ab.2 for ; Wed, 05 Nov 2025 07:58:09 -0800 (PST) DKIM-Signature: v=1; a=rsa-sha256; c=relaxed/relaxed; d=iol.unh.edu; s=unh-iol; t=1762358289; x=1762963089; darn=dpdk.org; h=references:in-reply-to:cc:to:from:subject:message-id:date:from:to :cc:subject:date:message-id:reply-to; bh=2dbKB7473CuzPeAqivPfu3Vxur70A6GWMEO4yjACnrM=; b=bUnv8N50pKey/7Wa9XxP3uYOd86zx1Yp2jgXv3XuXOsxn9FhoiRLq1KEvMZRYfV9Q1 nK53oDvUMfXH+IO9FlaXa9Mf/DotJD3vHIBfn5RPP3UurUAR6pubzKvnEiE+ohBsP9sj 8+Ykp/prgfawU9jSVDOQrs5Woc1ojxoNPUvDw= X-Google-DKIM-Signature: v=1; a=rsa-sha256; c=relaxed/relaxed; d=1e100.net; s=20230601; t=1762358289; x=1762963089; h=references:in-reply-to:cc:to:from:subject:message-id:date :x-gm-message-state:from:to:cc:subject:date:message-id:reply-to; bh=2dbKB7473CuzPeAqivPfu3Vxur70A6GWMEO4yjACnrM=; b=DomGM9qhJ3AA5EsBq3dvC0AkMUlthWD3IVLWhfTiLc1nuHhn8QHaGpGVrAWvfwbrPq /AgHvkcnjhgHzgqblnXF36ZF7fBNeT0IhcXXx4Y+dfNvfhZ9A0lFgCOOxffUMFUhy2xk PYpsqb5n8s12So9D3S/Z8+g5kl8DYJwOmWXDGijQYmBlpvbOQFnXRnBRuFr0DwBPpFnT BGbfzRlTSzPcQ1MVXR4lk1jaQAh3aJp5vihsZHaah0bMzgMZUh5/y3WXSb9Ds9NIV7EE owvIlVm+q1edLVGpQz8U1U4c9on8o4UOa0W0tOKuFKWdzhHTfFBgwdTHKgnKLTH1LbSF 88gQ== X-Gm-Message-State: AOJu0YxdHoLbn6vPtmLmljLCf6RdMBPumJaXDniZVTtV/M6dSxMSsQeP YLbX+CnVA5PIwChQp35/1wPpj+gy4fMIUjmHV55B5agVVZJvNYkPthHNHs4B7hOQqX+5ob7fUOq dqQmChjNqHJW1OUTpYs6q51BL5/wMDPdXrRjTboJGTngezUpsNQl28XAJH5LO X-Gm-Gg: ASbGncte16zF86iZW0C91A/V0JFt8nvBIzW5aSr0YiuwvCm8BlidiLncrUV+umJv3vw 5Ah3sZ4A4AVgqb11gnFfeCHXfm+18o1XdKfwUPZOxIFMYRheo/WRVdHWjJI92t5/kSsMXoV5Whr ICjh6WnbxWiDrUo8Ouv6/2ie/23iV5ftagaFajbeLJ0rU33q/Wbq1tNPZvs6QtfR9r2cO67aQfT ne3GwzDhXTOPB8gosId5x96/qsChAF7lQ/6u1T1qQ0Pp0/KHnidOw3IbveGt9RfE5rhzSfd+5I2 rzxHSFx62mJVu1CSFsHCCpQd53ZNFfXddufzSyJgKWEorZWDw1DT4BR0h67hg3eNN4hlVmh0/zv QEHIZ6Jbv X-Google-Smtp-Source: AGHT+IFl8fnlNnJkfL2ALppkA117PuMUgw78BD8EKB/2tgFWY6yI+K/I0ciZ4RvWrI4G2icYJMrAS8bE3qFJ X-Received: by 2002:a05:6e02:3313:b0:433:27e9:8690 with SMTP id e9e14a558f8ab-433407bfbd7mr53027415ab.21.1762358289106; Wed, 05 Nov 2025 07:58:09 -0800 (PST) Received: from postal.iol.unh.edu (postal.iol.unh.edu. [2606:4100:3880:1234::84]) by smtp-relay.gmail.com with ESMTPS id e9e14a558f8ab-43335b43bc4sm5224565ab.28.2025.11.05.07.58.09 (version=TLS1_2 cipher=ECDHE-ECDSA-AES128-GCM-SHA256 bits=128/128); Wed, 05 Nov 2025 07:58:09 -0800 (PST) X-Relaying-Domain: iol.unh.edu Date: Wed, 05 Nov 2025 07:58:09 -0800 (PST) Message-ID: <690b7411.050a0220.3ba74d.c3feSMTPIN_ADDED_MISSING@mx.google.com> Received: from [172.21.0.2] (unknown [172.18.0.240]) by postal.iol.unh.edu (Postfix) with ESMTP id A261E6051830; Wed, 5 Nov 2025 10:58:08 -0500 (EST) Subject: |SUCCESS| pw158459 [PATCH] [v1] net/mlx5: fix invalid queue index ha From: dpdklab@iol.unh.edu To: Test Report Cc: dpdk-test-reports@iol.unh.edu In-Reply-To: <20251105125200.468312-1-rongweil@nvidia.com> References: <20251105125200.468312-1-rongweil@nvidia.com> Content-Type: text/plain X-BeenThere: test-report@dpdk.org X-Mailman-Version: 2.1.29 Precedence: list List-Id: automatic DPDK test reports List-Unsubscribe: , List-Archive: List-Post: List-Help: List-Subscribe: , Errors-To: test-report-bounces@dpdk.org Test-Label: iol-unit-amd64-testing Test-Status: SUCCESS http://dpdk.org/patch/158459 _Testing PASS_ Submitter: Rongwei Liu Date: Wednesday, November 05 2025 12:52:00 DPDK git baseline: Repo:dpdk-next-net-mlx Branch: master CommitID:f1c1f82f2421be9ac2f46b4ec2a616ca28da4ca7 158459 --> testing pass Upstream job id: Generic-VM-Unit-Test-DPDK#32315 Test environment and result as below: +-------------------------------+----------------+ | Environment | dpdk_unit_test | +===============================+================+ | Red Hat Enterprise Linux 9.5 | PASS | +-------------------------------+----------------+ | Red Hat Enterprise Linux 8.10 | PASS | +-------------------------------+----------------+ | CentOS Stream 10 | PASS | +-------------------------------+----------------+ | Ubuntu 20.04 | PASS | +-------------------------------+----------------+ | Fedora Linux 42 | PASS | +-------------------------------+----------------+ | Fedora Linux 41 | PASS | +-------------------------------+----------------+ | CentOS Stream 9 | PASS | +-------------------------------+----------------+ | Ubuntu 24.04 | PASS | +-------------------------------+----------------+ | Debian GNU/Linux 12 | PASS | +-------------------------------+----------------+ | Ubuntu 22.04 | PASS | +-------------------------------+----------------+ | Fedora Linux 40 | PASS | +-------------------------------+----------------+ | Windows Server 2022 | PASS | +-------------------------------+----------------+ Red Hat Enterprise Linux 9.5 Kernel: 5.15 Compiler: gcc gcc (GCC) 11.5.0 20240719 (Red Hat 11.5.0-2) Red Hat Enterprise Linux 8.10 Kernel: 5.15 Compiler: gcc gcc (GCC) 8.5.0 20210514 (Red Hat 8.5.0-22) CentOS Stream 10 Kernel: 5.15 Compiler: gcc gcc (GCC) 14.2.1 20250110 (Red Hat 14.2.1-8) Ubuntu 20.04 Kernel: 5.15 Compiler: gcc gcc (Ubuntu 9.4.0-1ubuntu1~20.04.2) 9.4.0 Fedora Linux 42 Kernel: 5.15 Compiler: gcc gcc (GCC) 15.2.1 20250808 (Red Hat 15.2.1-1) Fedora Linux 41 Kernel: 5.15 Compiler: clang gcc (GCC) 14.3.1 20250523 (Red Hat 14.3.1-1) CentOS Stream 9 Kernel: 5.15 Compiler: gcc gcc (GCC) 11.5.0 20240719 (Red Hat 11.5.0-11) Ubuntu 24.04 Kernel: 5.15 Compiler: gcc gcc (Ubuntu 13.3.0-6ubuntu2~24.04) 13.3.0 Debian GNU/Linux 12 Kernel: 5.15 Compiler: gcc gcc (Debian 12.2.0-14+deb12u1) 12.2.0 Ubuntu 22.04 Kernel: 5.15 Compiler: gcc gcc (Ubuntu 11.4.0-1ubuntu1~22.04) 11.4.0 Fedora Linux 40 Kernel: 5.15 Compiler: clang gcc (GCC) 14.2.1 20240912 (Red Hat 14.2.1-3) Windows Server 2022 Kernel: 10.0.20348.2031 Compiler: clang 15.0.7, gcc 14.1.0 (MinGW), and MSVC VS 19.39.33521 To view detailed results, visit: https://lab.dpdk.org/results/dashboard/patchsets/34474/ UNH-IOL DPDK Community Lab To manage your email subscriptions, visit: https://lab.dpdk.org/results/dashboard/preferences/subscriptions/