From mboxrd@z Thu Jan 1 00:00:00 1970 Return-Path: Received: from mails.dpdk.org (mails.dpdk.org [217.70.189.124]) by inbox.dpdk.org (Postfix) with ESMTP id 2DC4C48A73 for ; Wed, 5 Nov 2025 17:00:23 +0100 (CET) Received: from mails.dpdk.org (localhost [127.0.0.1]) by mails.dpdk.org (Postfix) with ESMTP id 288674021F; Wed, 5 Nov 2025 17:00:23 +0100 (CET) Received: from mail-yx1-f97.google.com (mail-yx1-f97.google.com [74.125.224.97]) by mails.dpdk.org (Postfix) with ESMTP id E32224021F for ; Wed, 5 Nov 2025 17:00:21 +0100 (CET) Received: by mail-yx1-f97.google.com with SMTP id 956f58d0204a3-63f976ef4bdso4975243d50.1 for ; Wed, 05 Nov 2025 08:00:21 -0800 (PST) DKIM-Signature: v=1; a=rsa-sha256; c=relaxed/relaxed; d=iol.unh.edu; s=unh-iol; t=1762358421; x=1762963221; darn=dpdk.org; h=references:in-reply-to:cc:to:from:subject:message-id:date:from:to :cc:subject:date:message-id:reply-to; bh=xZY9jGYs7TK4GNnP7Yc53aVv7MsqsWfkd7e1eFM0BmQ=; b=MgMuwunUIYZ6eHMfab7rg+B5ZD5AGZc2Ck96ecg0tUYUWWqHagYOoavrAPU0Ch9uOi w35hUUPTo1sRxnY7izrVUAQQYBFoeqV8KkUHmT7fdT8YhSetE6fELZihEr5xH7axDZKY hy4TvxnJYj/gUuwm9VRbTYlXZdVOQtUazv+9o= X-Google-DKIM-Signature: v=1; a=rsa-sha256; c=relaxed/relaxed; d=1e100.net; s=20230601; t=1762358421; x=1762963221; h=references:in-reply-to:cc:to:from:subject:message-id:date :x-gm-message-state:from:to:cc:subject:date:message-id:reply-to; bh=xZY9jGYs7TK4GNnP7Yc53aVv7MsqsWfkd7e1eFM0BmQ=; b=VysjMBEz+HVfUTEp3HU2aZEr3b69dcdEtFxRW5ZZq/mP7u1CWY42h67w3axUgj+SlK wUQpO8se4KZ2meDB7ggmQB7f1hHqvdjDeMUlJuDjCBd2exEXbeKoWOguRPIyGDyxxKVF 9FVUZuNETzqB/E6YCfrPe00VxFEe8q/OSrkpP4lupLH4+BJzOjxW7gSjVguu6bC9SXpq 5xPX7xfm9XGrhoBh63uciySYG0cR2uNRJ9qqDHVkVcz2d4O1WC+lpYivI5eDCVhcut6Q 0f4B+0+4hWJHcOJm6sYC5fev/wUe0dzhlX3oR1ndYaaEV+mtkF1LnaEIkvSF4tW2cELM IjOw== X-Gm-Message-State: AOJu0YzPK3j8wyV0b1nnoZJH3TTgD0jdb2eybb/M4rmSBnooV2fa1RbF TbxNjauSponDcbQ1UWKiMgNPZ8eucRsGHD9Eusoo3jkaR3zYjU7k+cXqSQDSplQvuVB4G2SDn7k EUbNaTmqCo8oZXqb3AQq1+kkB0cqwNgDM6f4u9sQZ4ggK X-Gm-Gg: ASbGncv+HQM3yIX3UbGdtcK5KMaws0JsKvRBe/LVLd192L2e9DQ3zYzKY3Bp7R3pCud 8twsJNrhJUP95v2RkbaTYrwZhAh7WZk5uMPBksmbafMxa+M+LMLUsgx3DjZW4lM8UEtMj4OOpr/ P+zsnWpI8TF+kSdKvsMwabhplk6k5xhYNKnBEHH/2XUkm/sBgpfU1JssjzCzOHg/Z7Yc6tDbFyA C6YNO1v+0tsl6E1o+I10CSHdv1kNVkj/NJmNyyGc/MKtFBZIP5Yh/h/npNKon7h5vciIcwNRIVN A64kHLyMD+r7op/e1KxNUpP6UU0Of4dpXNQNMQ+H72ce92uBqmCwDARkBdG2BV7zZecA7Npe6Bh wX+MTzDWLdGXTx97TSnXez6qSjJOxjyU= X-Google-Smtp-Source: AGHT+IG7uxhW6jVUryBDsvEI+6CF/pPfD56kYFEHbJSXfDK31TwQ/tbNWEpHJTp8IdR95ON/BnYv9ZGOAsFW X-Received: by 2002:a05:690e:2598:b0:63f:860f:feda with SMTP id 956f58d0204a3-63fd35c95a7mr2729316d50.63.1762358421112; Wed, 05 Nov 2025 08:00:21 -0800 (PST) Received: from postal.iol.unh.edu (postal.iol.unh.edu. [132.177.123.84]) by smtp-relay.gmail.com with ESMTPS id 956f58d0204a3-6406d2f57basm75253d50.12.2025.11.05.08.00.21 (version=TLS1_2 cipher=ECDHE-ECDSA-AES128-GCM-SHA256 bits=128/128); Wed, 05 Nov 2025 08:00:21 -0800 (PST) X-Relaying-Domain: iol.unh.edu Date: Wed, 05 Nov 2025 08:00:21 -0800 (PST) Message-ID: <690b7495.050a0220.304956.48e8SMTPIN_ADDED_MISSING@mx.google.com> Received: from [172.21.0.7] (unknown [172.18.0.240]) by postal.iol.unh.edu (Postfix) with ESMTP id ABCE36051830; Wed, 5 Nov 2025 11:00:20 -0500 (EST) Subject: |SUCCESS| pw158455-158457 [PATCH] [v2,3/3] app/testpmd: support paus From: dpdklab@iol.unh.edu To: Test Report Cc: dpdk-test-reports@iol.unh.edu, Stephen Hemminger In-Reply-To: <20251105094748.3269-4-fengchengwen@huawei.com> References: <20251105094748.3269-4-fengchengwen@huawei.com> Content-Type: text/plain X-BeenThere: test-report@dpdk.org X-Mailman-Version: 2.1.29 Precedence: list List-Id: automatic DPDK test reports List-Unsubscribe: , List-Archive: List-Post: List-Help: List-Subscribe: , Errors-To: test-report-bounces@dpdk.org Test-Label: iol-compile-amd64-testing Test-Status: SUCCESS http://dpdk.org/patch/158457 _Testing PASS_ Submitter: Chengwen Feng Date: Wednesday, November 05 2025 09:47:48 DPDK git baseline: Repo:dpdk-next-net Branch: master CommitID:538052bb364db22ba8cc08b5e23a9e6d25a864a9 158455-158457 --> testing pass Upstream job id: Windows-Compile-DPDK-Native#32136 Test environment and result as below: +-------------------------------+--------------------+------------------+-------------------+-------------------------+----------------------+ | Environment | dpdk_meson_compile | dpdk_compile_ovs | dpdk_msvc_compile | dpdk_llvm_clang_compile | dpdk_mingw64_compile | +===============================+====================+==================+===================+=========================+======================+ | Ubuntu 20.04 | PASS | SKIPPED | SKIPPED | SKIPPED | SKIPPED | +-------------------------------+--------------------+------------------+-------------------+-------------------------+----------------------+ | Red Hat Enterprise Linux 8.10 | PASS | SKIPPED | SKIPPED | SKIPPED | SKIPPED | +-------------------------------+--------------------+------------------+-------------------+-------------------------+----------------------+ | openSUSE Leap 15.6 | PASS | SKIPPED | SKIPPED | SKIPPED | SKIPPED | +-------------------------------+--------------------+------------------+-------------------+-------------------------+----------------------+ | Fedora Linux 42 | PASS | PASS | SKIPPED | SKIPPED | SKIPPED | +-------------------------------+--------------------+------------------+-------------------+-------------------------+----------------------+ | Red Hat Enterprise Linux 9.5 | PASS | SKIPPED | SKIPPED | SKIPPED | SKIPPED | +-------------------------------+--------------------+------------------+-------------------+-------------------------+----------------------+ | CentOS Stream 9 | PASS | SKIPPED | SKIPPED | SKIPPED | SKIPPED | +-------------------------------+--------------------+------------------+-------------------+-------------------------+----------------------+ | Debian GNU/Linux 12 | PASS | SKIPPED | SKIPPED | SKIPPED | SKIPPED | +-------------------------------+--------------------+------------------+-------------------+-------------------------+----------------------+ | CentOS Stream 10 | PASS | SKIPPED | SKIPPED | SKIPPED | SKIPPED | +-------------------------------+--------------------+------------------+-------------------+-------------------------+----------------------+ | Ubuntu 22.04 | PASS | SKIPPED | SKIPPED | SKIPPED | SKIPPED | +-------------------------------+--------------------+------------------+-------------------+-------------------------+----------------------+ | Ubuntu 24.04 | PASS | PASS | SKIPPED | SKIPPED | SKIPPED | +-------------------------------+--------------------+------------------+-------------------+-------------------------+----------------------+ | FreeBSD 14.2 | PASS | SKIPPED | SKIPPED | SKIPPED | SKIPPED | +-------------------------------+--------------------+------------------+-------------------+-------------------------+----------------------+ | Alpine Linux 3.22.0 | PASS | SKIPPED | SKIPPED | SKIPPED | SKIPPED | +-------------------------------+--------------------+------------------+-------------------+-------------------------+----------------------+ | Windows Server 2022 | SKIPPED | SKIPPED | PASS | PASS | PASS | +-------------------------------+--------------------+------------------+-------------------+-------------------------+----------------------+ Ubuntu 20.04 Kernel: 5.15 Compiler: gcc gcc (Ubuntu 9.4.0-1ubuntu1~20.04.2) 9.4.0 Red Hat Enterprise Linux 8.10 Kernel: 5.15 Compiler: gcc gcc (GCC) 8.5.0 20210514 (Red Hat 8.5.0-22) openSUSE Leap 15.6 Kernel: 5.15 Compiler: gcc gcc (SUSE Linux) 7.5.0 Fedora Linux 42 Kernel: 5.15 Compiler: clang gcc (GCC) 15.2.1 20250808 (Red Hat 15.2.1-1) Red Hat Enterprise Linux 9.5 Kernel: 5.15 Compiler: gcc gcc (GCC) 11.5.0 20240719 (Red Hat 11.5.0-2) CentOS Stream 9 Kernel: 5.15 Compiler: gcc gcc (GCC) 11.5.0 20240719 (Red Hat 11.5.0-11) Debian GNU/Linux 12 Kernel: 5.15 Compiler: gcc gcc (Debian 12.2.0-14+deb12u1) 12.2.0 CentOS Stream 10 Kernel: 5.15 Compiler: gcc gcc (GCC) 14.2.1 20250110 (Red Hat 14.2.1-8) Ubuntu 22.04 Kernel: 5.15 Compiler: gcc gcc (Ubuntu 11.4.0-1ubuntu1~22.04) 11.4.0 Ubuntu 24.04 Kernel: 5.15 Compiler: gcc gcc (Ubuntu 13.3.0-6ubuntu2~24.04) 13.3.0 FreeBSD 14.2 Kernel: 14.2-RELEASE Compiler: clang 18.1.6 Alpine Linux 3.22.0 Kernel: 5.15 Compiler: gcc gcc (Alpine 14.2.0) 14.2.0 Windows Server 2022 Kernel: 10.0.20348.2031 Compiler: clang 15.0.7, gcc 14.1.0 (MinGW), and MSVC VS 19.39.33521 To view detailed results, visit: https://lab.dpdk.org/results/dashboard/patchsets/34471/ UNH-IOL DPDK Community Lab To manage your email subscriptions, visit: https://lab.dpdk.org/results/dashboard/preferences/subscriptions/