From mboxrd@z Thu Jan 1 00:00:00 1970 Return-Path: Received: from mails.dpdk.org (mails.dpdk.org [217.70.189.124]) by inbox.dpdk.org (Postfix) with ESMTP id A6C9648A73 for ; Wed, 5 Nov 2025 17:04:51 +0100 (CET) Received: from mails.dpdk.org (localhost [127.0.0.1]) by mails.dpdk.org (Postfix) with ESMTP id A1A144021F; Wed, 5 Nov 2025 17:04:51 +0100 (CET) Received: from mail-pj1-f97.google.com (mail-pj1-f97.google.com [209.85.216.97]) by mails.dpdk.org (Postfix) with ESMTP id E29204021F for ; Wed, 5 Nov 2025 17:04:49 +0100 (CET) Received: by mail-pj1-f97.google.com with SMTP id 98e67ed59e1d1-330b4739538so24103a91.3 for ; Wed, 05 Nov 2025 08:04:49 -0800 (PST) DKIM-Signature: v=1; a=rsa-sha256; c=relaxed/relaxed; d=iol.unh.edu; s=unh-iol; t=1762358689; x=1762963489; darn=dpdk.org; h=references:in-reply-to:cc:to:from:subject:message-id:date:from:to :cc:subject:date:message-id:reply-to; bh=iu1KJoIoqKZHYbUTPERaU9cy7qp07yYXzKLW9jq+ZbI=; b=ZY06AgF5V3/rkaetROtrLbLbVpc583RSdKDJRCY5pBI279pJUOA2Uw1g3log5YwQ5W o19+r2UbWT87TQxjunXyS17FrijHordp2Fy8F5BLJ/a08KaAI3upqfFChhtpoF8h1dWQ j8E5sPJYa0bDaOoLDe1/6a08AXsUmyfzW5+6A= X-Google-DKIM-Signature: v=1; a=rsa-sha256; c=relaxed/relaxed; d=1e100.net; s=20230601; t=1762358689; x=1762963489; h=references:in-reply-to:cc:to:from:subject:message-id:date :x-gm-message-state:from:to:cc:subject:date:message-id:reply-to; bh=iu1KJoIoqKZHYbUTPERaU9cy7qp07yYXzKLW9jq+ZbI=; b=Z1R0lYjO1vMkKUF6IUm/CPRbB//4Vjf/cwg4wPc+XZEbZr1BewZ9HjUKOauBuv6OPF A38+B1JiWPc0a+Lxlee/RrCtivcnzlInPhS30g/plcrIsfHYhzlDOU+sKgCcA1QMnyL7 L3cBJa7DDWudmRdqAUN+1AWTY2wla0xMuD115pEO2wd2S4Qvhcc4DZdAzBbALvd+QV4d DMgv6BdJRNr8BITBNfhq3r/36D+SVguJRfclIo4n/OpHfsXwygJmQraC+KCJTzSMJfZa 44dB1nQdSdoucxL7m/L09ccDoiVhFGF48csav4TpA5BxX1BZZ7OQXGzj91yKF2YjqN2j /zGQ== X-Gm-Message-State: AOJu0Yx5pofcDu5yxn28/6r+9aTc1F2kzlrYQCWOU3/8aWEKx4v0DkJY oOaMcGH5U+kPSRD4nmpGYxcp2FhhV7stG8Ro4Ke2eYJseWQuhwPpRJn2WKBnbjgD6lG+B0HKDRa HeS8eDng7UL+penpHBJlc7XspUaHW+vXwcycD/gJar2wI X-Gm-Gg: ASbGncuhj7W5HInTWNG6yZ+6KXDGopgs4MRDy8t94vkc/ereLCdWjD0+xMSIfve9vFC MB5vpQTwHk4lJWZe4TVXAbpRUmcENHdyGT7TFG7LH7DjiDLieuqQ0O1ztzj+40FiQ7fzKjIh0yi +fqZZlYXS1Di2XUUimknxt2WxczLo/xVmljxSGa60+kTlkRn4cKBYRZDJwsr1VhRe9e7Ds6e+QK mGf9hcnGNcAbpcIQ4qq6V520mbzj+LhmmYHTYS7GKxDc/LoqqDFWleZBNiiJ+BP4xBJpDytRY8k OM10maukaHW961kdOURFLP9TrYuRyVCL2lx+S/bMFnymaTLpsHifsCBS1+hxjizcmPmbUlchd/6 kkOaAw1bYYXdPKoMtsLAYv43Mlf6IoJw= X-Google-Smtp-Source: AGHT+IG3NIvz7eOKnozx6vX3m8AqxE6t/zXQ1aC4m0qCkrxgkpd5a4J39liXaTcCoRWj/TMQT2MlFU6j8I6k X-Received: by 2002:a17:90b:2790:b0:341:761c:3330 with SMTP id 98e67ed59e1d1-341a6dc4d26mr4358037a91.23.1762358688697; Wed, 05 Nov 2025 08:04:48 -0800 (PST) Received: from postal.iol.unh.edu (postal.iol.unh.edu. [132.177.123.84]) by smtp-relay.gmail.com with ESMTPS id 98e67ed59e1d1-341a68ef553sm263018a91.8.2025.11.05.08.04.48 (version=TLS1_2 cipher=ECDHE-ECDSA-AES128-GCM-SHA256 bits=128/128); Wed, 05 Nov 2025 08:04:48 -0800 (PST) X-Relaying-Domain: iol.unh.edu Date: Wed, 05 Nov 2025 08:04:48 -0800 (PST) Message-ID: <690b75a0.170a0220.35b8f6.e5d7SMTPIN_ADDED_MISSING@mx.google.com> Received: from [172.21.0.3] (unknown [172.18.0.240]) by postal.iol.unh.edu (Postfix) with ESMTP id 317296050A61; Wed, 5 Nov 2025 11:04:48 -0500 (EST) Subject: |SUCCESS| pw158459 [PATCH] [v1] net/mlx5: fix invalid queue index ha From: dpdklab@iol.unh.edu To: Test Report Cc: dpdk-test-reports@iol.unh.edu In-Reply-To: <20251105125200.468312-1-rongweil@nvidia.com> References: <20251105125200.468312-1-rongweil@nvidia.com> Content-Type: text/plain X-BeenThere: test-report@dpdk.org X-Mailman-Version: 2.1.29 Precedence: list List-Id: automatic DPDK test reports List-Unsubscribe: , List-Archive: List-Post: List-Help: List-Subscribe: , Errors-To: test-report-bounces@dpdk.org Test-Label: iol-unit-amd64-testing Test-Status: SUCCESS http://dpdk.org/patch/158459 _Testing PASS_ Submitter: Rongwei Liu Date: Wednesday, November 05 2025 12:52:00 DPDK git baseline: Repo:dpdk-next-net-mlx Branch: master CommitID:f1c1f82f2421be9ac2f46b4ec2a616ca28da4ca7 158459 --> testing pass Upstream job id: Generic-VM-Unit-Test-DPDK#32316 Test environment and result as below: +-------------------------------+----------------+ | Environment | dpdk_unit_test | +===============================+================+ | Red Hat Enterprise Linux 9.5 | PASS | +-------------------------------+----------------+ | Red Hat Enterprise Linux 8.10 | PASS | +-------------------------------+----------------+ | CentOS Stream 10 | PASS | +-------------------------------+----------------+ | Ubuntu 20.04 | PASS | +-------------------------------+----------------+ | Fedora Linux 42 | PASS | +-------------------------------+----------------+ | Fedora Linux 41 | PASS | +-------------------------------+----------------+ | CentOS Stream 9 | PASS | +-------------------------------+----------------+ | Ubuntu 24.04 | PASS | +-------------------------------+----------------+ | Debian GNU/Linux 12 | PASS | +-------------------------------+----------------+ | Ubuntu 22.04 | PASS | +-------------------------------+----------------+ | Fedora Linux 40 | PASS | +-------------------------------+----------------+ | Windows Server 2022 | PASS | +-------------------------------+----------------+ Red Hat Enterprise Linux 9.5 Kernel: 5.15 Compiler: gcc gcc (GCC) 11.5.0 20240719 (Red Hat 11.5.0-2) Red Hat Enterprise Linux 8.10 Kernel: 5.15 Compiler: gcc gcc (GCC) 8.5.0 20210514 (Red Hat 8.5.0-22) CentOS Stream 10 Kernel: 5.15 Compiler: gcc gcc (GCC) 14.2.1 20250110 (Red Hat 14.2.1-8) Ubuntu 20.04 Kernel: 5.15 Compiler: gcc gcc (Ubuntu 9.4.0-1ubuntu1~20.04.2) 9.4.0 Fedora Linux 42 Kernel: 5.15 Compiler: gcc gcc (GCC) 15.2.1 20250808 (Red Hat 15.2.1-1) Fedora Linux 41 Kernel: 5.15 Compiler: clang gcc (GCC) 14.3.1 20250523 (Red Hat 14.3.1-1) CentOS Stream 9 Kernel: 5.15 Compiler: gcc gcc (GCC) 11.5.0 20240719 (Red Hat 11.5.0-11) Ubuntu 24.04 Kernel: 5.15 Compiler: gcc gcc (Ubuntu 13.3.0-6ubuntu2~24.04) 13.3.0 Debian GNU/Linux 12 Kernel: 5.15 Compiler: gcc gcc (Debian 12.2.0-14+deb12u1) 12.2.0 Ubuntu 22.04 Kernel: 5.15 Compiler: gcc gcc (Ubuntu 11.4.0-1ubuntu1~22.04) 11.4.0 Fedora Linux 40 Kernel: 5.15 Compiler: clang gcc (GCC) 14.2.1 20240912 (Red Hat 14.2.1-3) Windows Server 2022 Kernel: 10.0.20348.2031 Compiler: clang 15.0.7, gcc 14.1.0 (MinGW), and MSVC VS 19.39.33521 To view detailed results, visit: https://lab.dpdk.org/results/dashboard/patchsets/34474/ UNH-IOL DPDK Community Lab To manage your email subscriptions, visit: https://lab.dpdk.org/results/dashboard/preferences/subscriptions/