From mboxrd@z Thu Jan 1 00:00:00 1970 Return-Path: Received: from mails.dpdk.org (mails.dpdk.org [217.70.189.124]) by inbox.dpdk.org (Postfix) with ESMTP id 3F4A948A73 for ; Wed, 5 Nov 2025 17:39:52 +0100 (CET) Received: from mails.dpdk.org (localhost [127.0.0.1]) by mails.dpdk.org (Postfix) with ESMTP id 397F84021F; Wed, 5 Nov 2025 17:39:52 +0100 (CET) Received: from mail-il1-f226.google.com (mail-il1-f226.google.com [209.85.166.226]) by mails.dpdk.org (Postfix) with ESMTP id A2E4D4021F for ; Wed, 5 Nov 2025 17:39:51 +0100 (CET) Received: by mail-il1-f226.google.com with SMTP id e9e14a558f8ab-4332381ba9bso46628405ab.1 for ; Wed, 05 Nov 2025 08:39:51 -0800 (PST) DKIM-Signature: v=1; a=rsa-sha256; c=relaxed/relaxed; d=iol.unh.edu; s=unh-iol; t=1762360791; x=1762965591; darn=dpdk.org; h=references:in-reply-to:cc:to:from:subject:message-id:date:from:to :cc:subject:date:message-id:reply-to; bh=apUuJri/lh3FtGsPibQbC+9nXBjHpVEyPijoAsc1zhY=; b=bgQ/IlglMaqpRUKokzVzN6IeAqA5GPSXWgbbJC2e+rku88JfUTniNjv5ChtoKRG4kc PSuPcEyTVQetuvZGeYL+kFqPwy1LfeWZVBobGmlJle1keuj+/AAlC7PyCDQJHJHeBUMc y7J7JblHeahTYKb1BsrYWswkdZbrLKsRICPgY= X-Google-DKIM-Signature: v=1; a=rsa-sha256; c=relaxed/relaxed; d=1e100.net; s=20230601; t=1762360791; x=1762965591; h=references:in-reply-to:cc:to:from:subject:message-id:date :x-gm-message-state:from:to:cc:subject:date:message-id:reply-to; bh=apUuJri/lh3FtGsPibQbC+9nXBjHpVEyPijoAsc1zhY=; b=DGe8uWB00SzfrpO471/0T+XMuLkZwMm39zOLKzMjxqC+pwszB1nhO+d5EbyV7X5jPB pZarNaEZgnnuI9YjKVami7hbdb3tIuOnTibf8t48j0tiP1cBjtbQSsY2mrN4/5D4REec L4t2aqO8mR8psCnIABvXv6O9YpLdw+E83/gHMy52ogXy8arOilGGt516Bldc+LSPHINW MUCAufz/h7SHqYCJx804zvR43hKuSpPoK5zW2CKbwrLf0aPCgIxYriE+FUUQY3nq1Gbg LQx3w9wc9PlKHIbl8AI/tBAgJWmvUOI6FJieFQOvH9nQ6O/nL7y4if+0pOI8WOLm1mYr OE+w== X-Gm-Message-State: AOJu0Yzuw60iGELwmokUV6RHwRM9wgbGq8eQwvgo5RqBXOY52KiWEn+m zaEOJy1xDkABxR+Q+nQ2UBir5GM8KEjZtiaGgcUlZvX7gSfeNqweKBVfBhQusewv3eARcxcH9To M6PTqf0ZamzBJeNypefD7bZbUxJ8n/6opxCt85gKUNYdo X-Gm-Gg: ASbGnctWvbtvq2GLblb1GGodmS3VxPGhgrUGdoq1XiOpbKjyDewN5RMklA9gpmzC3SW RZgCLdGq2PkU/z0Un/iSqQHhF2R+IjyN1Z0AS2uuOJ85YEMJ5zeiQSHyTA8IqXqiHF3TqpI5nHF Xa710Xv6AgOphKd4Wdnl8T0vWE4funHM8Q1rwwZK9ltNvpr+S9sKwtBY7QYJtbDTJ04LG3ECkn0 8VzcugOpHvd8ZwYbLBSDY3Rtv7bek/RJEJjidS7y7FieIjN48LfeJBErAyDpRzqmd0FDeYP8kom h6AVxdHXjRJWlWAaUGwcUY0o4mFVjEhifxZCL5LYM77zczotgCn5LLAx6kZgpuI7NRjG8Gx5u85 p8YsTcN1iniRbII6q8WrU1I7e9mHZfhc= X-Google-Smtp-Source: AGHT+IHUjfoJRuZl1fYZwztlIN4SsY+xPvR1TQrwh5D+uHTe7r2dmNgbtS2RWL6HMZxgy1ab4fmLNUokZABS X-Received: by 2002:a05:6e02:1909:b0:433:3487:ea1d with SMTP id e9e14a558f8ab-43340759dd8mr49992295ab.7.1762360790964; Wed, 05 Nov 2025 08:39:50 -0800 (PST) Received: from postal.iol.unh.edu (postal.iol.unh.edu. [132.177.123.84]) by smtp-relay.gmail.com with ESMTPS id e9e14a558f8ab-4334ea13c75sm186205ab.22.2025.11.05.08.39.50 (version=TLS1_2 cipher=ECDHE-ECDSA-AES128-GCM-SHA256 bits=128/128); Wed, 05 Nov 2025 08:39:50 -0800 (PST) X-Relaying-Domain: iol.unh.edu Date: Wed, 05 Nov 2025 08:39:50 -0800 (PST) Message-ID: <690b7dd6.050a0220.10f240.1077SMTPIN_ADDED_MISSING@mx.google.com> Received: from [172.21.0.3] (unknown [172.18.0.240]) by postal.iol.unh.edu (Postfix) with ESMTP id 7528A604D420; Wed, 5 Nov 2025 11:39:50 -0500 (EST) Subject: |SUCCESS| pw158453 [PATCH] net/mlx5: fix modify field action operati From: dpdklab@iol.unh.edu To: Test Report Cc: dpdk-test-reports@iol.unh.edu In-Reply-To: <20251105085049.110213-1-mkashani@nvidia.com> References: <20251105085049.110213-1-mkashani@nvidia.com> Content-Type: text/plain X-BeenThere: test-report@dpdk.org X-Mailman-Version: 2.1.29 Precedence: list List-Id: automatic DPDK test reports List-Unsubscribe: , List-Archive: List-Post: List-Help: List-Subscribe: , Errors-To: test-report-bounces@dpdk.org Test-Label: iol-unit-arm64-testing Test-Status: SUCCESS http://dpdk.org/patch/158453 _Testing PASS_ Submitter: Maayan Kashani Date: Wednesday, November 05 2025 08:50:49 DPDK git baseline: Repo:dpdk-next-net-mlx Branch: master CommitID:f1c1f82f2421be9ac2f46b4ec2a616ca28da4ca7 158453 --> testing pass Upstream job id: Generic-Unit-Test-DPDK#388819 Test environment and result as below: +------------------------------+----------------+------------------------------+--------------+---------------------------+ | Environment | dpdk_unit_test | cryptodev_sw_snow3g_autotest | lpm_autotest | cryptodev_sw_zuc_autotest | +==============================+================+==============================+==============+===========================+ | Debian GNU/Linux 12 | PASS | SKIPPED | SKIPPED | SKIPPED | +------------------------------+----------------+------------------------------+--------------+---------------------------+ | CentOS Stream 10 | PASS | SKIPPED | SKIPPED | SKIPPED | +------------------------------+----------------+------------------------------+--------------+---------------------------+ | CentOS Stream 9 | PASS | SKIPPED | SKIPPED | SKIPPED | +------------------------------+----------------+------------------------------+--------------+---------------------------+ | Fedora Linux 40 | PASS | SKIPPED | SKIPPED | SKIPPED | +------------------------------+----------------+------------------------------+--------------+---------------------------+ | Fedora Linux 42 | PASS | SKIPPED | SKIPPED | SKIPPED | +------------------------------+----------------+------------------------------+--------------+---------------------------+ | Ubuntu 24.04 | PASS | SKIPPED | SKIPPED | SKIPPED | +------------------------------+----------------+------------------------------+--------------+---------------------------+ | Ubuntu 22.04 | PASS | SKIPPED | SKIPPED | SKIPPED | +------------------------------+----------------+------------------------------+--------------+---------------------------+ | Red Hat Enterprise Linux 9.5 | PASS | SKIPPED | SKIPPED | SKIPPED | +------------------------------+----------------+------------------------------+--------------+---------------------------+ | Fedora Linux 41 | PASS | SKIPPED | SKIPPED | SKIPPED | +------------------------------+----------------+------------------------------+--------------+---------------------------+ | Ubuntu 20.04 | PASS | SKIPPED | PASS | SKIPPED | +------------------------------+----------------+------------------------------+--------------+---------------------------+ | Debian 12 (arm) | SKIPPED | PASS | SKIPPED | PASS | +------------------------------+----------------+------------------------------+--------------+---------------------------+ Debian GNU/Linux 12 Kernel: 5.4 Compiler: gcc gcc (Debian 12.2.0-14+deb12u1) 12.2.0 CentOS Stream 10 Kernel: 5.4 Compiler: gcc gcc (GCC) 14.2.1 20250110 (Red Hat 14.2.1-8) CentOS Stream 9 Kernel: 5.4 Compiler: gcc gcc (GCC) 11.5.0 20240719 (Red Hat 11.5.0-11) Fedora Linux 40 Kernel: 5.4 Compiler: gcc gcc (GCC) 14.2.1 20240912 (Red Hat 14.2.1-3) Fedora Linux 42 Kernel: 5.4 Compiler: gcc gcc (GCC) 15.2.1 20250808 (Red Hat 15.2.1-1) Ubuntu 24.04 Kernel: 5.4 Compiler: gcc gcc (Ubuntu 13.3.0-6ubuntu2~24.04) 13.3.0 Ubuntu 22.04 Kernel: 5.4 Compiler: gcc gcc (Ubuntu 11.4.0-1ubuntu1~22.04) 11.4.0 Red Hat Enterprise Linux 9.5 Kernel: 5.4 Compiler: gcc gcc (GCC) 11.5.0 20240719 (Red Hat 11.5.0-2) Fedora Linux 41 Kernel: 5.4 Compiler: clang gcc (GCC) 14.3.1 20250523 (Red Hat 14.3.1-1) Ubuntu 20.04 Kernel: 5.4 Compiler: gcc gcc (Ubuntu 9.4.0-1ubuntu1~20.04.2) 9.4.0 Debian 12 (arm) Kernel: Depends on container host Compiler: gcc (Debian 12.2.0-14) 12.2.0 To view detailed results, visit: https://lab.dpdk.org/results/dashboard/patchsets/34470/ UNH-IOL DPDK Community Lab To manage your email subscriptions, visit: https://lab.dpdk.org/results/dashboard/preferences/subscriptions/