From mboxrd@z Thu Jan 1 00:00:00 1970 Return-Path: Received: from mails.dpdk.org (mails.dpdk.org [217.70.189.124]) by inbox.dpdk.org (Postfix) with ESMTP id D536548A73 for ; Wed, 5 Nov 2025 17:52:09 +0100 (CET) Received: from mails.dpdk.org (localhost [127.0.0.1]) by mails.dpdk.org (Postfix) with ESMTP id BD90B4021F; Wed, 5 Nov 2025 17:52:09 +0100 (CET) Received: from mail-il1-f226.google.com (mail-il1-f226.google.com [209.85.166.226]) by mails.dpdk.org (Postfix) with ESMTP id BF0444021F for ; Wed, 5 Nov 2025 17:52:08 +0100 (CET) Received: by mail-il1-f226.google.com with SMTP id e9e14a558f8ab-4330d78f935so49526485ab.2 for ; Wed, 05 Nov 2025 08:52:08 -0800 (PST) DKIM-Signature: v=1; a=rsa-sha256; c=relaxed/relaxed; d=iol.unh.edu; s=unh-iol; t=1762361528; x=1762966328; darn=dpdk.org; h=references:in-reply-to:cc:to:from:subject:message-id:date:from:to :cc:subject:date:message-id:reply-to; bh=KTLqwGoCUFn9TASG5O6PS5bS4ey2l9QAn+BMC65ua/o=; b=a3foYj58bxkMX+Vgvb28AFHABF0sKhPRlE3IJOQZu1s0w/oRPNQ+A0BBpEfXOgQ0G5 voV7jyktvw15RHoLVe2sYXbgYciUYw7+XhZAAi4QHBj9UKjRkZN6UkJmVsgLlTUiYJ9E BbXiBWqbpiHgilWKXCfvyGinTtzu/clvTPXD8= X-Google-DKIM-Signature: v=1; a=rsa-sha256; c=relaxed/relaxed; d=1e100.net; s=20230601; t=1762361528; x=1762966328; h=references:in-reply-to:cc:to:from:subject:message-id:date :x-gm-message-state:from:to:cc:subject:date:message-id:reply-to; bh=KTLqwGoCUFn9TASG5O6PS5bS4ey2l9QAn+BMC65ua/o=; b=eUQi4zquy5C1FT3ILIOqJ8Ohk0YoOWv8hGUigw9eyxrvKzj929kGmKjUVmMiAaIgex uzhVTj5RulEG4o81/pu5E580KHsz9ls54kR8/s/XikZ1UKtMD9Z2uwCkL7IB8WxNV+cL UC3eNNPDKrDHYb2+a5LrP0E1iCNDAUXY46OUf0/WCZ/NQ9YikFiE+lPlqlIukQkf64aS g7BZYDwuZVX7m+HCCnkGxdsW1YPhz3RgAcrGY1scFWmFCk7u4LA+MfS0CE/5RyCJRQbP an1bjJu+efjJX0WSCGKan1tw5XeDzRhR93MOagiSFOUpHnPYxNle+kFDetDXfv4VC/R0 /y3Q== X-Gm-Message-State: AOJu0YyOP4r3jX4sS1ux1nzmyTZ45uttAnRRUJkPFDuhOSTctbNRwolC 99WfOiKP6PUVdSh5Z4oUA30qKvC0YfxzDXPE9mPkqbu8/D2bYlucfvT204lQtWhT2qIGMyMVbM5 svSV3iAzS0SLRt8+C2sSfieQ+lPqbYZtEXNUNYOIXDbZWsVYXGrA2rajBY9K5 X-Gm-Gg: ASbGncvMik4tFcJq+b/4D43nYHTn4LPV5Sn2n3092GaRiHKinV1gvqg/bGTwHA1mIWA 7queQUwvDWTOJdyovllKOceX4BAdQaVRSnk45iyCxeOYUNd+7uXrlacPdhkzKfA+JnZLTqLzd19 YFdzqP6vw4akfFZ3J32R/RP0wHZLu4G5m7kNBYHEc0n8vqFE6uy2gCNUqaclcklkxyD2aXDU4CQ BS0WO5LYgMyyXdSd0zNmeOlGQaZwpa9+aS4t8+O5D4ujKO4QTL3O7gYLusL+bPOa/xuAKOAV60/ m8L6xXNZrXPt+T6fE7Mt6+aB45sDc0kiYZmMVkFe3zQMJujy3KraOpFcGOKbQWoLZ4KpEc8eEgM 6eLF9hm6h X-Google-Smtp-Source: AGHT+IFy+R+s7LgyjOwUz1zcpRbC5ZmWoISSLm/t+5fZZQE5VQ/QyPPySdH/hK7ny5ZOS1dUEneRbQVJF17v X-Received: by 2002:a05:6e02:1a2f:b0:430:c0e4:9e43 with SMTP id e9e14a558f8ab-4334078f23cmr59566695ab.6.1762361527977; Wed, 05 Nov 2025 08:52:07 -0800 (PST) Received: from postal.iol.unh.edu (postal.iol.unh.edu. [2606:4100:3880:1234::84]) by smtp-relay.gmail.com with ESMTPS id 8926c6da1cb9f-5b72273013esm677354173.39.2025.11.05.08.52.07 (version=TLS1_2 cipher=ECDHE-ECDSA-AES128-GCM-SHA256 bits=128/128); Wed, 05 Nov 2025 08:52:07 -0800 (PST) X-Relaying-Domain: iol.unh.edu Date: Wed, 05 Nov 2025 08:52:07 -0800 (PST) Message-ID: <690b80b7.050a0220.1a8db4.5698SMTPIN_ADDED_MISSING@mx.google.com> Received: from [172.21.0.2] (unknown [172.18.0.240]) by postal.iol.unh.edu (Postfix) with ESMTP id 77F036050A61; Wed, 5 Nov 2025 11:52:07 -0500 (EST) Subject: |SUCCESS| pw158461-158466 [PATCH] [v2,6/6] net/iavf: fix QinQ insert From: dpdklab@iol.unh.edu To: Test Report Cc: dpdk-test-reports@iol.unh.edu, Bruce Richardson In-Reply-To: <20251105152642.2981673-7-ciara.loftus@intel.com> References: <20251105152642.2981673-7-ciara.loftus@intel.com> Content-Type: text/plain X-BeenThere: test-report@dpdk.org X-Mailman-Version: 2.1.29 Precedence: list List-Id: automatic DPDK test reports List-Unsubscribe: , List-Archive: List-Post: List-Help: List-Subscribe: , Errors-To: test-report-bounces@dpdk.org Test-Label: iol-compile-amd64-testing Test-Status: SUCCESS http://dpdk.org/patch/158466 _Testing PASS_ Submitter: Ciara Loftus Date: Wednesday, November 05 2025 15:26:42 DPDK git baseline: Repo:dpdk-next-net-intel Branch: master CommitID:03e1f9ac281264a54af53f547a2eb80f25bc19e6 158461-158466 --> testing pass Upstream job id: Generic-DPDK-Compile-Meson#441112 Test environment and result as below: +-------------------------------+--------------------+------------------+-------------------+ | Environment | dpdk_meson_compile | dpdk_compile_ovs | dpdk_msvc_compile | +===============================+====================+==================+===================+ | Ubuntu 20.04 | PASS | SKIPPED | SKIPPED | +-------------------------------+--------------------+------------------+-------------------+ | CentOS Stream 9 | PASS | SKIPPED | SKIPPED | +-------------------------------+--------------------+------------------+-------------------+ | CentOS Stream 10 | PASS | SKIPPED | SKIPPED | +-------------------------------+--------------------+------------------+-------------------+ | Debian GNU/Linux 12 | PASS | SKIPPED | SKIPPED | +-------------------------------+--------------------+------------------+-------------------+ | Fedora Linux 42 | PASS | PASS | SKIPPED | +-------------------------------+--------------------+------------------+-------------------+ | openSUSE Leap 15.6 | PASS | SKIPPED | SKIPPED | +-------------------------------+--------------------+------------------+-------------------+ | Red Hat Enterprise Linux 8.10 | PASS | SKIPPED | SKIPPED | +-------------------------------+--------------------+------------------+-------------------+ | Red Hat Enterprise Linux 9.5 | PASS | SKIPPED | SKIPPED | +-------------------------------+--------------------+------------------+-------------------+ | Ubuntu 22.04 | PASS | SKIPPED | SKIPPED | +-------------------------------+--------------------+------------------+-------------------+ | Ubuntu 24.04 | PASS | PASS | SKIPPED | +-------------------------------+--------------------+------------------+-------------------+ | FreeBSD 14.2 | PASS | SKIPPED | SKIPPED | +-------------------------------+--------------------+------------------+-------------------+ | Alpine Linux 3.22.0 | PASS | SKIPPED | SKIPPED | +-------------------------------+--------------------+------------------+-------------------+ | Windows Server 2022 | SKIPPED | SKIPPED | PASS | +-------------------------------+--------------------+------------------+-------------------+ Ubuntu 20.04 Kernel: 4.19 Compiler: gcc gcc (Ubuntu 9.4.0-1ubuntu1~20.04.2) 9.4.0 CentOS Stream 9 Kernel: 5.15 Compiler: gcc gcc (GCC) 11.5.0 20240719 (Red Hat 11.5.0-11) CentOS Stream 10 Kernel: 5.15 Compiler: gcc gcc (GCC) 14.2.1 20250110 (Red Hat 14.2.1-8) Debian GNU/Linux 12 Kernel: 5.15 Compiler: gcc gcc (Debian 12.2.0-14+deb12u1) 12.2.0 Fedora Linux 42 Kernel: 5.15 Compiler: gcc gcc (GCC) 15.2.1 20250808 (Red Hat 15.2.1-1) openSUSE Leap 15.6 Kernel: 5.15 Compiler: gcc gcc (SUSE Linux) 7.5.0 Red Hat Enterprise Linux 8.10 Kernel: 5.15 Compiler: gcc gcc (GCC) 8.5.0 20210514 (Red Hat 8.5.0-22) Red Hat Enterprise Linux 9.5 Kernel: 5.15 Compiler: gcc gcc (GCC) 11.5.0 20240719 (Red Hat 11.5.0-2) Ubuntu 22.04 Kernel: 5.15 Compiler: gcc gcc (Ubuntu 11.4.0-1ubuntu1~22.04) 11.4.0 Ubuntu 24.04 Kernel: 5.15 Compiler: gcc gcc (Ubuntu 13.3.0-6ubuntu2~24.04) 13.3.0 FreeBSD 14.2 Kernel: 14.2-RELEASE Compiler: clang 18.1.6 Alpine Linux 3.22.0 Kernel: 5.15 Compiler: gcc gcc (Alpine 14.2.0) 14.2.0 Windows Server 2022 Kernel: 10.0.20348.2031 Compiler: clang 15.0.7, gcc 14.1.0 (MinGW), and MSVC VS 19.39.33521 To view detailed results, visit: https://lab.dpdk.org/results/dashboard/patchsets/34475/ UNH-IOL DPDK Community Lab To manage your email subscriptions, visit: https://lab.dpdk.org/results/dashboard/preferences/subscriptions/