From mboxrd@z Thu Jan 1 00:00:00 1970 Return-Path: Received: from mails.dpdk.org (mails.dpdk.org [217.70.189.124]) by inbox.dpdk.org (Postfix) with ESMTP id 75D3248A76 for ; Wed, 5 Nov 2025 17:55:14 +0100 (CET) Received: from mails.dpdk.org (localhost [127.0.0.1]) by mails.dpdk.org (Postfix) with ESMTP id 67E6540B98; Wed, 5 Nov 2025 17:55:14 +0100 (CET) Received: from mail-qv1-f99.google.com (mail-qv1-f99.google.com [209.85.219.99]) by mails.dpdk.org (Postfix) with ESMTP id DC92F40B90 for ; Wed, 5 Nov 2025 17:55:12 +0100 (CET) Received: by mail-qv1-f99.google.com with SMTP id 6a1803df08f44-87a092251eeso14749586d6.0 for ; Wed, 05 Nov 2025 08:55:12 -0800 (PST) DKIM-Signature: v=1; a=rsa-sha256; c=relaxed/relaxed; d=iol.unh.edu; s=unh-iol; t=1762361712; x=1762966512; darn=dpdk.org; h=references:in-reply-to:cc:to:from:subject:message-id:date:from:to :cc:subject:date:message-id:reply-to; bh=/ql/sZT3eb7tAZCgdEKAH5Wpob636C5zklPm1dShfhY=; b=Y0OKv6y8820eYnJzFxlCh0s+4J/ToR5zXWJZCN/eIvdgJQO7CRr3fcOjKcuX05W5eR cX+wDrZ8ajgbseB9io+dYNytosnpc2/ZcfHsAbSRiVd43gNrpwEMPcD/K0WmabIkWlY6 iygAd7IqE/l39em+djyQ2n/yitRAPEZtbAHRo= X-Google-DKIM-Signature: v=1; a=rsa-sha256; c=relaxed/relaxed; d=1e100.net; s=20230601; t=1762361712; x=1762966512; h=references:in-reply-to:cc:to:from:subject:message-id:date :x-gm-message-state:from:to:cc:subject:date:message-id:reply-to; bh=/ql/sZT3eb7tAZCgdEKAH5Wpob636C5zklPm1dShfhY=; b=QUzRAF6aaJhWR948H187quo9KXoMw2lSN/PCSC3fUR3Jgq3ys4u0aFFb40W+2UVFth GCxQYOQVnwV5/JTmd/lwafpseuYDh9HGg+odkIpGS9W5RDPEO8X9kObV2BXzMuxD8xQa PsCFTT/I9OG7sD4OFKDnSwOBmsgptL3syzn5jGyNSrXGMMxbbDElfdinrX2X0c02H8YR 5gKFDAUDE9jmEKZn4aI395caOCoGUydT52Y76YgCkASBipISh/Zyy20D3ImCRSJD7src lOo5EI3k+nCR+0Q8X2c+lZVGlPWy8gyblB/74MJKOoKKYlCQDwLxSVWUVwln8giq5i8V BxZg== X-Gm-Message-State: AOJu0YyfZwGcd2FdIFo1pp2usP+xaeGHYwZeO0Wb1sVoDoBbDguNgI4Z jnxtQNxoyp0E65f57XOyPYRkZfkA0k9A0xLDPdXO65OMtrDr3051SqwvOQfaGipnFQObO+K4Gx5 l7TVUehdYddLblsjO4INmPeBgKM2IohbHeBjSVFizo/KIy8Kl2H5xw8Fk+TYc X-Gm-Gg: ASbGncu/vHegFIviojCVAlctPX0cHsyv5hYM/kOj8Wo6tOpM0CrdnUEN36X1XoNf8cH +F/W/eOqshifJZU+Gx0Jm46u4d9Ki2ncc9jPCQ6lShZQt67PHKYNIV6tpE24siOOPLPSPDh6XAX LNrG0euIZRvPiGY8ocMKOKzd2rjdTQcQuOku+mpAhFpzhTOM0e/KFp/ukdXUxtQo+VweemSnvw5 1F4t4dy+sQiznvhGXLRFaqyPrVAR8TJd3q26nY0TSyDUs0w/cYAKXaURjwebQaGya36RcJZG72G HKxvJMaHJl/u5Bh9be3AVcgOkpOokqLbKEcKFX7fMgxu161kxkQHbwKpH0fGShTOWzF8x2RRLF9 Jec3GKxWT X-Google-Smtp-Source: AGHT+IFpoKjBO2x8GkgUzZcMSRaJp4iMgAb+6JunXf/Uhqm077BoMomGwnkCaw5Tkv+JFLxguLeI6CQmcLRi X-Received: by 2002:a05:6214:3306:b0:87d:f969:6aac with SMTP id 6a1803df08f44-8808270b8d0mr2681626d6.0.1762361712239; Wed, 05 Nov 2025 08:55:12 -0800 (PST) Received: from postal.iol.unh.edu (postal.iol.unh.edu. [2606:4100:3880:1234::84]) by smtp-relay.gmail.com with ESMTPS id 6a1803df08f44-880829ca3a6sm25436d6.20.2025.11.05.08.55.12 (version=TLS1_2 cipher=ECDHE-ECDSA-AES128-GCM-SHA256 bits=128/128); Wed, 05 Nov 2025 08:55:12 -0800 (PST) X-Relaying-Domain: iol.unh.edu Date: Wed, 05 Nov 2025 08:55:12 -0800 (PST) Message-ID: <690b8170.050a0220.bb886.0233SMTPIN_ADDED_MISSING@mx.google.com> Received: from [172.21.0.3] (unknown [172.18.0.240]) by postal.iol.unh.edu (Postfix) with ESMTP id B11EA604D420; Wed, 5 Nov 2025 11:55:11 -0500 (EST) Subject: |SUCCESS| pw158455-158457 [PATCH] [v2,3/3] app/testpmd: support paus From: dpdklab@iol.unh.edu To: Test Report Cc: dpdk-test-reports@iol.unh.edu, Stephen Hemminger In-Reply-To: <20251105094748.3269-4-fengchengwen@huawei.com> References: <20251105094748.3269-4-fengchengwen@huawei.com> Content-Type: text/plain X-BeenThere: test-report@dpdk.org X-Mailman-Version: 2.1.29 Precedence: list List-Id: automatic DPDK test reports List-Unsubscribe: , List-Archive: List-Post: List-Help: List-Subscribe: , Errors-To: test-report-bounces@dpdk.org Test-Label: iol-compile-arm64-testing Test-Status: SUCCESS http://dpdk.org/patch/158457 _Testing PASS_ Submitter: Chengwen Feng Date: Wednesday, November 05 2025 09:47:48 DPDK git baseline: Repo:dpdk-next-net Branch: master CommitID:538052bb364db22ba8cc08b5e23a9e6d25a864a9 158455-158457 --> testing pass Upstream job id: Generic-DPDK-Compile-Meson#441005 Test environment and result as below: +------------------------------+--------------------+ | Environment | dpdk_meson_compile | +==============================+====================+ | Red Hat Enterprise Linux 9.5 | PASS | +------------------------------+--------------------+ | Debian GNU/Linux 12 | PASS | +------------------------------+--------------------+ | Ubuntu 20.04 | PASS | +------------------------------+--------------------+ | Fedora Linux 42 | PASS | +------------------------------+--------------------+ | Ubuntu 22.04 | PASS | +------------------------------+--------------------+ | Ubuntu 24.04 | PASS | +------------------------------+--------------------+ | CentOS Stream 9 | PASS | +------------------------------+--------------------+ | CentOS Stream 10 | PASS | +------------------------------+--------------------+ Red Hat Enterprise Linux 9.5 Kernel: 5.4 Compiler: gcc gcc (GCC) 11.5.0 20240719 (Red Hat 11.5.0-2) Debian GNU/Linux 12 Kernel: 5.4 Compiler: gcc gcc (Debian 12.2.0-14+deb12u1) 12.2.0 Ubuntu 20.04 Kernel: 5.4 Compiler: gcc gcc (Ubuntu 9.4.0-1ubuntu1~20.04.2) 9.4.0 Fedora Linux 42 Kernel: 5.4 Compiler: gcc gcc (GCC) 15.2.1 20250808 (Red Hat 15.2.1-1) Ubuntu 22.04 Kernel: 5.4 Compiler: gcc gcc (Ubuntu 11.4.0-1ubuntu1~22.04) 11.4.0 Ubuntu 24.04 Kernel: 5.4 Compiler: gcc gcc (Ubuntu 13.3.0-6ubuntu2~24.04) 13.3.0 CentOS Stream 9 Kernel: 5.4 Compiler: gcc gcc (GCC) 11.5.0 20240719 (Red Hat 11.5.0-11) CentOS Stream 10 Kernel: 5.4 Compiler: gcc gcc (GCC) 14.2.1 20250110 (Red Hat 14.2.1-8) To view detailed results, visit: https://lab.dpdk.org/results/dashboard/patchsets/34471/ UNH-IOL DPDK Community Lab To manage your email subscriptions, visit: https://lab.dpdk.org/results/dashboard/preferences/subscriptions/