From mboxrd@z Thu Jan 1 00:00:00 1970 Return-Path: Received: from mails.dpdk.org (mails.dpdk.org [217.70.189.124]) by inbox.dpdk.org (Postfix) with ESMTP id F270E48A73 for ; Wed, 5 Nov 2025 17:57:12 +0100 (CET) Received: from mails.dpdk.org (localhost [127.0.0.1]) by mails.dpdk.org (Postfix) with ESMTP id EE5364029A; Wed, 5 Nov 2025 17:57:12 +0100 (CET) Received: from mail-il1-f225.google.com (mail-il1-f225.google.com [209.85.166.225]) by mails.dpdk.org (Postfix) with ESMTP id 5CEE140A8A for ; Wed, 5 Nov 2025 17:57:11 +0100 (CET) Received: by mail-il1-f225.google.com with SMTP id e9e14a558f8ab-4331d3eea61so45265975ab.2 for ; Wed, 05 Nov 2025 08:57:11 -0800 (PST) DKIM-Signature: v=1; a=rsa-sha256; c=relaxed/relaxed; d=iol.unh.edu; s=unh-iol; t=1762361830; x=1762966630; darn=dpdk.org; h=references:in-reply-to:cc:to:from:subject:message-id:date:from:to :cc:subject:date:message-id:reply-to; bh=ffMYO6jyEmNymJzBlazPSUDqgZcMyhT/SXsY964wxyA=; b=WX6oQ/lY3mxYIE39zMAm7Gk42oxssd3vc2X36JxIJZ0+K/QyUCrUmVDtulolhH3+i2 cgdLrukmYu8Y3I2jHJ51eenRulsyRiXVMPOAcZG10iR8wWjtqFLFdN6VuJYUANK2GoMb 2HLXjFDlddjNkqLeW4C+6yt9Kr06nNTc5vc64= X-Google-DKIM-Signature: v=1; a=rsa-sha256; c=relaxed/relaxed; d=1e100.net; s=20230601; t=1762361830; x=1762966630; h=references:in-reply-to:cc:to:from:subject:message-id:date :x-gm-message-state:from:to:cc:subject:date:message-id:reply-to; bh=ffMYO6jyEmNymJzBlazPSUDqgZcMyhT/SXsY964wxyA=; b=QmSJBBmybrsQgWEk1y7YoWokho1HdQ8dnWhSIftXnzFndz1x/lWICeLfjhpe/JIMb7 8ssvPhTolutJg1J/38FyKw/+78r2EkZfJ9g7hNb1P5vVVo3rRoMWI0FDnlHaxO9PELXh mR/dOYlp5d5k7rCgu/DafxxdtVk1uXjqYWk9EWmSRRghUIA8AoZB6zgnE+8KBTJ0eG1a 2zRrCHIw72jGYMQ/eFDqrABqG6LLNabSPEbjiN8ITkq35De+89JV9zx+/CSzKcyvO/q7 1yq39NQm0ay0Cw96MS8RsIEoeyFe9Rc+4IXnmv9iL9bWWaWBNuSxlW7HTX3oV9kR9Ig1 DLeQ== X-Gm-Message-State: AOJu0YxEhQsy1T9rvogSvd5KnuagOXPgZSCTuxbvY3ws8LHYThVLZp9N 9wzyA5Y1PzY3XENsOUDtQ0+BoJcp/OVMEPTtOev6nJK7n5tMJVEGIYA+HK3uJFMStyc8uuTTLt9 BZMJUnKxI1pEyPbuiR2tGmq82b8YIic2eHDmZaX2Al/GM X-Gm-Gg: ASbGncuGmGezoKoNYteWizdsrswZihHeV+kteqF1zf1DSmq6FXapchS4FfmVboKaik3 QhvlH7YTiilDS4Ox7P6Jrb7bxJIw0FbhGoE1b3LruKQNTiMMbQME/iuXkbuOTti7mGlSyuk+Ovi 82I4BO783yhYNd2Up70Brr006/svcnM+QQ+FMkZfQ1fT2U/fqqfRWYFGhTjDiCDETjFrPy37l/m BylZl7YrvauzBN3a3VikYCEcaC5MeupFJeAyPIeJgGVDEdxqP7y7OgBCGdm6ueRruMTxlBcDuew PCdFTCgk/KIajXnAAFb2T5OSt4jT6X2HcXJAsplH+v/AyfDfKABUI6+SvIvgd9pvf8joDQGmVfn yn/CHS5Go7iW3OLsDMEEOe8cWRyZ9Q1Q= X-Google-Smtp-Source: AGHT+IE1bD6cvseGcs620AYsJe2xOMGGyk49GCI5iPMWvHtb+w1vm4xcA77przZ993503TySduMsHlKDoKO0 X-Received: by 2002:a05:6e02:2194:b0:433:311f:d36a with SMTP id e9e14a558f8ab-433407dfbf6mr56146205ab.29.1762361830641; Wed, 05 Nov 2025 08:57:10 -0800 (PST) Received: from postal.iol.unh.edu (postal.iol.unh.edu. [132.177.123.84]) by smtp-relay.gmail.com with ESMTPS id 8926c6da1cb9f-5b7226fbe71sm683074173.30.2025.11.05.08.57.10 (version=TLS1_2 cipher=ECDHE-ECDSA-AES128-GCM-SHA256 bits=128/128); Wed, 05 Nov 2025 08:57:10 -0800 (PST) X-Relaying-Domain: iol.unh.edu Date: Wed, 05 Nov 2025 08:57:10 -0800 (PST) Message-ID: <690b81e6.050a0220.94d16.50c2SMTPIN_ADDED_MISSING@mx.google.com> Received: from [172.21.0.4] (unknown [172.18.0.240]) by postal.iol.unh.edu (Postfix) with ESMTP id 36207604D420; Wed, 5 Nov 2025 11:57:10 -0500 (EST) Subject: |SUCCESS| pw158461-158466 [PATCH] [v2,6/6] net/iavf: fix QinQ insert From: dpdklab@iol.unh.edu To: Test Report Cc: dpdk-test-reports@iol.unh.edu, Bruce Richardson In-Reply-To: <20251105152642.2981673-7-ciara.loftus@intel.com> References: <20251105152642.2981673-7-ciara.loftus@intel.com> Content-Type: text/plain X-BeenThere: test-report@dpdk.org X-Mailman-Version: 2.1.29 Precedence: list List-Id: automatic DPDK test reports List-Unsubscribe: , List-Archive: List-Post: List-Help: List-Subscribe: , Errors-To: test-report-bounces@dpdk.org Test-Label: iol-unit-amd64-testing Test-Status: SUCCESS http://dpdk.org/patch/158466 _Testing PASS_ Submitter: Ciara Loftus Date: Wednesday, November 05 2025 15:26:42 DPDK git baseline: Repo:dpdk-next-net-intel Branch: master CommitID:03e1f9ac281264a54af53f547a2eb80f25bc19e6 158461-158466 --> testing pass Upstream job id: Generic-VM-Unit-Test-DPDK#32317 Test environment and result as below: +-------------------------------+----------------+ | Environment | dpdk_unit_test | +===============================+================+ | CentOS Stream 9 | PASS | +-------------------------------+----------------+ | Fedora Linux 40 | PASS | +-------------------------------+----------------+ | Debian GNU/Linux 12 | PASS | +-------------------------------+----------------+ | Fedora Linux 42 | PASS | +-------------------------------+----------------+ | Red Hat Enterprise Linux 9.5 | PASS | +-------------------------------+----------------+ | CentOS Stream 10 | PASS | +-------------------------------+----------------+ | Ubuntu 24.04 | PASS | +-------------------------------+----------------+ | Ubuntu 20.04 | PASS | +-------------------------------+----------------+ | Fedora Linux 41 | PASS | +-------------------------------+----------------+ | Red Hat Enterprise Linux 8.10 | PASS | +-------------------------------+----------------+ | Ubuntu 22.04 | PASS | +-------------------------------+----------------+ | Windows Server 2022 | PASS | +-------------------------------+----------------+ CentOS Stream 9 Kernel: 5.15 Compiler: gcc gcc (GCC) 11.5.0 20240719 (Red Hat 11.5.0-11) Fedora Linux 40 Kernel: 5.15 Compiler: clang gcc (GCC) 14.2.1 20240912 (Red Hat 14.2.1-3) Debian GNU/Linux 12 Kernel: 5.15 Compiler: gcc gcc (Debian 12.2.0-14+deb12u1) 12.2.0 Fedora Linux 42 Kernel: 5.15 Compiler: clang gcc (GCC) 15.2.1 20250808 (Red Hat 15.2.1-1) Red Hat Enterprise Linux 9.5 Kernel: 5.15 Compiler: gcc gcc (GCC) 11.5.0 20240719 (Red Hat 11.5.0-2) CentOS Stream 10 Kernel: 5.15 Compiler: gcc gcc (GCC) 14.2.1 20250110 (Red Hat 14.2.1-8) Ubuntu 24.04 Kernel: 5.15 Compiler: gcc gcc (Ubuntu 13.3.0-6ubuntu2~24.04) 13.3.0 Ubuntu 20.04 Kernel: 5.15 Compiler: gcc gcc (Ubuntu 9.4.0-1ubuntu1~20.04.2) 9.4.0 Fedora Linux 41 Kernel: 5.15 Compiler: clang gcc (GCC) 14.3.1 20250523 (Red Hat 14.3.1-1) Red Hat Enterprise Linux 8.10 Kernel: 5.15 Compiler: gcc gcc (GCC) 8.5.0 20210514 (Red Hat 8.5.0-22) Ubuntu 22.04 Kernel: 5.15 Compiler: gcc gcc (Ubuntu 11.4.0-1ubuntu1~22.04) 11.4.0 Windows Server 2022 Kernel: 10.0.20348.2031 Compiler: clang 15.0.7, gcc 14.1.0 (MinGW), and MSVC VS 19.39.33521 To view detailed results, visit: https://lab.dpdk.org/results/dashboard/patchsets/34475/ UNH-IOL DPDK Community Lab To manage your email subscriptions, visit: https://lab.dpdk.org/results/dashboard/preferences/subscriptions/