From mboxrd@z Thu Jan 1 00:00:00 1970 Return-Path: Received: from mails.dpdk.org (mails.dpdk.org [217.70.189.124]) by inbox.dpdk.org (Postfix) with ESMTP id 8875548A76 for ; Wed, 5 Nov 2025 18:52:58 +0100 (CET) Received: from mails.dpdk.org (localhost [127.0.0.1]) by mails.dpdk.org (Postfix) with ESMTP id 82DD04021F; Wed, 5 Nov 2025 18:52:58 +0100 (CET) Received: from mail-io1-f97.google.com (mail-io1-f97.google.com [209.85.166.97]) by mails.dpdk.org (Postfix) with ESMTP id 3C85D4021F for ; Wed, 5 Nov 2025 18:52:57 +0100 (CET) Received: by mail-io1-f97.google.com with SMTP id ca18e2360f4ac-93e2c9821fcso1316839f.3 for ; Wed, 05 Nov 2025 09:52:57 -0800 (PST) DKIM-Signature: v=1; a=rsa-sha256; c=relaxed/relaxed; d=iol.unh.edu; s=unh-iol; t=1762365176; x=1762969976; darn=dpdk.org; h=references:in-reply-to:cc:to:from:subject:message-id:date:from:to :cc:subject:date:message-id:reply-to; bh=3YcjYMx6PuVkA5bO03XH4vfJNDKKnRfznDnrvmtpfak=; b=apcR8mjdQp0i6mA7K8bwwvAMogjMQs5BEzZpFqsivTizNNkYYfEK5e0KF/WCJ7kos9 Kt88SUPUUedgZ49EeSzT6z48hObsvRBt6R0/WzCHL+l0rMvmP0mlwxhYvOTaxahWc9b9 zOBrenq1SZSrxp2SXWGctX18JbghDPCJEpJFY= X-Google-DKIM-Signature: v=1; a=rsa-sha256; c=relaxed/relaxed; d=1e100.net; s=20230601; t=1762365176; x=1762969976; h=references:in-reply-to:cc:to:from:subject:message-id:date :x-gm-message-state:from:to:cc:subject:date:message-id:reply-to; bh=3YcjYMx6PuVkA5bO03XH4vfJNDKKnRfznDnrvmtpfak=; b=dTBm/LTmiLz4AuXcAmSzFqDCUM9hYq9RRCXvczykVqcm3xMZqR6BudLljqTRKKedEo EDumvEY6x0nMV1NxK+N3qk8IewqC0lyzonT0UZ1QYW4a5qH9fdhys17C1/q3kjnR5QS+ /JGHR4vfzQV69HmD3jgJa6neuzbdmmFZgO0RGkiEQSs1SJSxQvYVlbIHWG+crgzX+uY8 Y0tnHTaiwRIfwR+zEh4yMCHJQQ+I/fgzbYdOK08Oxgn1kExbyDO3Kk6ScO/Sr0ZyxCg3 cgp/U/u0Ol3GSKyKXTbO0l0/z02U4/QLXAmUhryG9j9ZQYqzSEtVHqOhk5Mf+MQ/0Buv uuqA== X-Gm-Message-State: AOJu0YxAy2pSeOSTGDS6rXBdf2fZQ5jwRDfhpo8yeE5FlKRfqS3RcsRn TGNBD1uQvPEBZFCQqdCxkydiJuiYnGOd98qwRVMq2no2KrS56Nq71OCl979Lz/wUZSOmnaYsF0N 22/7vFzm4WFydeeMAtbVie8buR0SjTKx+2YDMZA4t7IMzuEy406naKSYI4uwk X-Gm-Gg: ASbGncui3nogW/gqGpS6gvv9JyZYuHLXMdj1U1Qn4aNwKMeYcGqfN903apXxT6Maeix qCUfTkCnxwg7QnVgrO3hKEbsLYbwSL5nYKxV1WpX3pNv1nwufLzU537fPUN4aXbW1tXprCw0vsi GWtD2Z3Cwl/8buSxMbPKGcbHGTsAuGdHkul1eMDbKPFeeb0R86pd6IFgdZr77i/FU0cVj+9qKbp RMocOmdWF+/2Y/djxLM/wNFVy0xtHiVlcq7mSiDZJ+EichLlV6Mzo+cxiLNU2Feu5cDu9TOPEP9 cftOnUcKA0B5peMNeEGU4uiWJkdASWf2HtmxVZETBBC85wA1gQN8MMSPvkxSfyXulQKc0Cwl0gy z7vbjRn15 X-Google-Smtp-Source: AGHT+IEZjeOxV4HcxHXc/lo81uAODhg2NU8gfN4H6kV2Z/aPqnPfpNINM+/0U5oGLA3mSq0y+Jn/Bvi8lkHc X-Received: by 2002:a05:6602:160a:b0:945:cbd9:55c7 with SMTP id ca18e2360f4ac-94869ca2360mr633037439f.3.1762365176518; Wed, 05 Nov 2025 09:52:56 -0800 (PST) Received: from postal.iol.unh.edu (postal.iol.unh.edu. [2606:4100:3880:1234::84]) by smtp-relay.gmail.com with ESMTPS id ca18e2360f4ac-9487956909bsm1454839f.6.2025.11.05.09.52.56 (version=TLS1_2 cipher=ECDHE-ECDSA-AES128-GCM-SHA256 bits=128/128); Wed, 05 Nov 2025 09:52:56 -0800 (PST) X-Relaying-Domain: iol.unh.edu Date: Wed, 05 Nov 2025 09:52:56 -0800 (PST) Message-ID: <690b8ef8.050a0220.370746.0d28SMTPIN_ADDED_MISSING@mx.google.com> Received: from [172.21.0.2] (unknown [172.18.0.240]) by postal.iol.unh.edu (Postfix) with ESMTP id 10B9A6051830; Wed, 5 Nov 2025 12:52:56 -0500 (EST) Subject: |SUCCESS| pw158467 [PATCH] drivers: add ConnectX-9 device ID From: dpdklab@iol.unh.edu To: Test Report Cc: dpdk-test-reports@iol.unh.edu In-Reply-To: <20251105154418.99211-1-rasland@nvidia.com> References: <20251105154418.99211-1-rasland@nvidia.com> Content-Type: text/plain X-BeenThere: test-report@dpdk.org X-Mailman-Version: 2.1.29 Precedence: list List-Id: automatic DPDK test reports List-Unsubscribe: , List-Archive: List-Post: List-Help: List-Subscribe: , Errors-To: test-report-bounces@dpdk.org Test-Label: iol-unit-amd64-testing Test-Status: SUCCESS http://dpdk.org/patch/158467 _Testing PASS_ Submitter: Raslan Darawsheh Date: Wednesday, November 05 2025 15:44:17 DPDK git baseline: Repo:dpdk Branch: master CommitID:a054de204b0b937dd976d0390fbb03353745e7cb 158467 --> testing pass Upstream job id: Generic-VM-Unit-Test-DPDK#32319 Test environment and result as below: +-------------------------------+----------------+ | Environment | dpdk_unit_test | +===============================+================+ | Fedora Linux 41 | PASS | +-------------------------------+----------------+ | CentOS Stream 9 | PASS | +-------------------------------+----------------+ | Debian GNU/Linux 12 | PASS | +-------------------------------+----------------+ | Fedora Linux 40 | PASS | +-------------------------------+----------------+ | CentOS Stream 10 | PASS | +-------------------------------+----------------+ | Red Hat Enterprise Linux 8.10 | PASS | +-------------------------------+----------------+ | Ubuntu 22.04 | PASS | +-------------------------------+----------------+ | Red Hat Enterprise Linux 9.5 | PASS | +-------------------------------+----------------+ | Fedora Linux 42 | PASS | +-------------------------------+----------------+ | Ubuntu 24.04 | PASS | +-------------------------------+----------------+ | Ubuntu 20.04 | PASS | +-------------------------------+----------------+ | Windows Server 2022 | PASS | +-------------------------------+----------------+ Fedora Linux 41 Kernel: 5.15 Compiler: clang gcc (GCC) 14.3.1 20250523 (Red Hat 14.3.1-1) CentOS Stream 9 Kernel: 5.15 Compiler: gcc gcc (GCC) 11.5.0 20240719 (Red Hat 11.5.0-11) Debian GNU/Linux 12 Kernel: 5.15 Compiler: gcc gcc (Debian 12.2.0-14+deb12u1) 12.2.0 Fedora Linux 40 Kernel: 5.15 Compiler: clang gcc (GCC) 14.2.1 20240912 (Red Hat 14.2.1-3) CentOS Stream 10 Kernel: 5.15 Compiler: gcc gcc (GCC) 14.2.1 20250110 (Red Hat 14.2.1-8) Red Hat Enterprise Linux 8.10 Kernel: 5.15 Compiler: gcc gcc (GCC) 8.5.0 20210514 (Red Hat 8.5.0-22) Ubuntu 22.04 Kernel: 5.15 Compiler: gcc gcc (Ubuntu 11.4.0-1ubuntu1~22.04) 11.4.0 Red Hat Enterprise Linux 9.5 Kernel: 5.15 Compiler: gcc gcc (GCC) 11.5.0 20240719 (Red Hat 11.5.0-2) Fedora Linux 42 Kernel: 5.15 Compiler: gcc gcc (GCC) 15.2.1 20250808 (Red Hat 15.2.1-1) Ubuntu 24.04 Kernel: 5.15 Compiler: gcc gcc (Ubuntu 13.3.0-6ubuntu2~24.04) 13.3.0 Ubuntu 20.04 Kernel: 5.15 Compiler: gcc gcc (Ubuntu 9.4.0-1ubuntu1~20.04.2) 9.4.0 Windows Server 2022 Kernel: 10.0.20348.2031 Compiler: clang 15.0.7, gcc 14.1.0 (MinGW), and MSVC VS 19.39.33521 To view detailed results, visit: https://lab.dpdk.org/results/dashboard/patchsets/34476/ UNH-IOL DPDK Community Lab To manage your email subscriptions, visit: https://lab.dpdk.org/results/dashboard/preferences/subscriptions/