From mboxrd@z Thu Jan 1 00:00:00 1970 Return-Path: Received: from mails.dpdk.org (mails.dpdk.org [217.70.189.124]) by inbox.dpdk.org (Postfix) with ESMTP id 0E7DD48A76 for ; Wed, 5 Nov 2025 18:57:40 +0100 (CET) Received: from mails.dpdk.org (localhost [127.0.0.1]) by mails.dpdk.org (Postfix) with ESMTP id 094BD4021F; Wed, 5 Nov 2025 18:57:40 +0100 (CET) Received: from mail-pj1-f100.google.com (mail-pj1-f100.google.com [209.85.216.100]) by mails.dpdk.org (Postfix) with ESMTP id 4B8A94021F for ; Wed, 5 Nov 2025 18:57:38 +0100 (CET) Received: by mail-pj1-f100.google.com with SMTP id 98e67ed59e1d1-33b5a3e8ae2so1016341a91.1 for ; Wed, 05 Nov 2025 09:57:38 -0800 (PST) DKIM-Signature: v=1; a=rsa-sha256; c=relaxed/relaxed; d=iol.unh.edu; s=unh-iol; t=1762365457; x=1762970257; darn=dpdk.org; h=references:in-reply-to:cc:to:from:subject:message-id:date:from:to :cc:subject:date:message-id:reply-to; bh=uedDvI6jAwURSUHlFoM5OtdIrrimUb36SP6jkXtENO0=; b=OpOswbjp+wCw8+dlH3unqUDGqUG+/y5Sq1fMZhMPpMGZAbrnzhuZM/+rEgsox4uEqy d7b0GqHjQbm8fR9SCAyhTodKCyboQUM+4QiCgawdO0eaHKA8CZW23DzMte8QqVDxXYCr 2ADahjv5xOZsMCkyvC+6fCb5Hfji3BvP3DwQw= X-Google-DKIM-Signature: v=1; a=rsa-sha256; c=relaxed/relaxed; d=1e100.net; s=20230601; t=1762365457; x=1762970257; h=references:in-reply-to:cc:to:from:subject:message-id:date:x-gm-gg :x-gm-message-state:from:to:cc:subject:date:message-id:reply-to; bh=uedDvI6jAwURSUHlFoM5OtdIrrimUb36SP6jkXtENO0=; b=uUnWc0ca+ozBjXeXts/9ZM+nA9jp1c0qjOk9R/cY87F2A6Ev9FeGlWinmTDL6csm4Z JiX4hawDtARTh8Rnp4l4HT/yyoSzeU9J4YxLLm0UwmMJYL+Zg5rfjiUP6+AFOt6eeV3+ wllciSUOJXsm9KRt+rAmdFbDxBK3Cq9vbs01NSPvbXB+2KeeBR1uJQFICWnjUVY4QIRH n2SYgNGlZZv8iWOZP18KMT6BYb5JWd7+DQRdbjIhh+jFEzqwqJ4K//QFgG4iQlnjyZg2 8i2xBCo7+g9R4slo8FJ5o26KKLrlv8Ioz/LYvUd1NhuAsWBQUQlCu7aP4sFfj6Nlp/69 AtwA== X-Gm-Message-State: AOJu0Yyh6YQSMZXcTRqbT1AUVv+dAUt4zIO7Z8hovKXkgXb6cZjDDuz+ 433VMwS2qk+wSHF1n1VBOFdh8nneVkRipOOJ7wN1Hxkj8eicwbpZBLtsb8VMEUFsQIoDaNwqEhM VQyhOObPYynZ2ClvT8sw4D3tVgppnTY24NITL0wrf5X9v X-Gm-Gg: ASbGncvlMO9PiLaeNXMhvaYSg0oStDp+MgJa0Y9E1c4a/Ueuah4tJTPAJ1qIKR1JMsm hDqaPqtjb4aoyURQ+6HrFUYuNxI2ZK/bibMQ5M/JtJlkhKmnvYQZkd2d9tyOqVf9N5hCz8z4YCm Fz2OknWGC95e50V4+w7XcyIFAoXJ3aNIFwFspOP7sVpYlr52FJ8ZdcJ4m8r6ueULCzmv4u+p8UP PQaAoO2+2lyvmEG3YIRUPPhofPwxgTNTes60O1VOs5/4S4r4dgvQj6R0it8lXwD2j/RAxlQDNQJ ripQ31snCsRHlhHO3ff5qnigZTuBhTgHYnbnelMw91FWiHF8VU9rznXEwfym2Zh0OQwi3ryz5jE tKW9rtc1Nb8NyL62OL5rFLUmsmqD2L74= X-Google-Smtp-Source: AGHT+IF516WuotcBCzzz+jcYAtu5MYsPNy6J/Hi9Hl0ofAq76g59azjFwaNWd8H5yRLbtM2stB88rzB+RtpH X-Received: by 2002:a17:903:124e:b0:267:8b4f:df36 with SMTP id d9443c01a7336-29651c686c3mr3121885ad.29.1762365457532; Wed, 05 Nov 2025 09:57:37 -0800 (PST) Received: from postal.iol.unh.edu (postal.iol.unh.edu. [132.177.123.84]) by smtp-relay.gmail.com with ESMTPS id d9443c01a7336-29651cc6766sm149775ad.66.2025.11.05.09.57.37 (version=TLS1_2 cipher=ECDHE-ECDSA-AES128-GCM-SHA256 bits=128/128); Wed, 05 Nov 2025 09:57:37 -0800 (PST) X-Relaying-Domain: iol.unh.edu Date: Wed, 05 Nov 2025 09:57:37 -0800 (PST) Message-ID: <690b9011.170a0220.34358a.0d7eSMTPIN_ADDED_MISSING@mx.google.com> Received: from [172.21.0.2] (unknown [172.18.0.240]) by postal.iol.unh.edu (Postfix) with ESMTP id 09A786051830; Wed, 5 Nov 2025 12:57:37 -0500 (EST) Subject: |SUCCESS| pw158455-158457 [PATCH] [v2,3/3] app/testpmd: support paus From: dpdklab@iol.unh.edu To: Test Report Cc: dpdk-test-reports@iol.unh.edu, Stephen Hemminger In-Reply-To: <20251105094748.3269-4-fengchengwen@huawei.com> References: <20251105094748.3269-4-fengchengwen@huawei.com> Content-Type: text/plain X-BeenThere: test-report@dpdk.org X-Mailman-Version: 2.1.29 Precedence: list List-Id: automatic DPDK test reports List-Unsubscribe: , List-Archive: List-Post: List-Help: List-Subscribe: , Errors-To: test-report-bounces@dpdk.org Test-Label: iol-unit-arm64-testing Test-Status: SUCCESS http://dpdk.org/patch/158457 _Testing PASS_ Submitter: Chengwen Feng Date: Wednesday, November 05 2025 09:47:48 DPDK git baseline: Repo:dpdk-next-net Branch: master CommitID:538052bb364db22ba8cc08b5e23a9e6d25a864a9 158455-158457 --> testing pass Upstream job id: Generic-Unit-Test-DPDK#388860 Test environment and result as below: +------------------------------+---------------------------+------------------------------+--------------+----------------+ | Environment | cryptodev_sw_zuc_autotest | cryptodev_sw_snow3g_autotest | lpm_autotest | dpdk_unit_test | +==============================+===========================+==============================+==============+================+ | Debian 12 (arm) | PASS | PASS | SKIPPED | SKIPPED | +------------------------------+---------------------------+------------------------------+--------------+----------------+ | Ubuntu 20.04 | SKIPPED | SKIPPED | PASS | PASS | +------------------------------+---------------------------+------------------------------+--------------+----------------+ | Fedora Linux 41 | SKIPPED | SKIPPED | SKIPPED | PASS | +------------------------------+---------------------------+------------------------------+--------------+----------------+ | CentOS Stream 9 | SKIPPED | SKIPPED | SKIPPED | PASS | +------------------------------+---------------------------+------------------------------+--------------+----------------+ | CentOS Stream 10 | SKIPPED | SKIPPED | SKIPPED | PASS | +------------------------------+---------------------------+------------------------------+--------------+----------------+ | Fedora Linux 40 | SKIPPED | SKIPPED | SKIPPED | PASS | +------------------------------+---------------------------+------------------------------+--------------+----------------+ | Ubuntu 22.04 | SKIPPED | SKIPPED | SKIPPED | PASS | +------------------------------+---------------------------+------------------------------+--------------+----------------+ | Ubuntu 24.04 | SKIPPED | SKIPPED | SKIPPED | PASS | +------------------------------+---------------------------+------------------------------+--------------+----------------+ | Red Hat Enterprise Linux 9.5 | SKIPPED | SKIPPED | SKIPPED | PASS | +------------------------------+---------------------------+------------------------------+--------------+----------------+ | Fedora Linux 42 | SKIPPED | SKIPPED | SKIPPED | PASS | +------------------------------+---------------------------+------------------------------+--------------+----------------+ | Debian GNU/Linux 12 | SKIPPED | SKIPPED | SKIPPED | PASS | +------------------------------+---------------------------+------------------------------+--------------+----------------+ Debian 12 (arm) Kernel: Depends on container host Compiler: gcc (Debian 12.2.0-14) 12.2.0 Ubuntu 20.04 Kernel: 5.4 Compiler: gcc gcc (Ubuntu 9.4.0-1ubuntu1~20.04.2) 9.4.0 Fedora Linux 41 Kernel: 5.4 Compiler: gcc gcc (GCC) 14.3.1 20250523 (Red Hat 14.3.1-1) CentOS Stream 9 Kernel: 5.4 Compiler: gcc gcc (GCC) 11.5.0 20240719 (Red Hat 11.5.0-11) CentOS Stream 10 Kernel: 5.4 Compiler: gcc gcc (GCC) 14.2.1 20250110 (Red Hat 14.2.1-8) Fedora Linux 40 Kernel: 5.4 Compiler: clang gcc (GCC) 14.2.1 20240912 (Red Hat 14.2.1-3) Ubuntu 22.04 Kernel: 5.15 Compiler: gcc gcc (Ubuntu 11.4.0-1ubuntu1~22.04.2) 11.4.0 Ubuntu 24.04 Kernel: 5.4 Compiler: gcc gcc (Ubuntu 13.3.0-6ubuntu2~24.04) 13.3.0 Red Hat Enterprise Linux 9.5 Kernel: 5.4 Compiler: gcc gcc (GCC) 11.5.0 20240719 (Red Hat 11.5.0-2) Fedora Linux 42 Kernel: 5.4 Compiler: clang gcc (GCC) 15.2.1 20250808 (Red Hat 15.2.1-1) Debian GNU/Linux 12 Kernel: 5.4 Compiler: gcc gcc (Debian 12.2.0-14+deb12u1) 12.2.0 To view detailed results, visit: https://lab.dpdk.org/results/dashboard/patchsets/34471/ UNH-IOL DPDK Community Lab To manage your email subscriptions, visit: https://lab.dpdk.org/results/dashboard/preferences/subscriptions/