From mboxrd@z Thu Jan 1 00:00:00 1970 Return-Path: Received: from mails.dpdk.org (mails.dpdk.org [217.70.189.124]) by inbox.dpdk.org (Postfix) with ESMTP id 12E1248A76 for ; Wed, 5 Nov 2025 19:08:33 +0100 (CET) Received: from mails.dpdk.org (localhost [127.0.0.1]) by mails.dpdk.org (Postfix) with ESMTP id 0EA904021F; Wed, 5 Nov 2025 19:08:33 +0100 (CET) Received: from mail-il1-f228.google.com (mail-il1-f228.google.com [209.85.166.228]) by mails.dpdk.org (Postfix) with ESMTP id AA3504021F for ; Wed, 5 Nov 2025 19:08:31 +0100 (CET) Received: by mail-il1-f228.google.com with SMTP id e9e14a558f8ab-43320988dcfso235265ab.3 for ; Wed, 05 Nov 2025 10:08:31 -0800 (PST) DKIM-Signature: v=1; a=rsa-sha256; c=relaxed/relaxed; d=iol.unh.edu; s=unh-iol; t=1762366111; x=1762970911; darn=dpdk.org; h=references:in-reply-to:cc:to:from:subject:message-id:date:from:to :cc:subject:date:message-id:reply-to; bh=/tcgMLFp2T9fDgF734sP7n1PBFO9wphzSZhIK/lzihE=; b=S5tWlMi5MK4zZ3MT129QCvVHJ4cJWp00FpOLj/ZT8Bu6AFtMBYRI6ZzjjzabVUXL8r atstY4iMQPOUVaI/YyIIMoEXrunuwICK4NQmnXYxDlz9nDLAtn0YV7+T2+qoPmFKpZJw oZ4g8t/v71ZpleaRavJMeEE9Oy44hQHK1KLdo= X-Google-DKIM-Signature: v=1; a=rsa-sha256; c=relaxed/relaxed; d=1e100.net; s=20230601; t=1762366111; x=1762970911; h=references:in-reply-to:cc:to:from:subject:message-id:date :x-gm-message-state:from:to:cc:subject:date:message-id:reply-to; bh=/tcgMLFp2T9fDgF734sP7n1PBFO9wphzSZhIK/lzihE=; b=kpcB/x8jUfTHRLHq869fsb5OANn+QrnocV3wXLM3mamh9a4x414JcRYGRGWm/qYmia rfe5WEP7ycVOB4Rb2nbJ+uTq/HQ0AVEyxokobZEtADqi5hj7eb8Karqn8ylKUlHeMZP2 idYBvSWJ5Jkb+EHjPTETafk10Moh54tLVE9WaamTJttQZTLvfBLNTQ94jhAihlWBNY53 4wIvO+vwZxyXNWMB7lH4Kx4IzI5OgbwW7ES2yFWdOBxv8IlmorjXgp/5iL+/UAyjumun EDg4cB2XUBxjJJjrrkSwgpswPR7ivEmizspCMER2aYyCMXlMd8VE9de/oJzIJTS6363j z3Rg== X-Gm-Message-State: AOJu0YyBgC8RQuU/gWlOQnpKrhBafstaQVhfqh8lUVrTvy4TpQn9tjHl CeS7r+IcgGbfiaI/FZShZclftBYsX/3og3/qKSmX1oWfNIY9ucIDEY3jfhXkfXmThwzW16iuONr 85hjesqTYcCfSMwiOIk1aJob4HPcLlN6fKmi4lt7C2QxwYYhngezXuN4Jz3NQ X-Gm-Gg: ASbGncug0I/eXz2DPgQb9wzlaOPQKB4FBXdDtF3e4oryVk2Np8onlmmG/QuChAqMI/L oNPR/ZdELtf4EPvD/6ixNHRTrajbfGRxGTe2WD0HO3B5xO33Uv8nFguo2Vf9Ddjr3dt4tSMq6pN Aqs7ZsrL2ciyKa5hIOrs/lSrZaokyniTHUG1FSm6Zz2C6Ai6UCqudvOtWl+e1ETJQsfAHrjw36L 2J4UqBhPXN1FRXOlo2Vp8nE5vHdo5pJXF9LOAcsOqkfOjjAuoh2Tw7Jkp8iqS16varasP+hDLrr 2paCm1IjupQYI0TSAy0Wp2wihCgR0gzUOcAsuZolJhRncRKwQRE3U99eztBSTbIWb75hJoiebw9 r/cWnRMoE X-Google-Smtp-Source: AGHT+IHa4/m2BWVIxgF189PisaCIfAqiaGsx9GsboeHCeRCmVOxmHD8Tll9LLCf081tWN26JsjlEr/Axa4pq X-Received: by 2002:a05:6e02:2685:b0:433:2b3f:63df with SMTP id e9e14a558f8ab-433407ccbb4mr60562965ab.28.1762366110814; Wed, 05 Nov 2025 10:08:30 -0800 (PST) Received: from postal.iol.unh.edu (postal.iol.unh.edu. [2606:4100:3880:1234::84]) by smtp-relay.gmail.com with ESMTPS id e9e14a558f8ab-4334f45706asm40265ab.9.2025.11.05.10.08.30 (version=TLS1_2 cipher=ECDHE-ECDSA-AES128-GCM-SHA256 bits=128/128); Wed, 05 Nov 2025 10:08:30 -0800 (PST) X-Relaying-Domain: iol.unh.edu Date: Wed, 05 Nov 2025 10:08:30 -0800 (PST) Message-ID: <690b929e.050a0220.2ca913.03d1SMTPIN_ADDED_MISSING@mx.google.com> Received: from [172.21.0.2] (unknown [172.18.0.240]) by postal.iol.unh.edu (Postfix) with ESMTP id 5BB726050A61; Wed, 5 Nov 2025 13:08:30 -0500 (EST) Subject: |SUCCESS| pw158467 [PATCH] drivers: add ConnectX-9 device ID From: dpdklab@iol.unh.edu To: Test Report Cc: dpdk-test-reports@iol.unh.edu In-Reply-To: <20251105154418.99211-1-rasland@nvidia.com> References: <20251105154418.99211-1-rasland@nvidia.com> Content-Type: text/plain X-BeenThere: test-report@dpdk.org X-Mailman-Version: 2.1.29 Precedence: list List-Id: automatic DPDK test reports List-Unsubscribe: , List-Archive: List-Post: List-Help: List-Subscribe: , Errors-To: test-report-bounces@dpdk.org Test-Label: iol-compile-amd64-testing Test-Status: SUCCESS http://dpdk.org/patch/158467 _Testing PASS_ Submitter: Raslan Darawsheh Date: Wednesday, November 05 2025 15:44:17 DPDK git baseline: Repo:dpdk Branch: master CommitID:a054de204b0b937dd976d0390fbb03353745e7cb 158467 --> testing pass Upstream job id: Generic-DPDK-Compile-Meson#441161 Test environment and result as below: +-------------------------------+--------------------+-------------------+------------------+ | Environment | dpdk_meson_compile | dpdk_msvc_compile | dpdk_compile_ovs | +===============================+====================+===================+==================+ | Ubuntu 20.04 | PASS | SKIPPED | SKIPPED | +-------------------------------+--------------------+-------------------+------------------+ | FreeBSD 14.2 | PASS | SKIPPED | SKIPPED | +-------------------------------+--------------------+-------------------+------------------+ | CentOS Stream 9 | PASS | SKIPPED | SKIPPED | +-------------------------------+--------------------+-------------------+------------------+ | CentOS Stream 10 | PASS | SKIPPED | SKIPPED | +-------------------------------+--------------------+-------------------+------------------+ | Debian GNU/Linux 12 | PASS | SKIPPED | SKIPPED | +-------------------------------+--------------------+-------------------+------------------+ | Fedora Linux 42 | PASS | SKIPPED | PASS | +-------------------------------+--------------------+-------------------+------------------+ | openSUSE Leap 15.6 | PASS | SKIPPED | SKIPPED | +-------------------------------+--------------------+-------------------+------------------+ | Red Hat Enterprise Linux 8.10 | PASS | SKIPPED | SKIPPED | +-------------------------------+--------------------+-------------------+------------------+ | Red Hat Enterprise Linux 9.5 | PASS | SKIPPED | SKIPPED | +-------------------------------+--------------------+-------------------+------------------+ | Ubuntu 22.04 | PASS | SKIPPED | SKIPPED | +-------------------------------+--------------------+-------------------+------------------+ | Ubuntu 24.04 | PASS | SKIPPED | PASS | +-------------------------------+--------------------+-------------------+------------------+ | Alpine Linux 3.22.0 | PASS | SKIPPED | SKIPPED | +-------------------------------+--------------------+-------------------+------------------+ | Windows Server 2022 | SKIPPED | PASS | SKIPPED | +-------------------------------+--------------------+-------------------+------------------+ Ubuntu 20.04 Kernel: 4.19 Compiler: gcc gcc (Ubuntu 9.4.0-1ubuntu1~20.04.2) 9.4.0 FreeBSD 14.2 Kernel: 14.2-RELEASE Compiler: clang 18.1.6 CentOS Stream 9 Kernel: 5.15 Compiler: gcc gcc (GCC) 11.5.0 20240719 (Red Hat 11.5.0-11) CentOS Stream 10 Kernel: 5.15 Compiler: gcc gcc (GCC) 14.2.1 20250110 (Red Hat 14.2.1-8) Debian GNU/Linux 12 Kernel: 5.15 Compiler: gcc gcc (Debian 12.2.0-14+deb12u1) 12.2.0 Fedora Linux 42 Kernel: 5.15 Compiler: clang gcc (GCC) 15.2.1 20250808 (Red Hat 15.2.1-1) openSUSE Leap 15.6 Kernel: 5.15 Compiler: gcc gcc (SUSE Linux) 7.5.0 Red Hat Enterprise Linux 8.10 Kernel: 5.15 Compiler: gcc gcc (GCC) 8.5.0 20210514 (Red Hat 8.5.0-22) Red Hat Enterprise Linux 9.5 Kernel: 5.15 Compiler: gcc gcc (GCC) 11.5.0 20240719 (Red Hat 11.5.0-2) Ubuntu 22.04 Kernel: 5.15 Compiler: gcc gcc (Ubuntu 11.4.0-1ubuntu1~22.04) 11.4.0 Ubuntu 24.04 Kernel: 5.15 Compiler: gcc gcc (Ubuntu 13.3.0-6ubuntu2~24.04) 13.3.0 Alpine Linux 3.22.0 Kernel: 5.15 Compiler: gcc gcc (Alpine 14.2.0) 14.2.0 Windows Server 2022 Kernel: 10.0.20348.2031 Compiler: clang 15.0.7, gcc 14.1.0 (MinGW), and MSVC VS 19.39.33521 To view detailed results, visit: https://lab.dpdk.org/results/dashboard/patchsets/34476/ UNH-IOL DPDK Community Lab To manage your email subscriptions, visit: https://lab.dpdk.org/results/dashboard/preferences/subscriptions/