From mboxrd@z Thu Jan 1 00:00:00 1970 Return-Path: Received: from mails.dpdk.org (mails.dpdk.org [217.70.189.124]) by inbox.dpdk.org (Postfix) with ESMTP id 28B5648A76 for ; Wed, 5 Nov 2025 19:09:02 +0100 (CET) Received: from mails.dpdk.org (localhost [127.0.0.1]) by mails.dpdk.org (Postfix) with ESMTP id 227D74021F; Wed, 5 Nov 2025 19:09:02 +0100 (CET) Received: from mail-pf1-f226.google.com (mail-pf1-f226.google.com [209.85.210.226]) by mails.dpdk.org (Postfix) with ESMTP id F34A14021F for ; Wed, 5 Nov 2025 19:09:00 +0100 (CET) Received: by mail-pf1-f226.google.com with SMTP id d2e1a72fcca58-7af5d99f500so228667b3a.0 for ; Wed, 05 Nov 2025 10:09:00 -0800 (PST) DKIM-Signature: v=1; a=rsa-sha256; c=relaxed/relaxed; d=iol.unh.edu; s=unh-iol; t=1762366140; x=1762970940; darn=dpdk.org; h=references:in-reply-to:cc:to:from:subject:message-id:date:from:to :cc:subject:date:message-id:reply-to; bh=kd/LLtTPwmGI5x0X4ZI4eGBbrIZUJDH77mCIAKfJtFs=; b=c3b+BPFLFitSg7Cf3ZR7RxM52u9Obv7gBwSG8H5JDTxBKxwJxzpHOF5w7+eAVW7E7v NixXeGjbQSPzvmVocLfMHuOJSxWshw8EpmE20QkT9lX6tlgb5EHhm6x58uMSUaJ8Kndi OPAqs8pdfiXtWBqItR9I3LqA1dL688DVRKDzM= X-Google-DKIM-Signature: v=1; a=rsa-sha256; c=relaxed/relaxed; d=1e100.net; s=20230601; t=1762366140; x=1762970940; h=references:in-reply-to:cc:to:from:subject:message-id:date :x-gm-message-state:from:to:cc:subject:date:message-id:reply-to; bh=kd/LLtTPwmGI5x0X4ZI4eGBbrIZUJDH77mCIAKfJtFs=; b=mJ4o5n2lQQkQS024I7YhBQDHHqJItaxXMGENgSDikr9L/IvT+yeVb+UuOJFmcARU2+ sy3VaXgT9hVt2c/UsZ4RKEIOCkCg8J6KtR0Vz1UkmOIZFNEh6Kx38w2DCclJjlkT8SiT EQ5hEUhMYTrHcRH52ZdCReym8vgX1F62XK1DGcJsfINbIZMr03sfe3jAiOXAkcWNkwv9 nGfaVKnQYQDzCHEpxCAa0v+63LL4uBT5a5bRgblTqZixJLZA8dF/RqY2o0NMx91O6qCt b5Th2D+vYjKSLa+99KXR+Kn6O5Z2a5lrlPfBZukjqs4Xl5r9YkwweRM0kMtssMQn/Nr4 9jsQ== X-Gm-Message-State: AOJu0Yzdk8pDBkkS0uXXnPpGrzlmIIrtBRPPwGSu5uZU0HQNLGpcnpKt GPhG8U/5yGIIxkJK5EfOuWZLxUMniPF4mr/fCE8HULbq2idbFE98Uj8Wwgr1xOjgzn5S0Ydph7y eEKzDqh3SDnGzHMSuvgoHql0A3J48mRwwlp+hSuVr684T4wJBclxVPyE7VlWF X-Gm-Gg: ASbGncttygBC45inBN02nd0Mn0o7nPaR9AdEaWv0V62CxEF44FDNOwWh0CfLP3tfUKm Ekub1TeMOsr9lAUSgrvCEwJ+tdGTXfz6EaG3boqxC0NMqJRQoiBMggZgMdZjl1NwQuUHEmG+NIZ 1tQ2UhdyeOvUC2F8XvXjEHi2XVBl13OQNklxNocIoZ9iNJd2/sfvjyEZeHNIMNfBnPigOpWXR7R y9FkoBQFs8PsFKM45WsL0MSZJOK5BOrm40dCOZlomsDpR8UIS/3IclWw7UwyH1pADruchW9D6Lz hPXCwb7Ty8cYW9mw+YHo/wAJiPPZnaQLagzKrdy4SvVm/+B3Y9syOPsrDZUnYRK9eQmSlwhOuF3 b3mrEBDZq X-Google-Smtp-Source: AGHT+IHv1uB5cC+4oFlg0me7mIdzAbmYrUifKLiQpTp8TU4TvqMAAnvGfD+cDINF07Vvym48qD8s9ooJFQXP X-Received: by 2002:a05:6a00:2382:b0:77f:4b9b:8c34 with SMTP id d2e1a72fcca58-7ae1fc7ca6emr5239176b3a.31.1762366139982; Wed, 05 Nov 2025 10:08:59 -0800 (PST) Received: from postal.iol.unh.edu (postal.iol.unh.edu. [2606:4100:3880:1234::84]) by smtp-relay.gmail.com with ESMTPS id d2e1a72fcca58-7af81c15ec9sm4608b3a.7.2025.11.05.10.08.59 (version=TLS1_2 cipher=ECDHE-ECDSA-AES128-GCM-SHA256 bits=128/128); Wed, 05 Nov 2025 10:08:59 -0800 (PST) X-Relaying-Domain: iol.unh.edu Date: Wed, 05 Nov 2025 10:08:59 -0800 (PST) Message-ID: <690b92bb.050a0220.a5ea2.06c2SMTPIN_ADDED_MISSING@mx.google.com> Received: from [172.21.0.2] (unknown [172.18.0.240]) by postal.iol.unh.edu (Postfix) with ESMTP id 40C446050A61; Wed, 5 Nov 2025 13:08:59 -0500 (EST) Subject: |SUCCESS| pw158467 [PATCH] drivers: add ConnectX-9 device ID From: dpdklab@iol.unh.edu To: Test Report Cc: dpdk-test-reports@iol.unh.edu In-Reply-To: <20251105154418.99211-1-rasland@nvidia.com> References: <20251105154418.99211-1-rasland@nvidia.com> Content-Type: text/plain X-BeenThere: test-report@dpdk.org X-Mailman-Version: 2.1.29 Precedence: list List-Id: automatic DPDK test reports List-Unsubscribe: , List-Archive: List-Post: List-Help: List-Subscribe: , Errors-To: test-report-bounces@dpdk.org Test-Label: iol-unit-amd64-testing Test-Status: SUCCESS http://dpdk.org/patch/158467 _Testing PASS_ Submitter: Raslan Darawsheh Date: Wednesday, November 05 2025 15:44:17 DPDK git baseline: Repo:dpdk Branch: master CommitID:a054de204b0b937dd976d0390fbb03353745e7cb 158467 --> testing pass Upstream job id: Generic-VM-Unit-Test-DPDK#32320 Test environment and result as below: +-------------------------------+----------------+ | Environment | dpdk_unit_test | +===============================+================+ | Fedora Linux 41 | PASS | +-------------------------------+----------------+ | CentOS Stream 9 | PASS | +-------------------------------+----------------+ | Debian GNU/Linux 12 | PASS | +-------------------------------+----------------+ | Fedora Linux 40 | PASS | +-------------------------------+----------------+ | CentOS Stream 10 | PASS | +-------------------------------+----------------+ | Red Hat Enterprise Linux 8.10 | PASS | +-------------------------------+----------------+ | Ubuntu 22.04 | PASS | +-------------------------------+----------------+ | Red Hat Enterprise Linux 9.5 | PASS | +-------------------------------+----------------+ | Fedora Linux 42 | PASS | +-------------------------------+----------------+ | Ubuntu 24.04 | PASS | +-------------------------------+----------------+ | Ubuntu 20.04 | PASS | +-------------------------------+----------------+ | Windows Server 2022 | PASS | +-------------------------------+----------------+ Fedora Linux 41 Kernel: 5.15 Compiler: clang gcc (GCC) 14.3.1 20250523 (Red Hat 14.3.1-1) CentOS Stream 9 Kernel: 5.15 Compiler: gcc gcc (GCC) 11.5.0 20240719 (Red Hat 11.5.0-11) Debian GNU/Linux 12 Kernel: 5.15 Compiler: gcc gcc (Debian 12.2.0-14+deb12u1) 12.2.0 Fedora Linux 40 Kernel: 5.15 Compiler: clang gcc (GCC) 14.2.1 20240912 (Red Hat 14.2.1-3) CentOS Stream 10 Kernel: 5.15 Compiler: gcc gcc (GCC) 14.2.1 20250110 (Red Hat 14.2.1-8) Red Hat Enterprise Linux 8.10 Kernel: 5.15 Compiler: gcc gcc (GCC) 8.5.0 20210514 (Red Hat 8.5.0-22) Ubuntu 22.04 Kernel: 5.15 Compiler: gcc gcc (Ubuntu 11.4.0-1ubuntu1~22.04) 11.4.0 Red Hat Enterprise Linux 9.5 Kernel: 5.15 Compiler: gcc gcc (GCC) 11.5.0 20240719 (Red Hat 11.5.0-2) Fedora Linux 42 Kernel: 5.15 Compiler: gcc gcc (GCC) 15.2.1 20250808 (Red Hat 15.2.1-1) Ubuntu 24.04 Kernel: 5.15 Compiler: gcc gcc (Ubuntu 13.3.0-6ubuntu2~24.04) 13.3.0 Ubuntu 20.04 Kernel: 5.15 Compiler: gcc gcc (Ubuntu 9.4.0-1ubuntu1~20.04.2) 9.4.0 Windows Server 2022 Kernel: 10.0.20348.2031 Compiler: clang 15.0.7, gcc 14.1.0 (MinGW), and MSVC VS 19.39.33521 To view detailed results, visit: https://lab.dpdk.org/results/dashboard/patchsets/34476/ UNH-IOL DPDK Community Lab To manage your email subscriptions, visit: https://lab.dpdk.org/results/dashboard/preferences/subscriptions/