From mboxrd@z Thu Jan 1 00:00:00 1970 Return-Path: Received: from mails.dpdk.org (mails.dpdk.org [217.70.189.124]) by inbox.dpdk.org (Postfix) with ESMTP id DAB8D48A76 for ; Wed, 5 Nov 2025 19:24:00 +0100 (CET) Received: from mails.dpdk.org (localhost [127.0.0.1]) by mails.dpdk.org (Postfix) with ESMTP id D563E4021F; Wed, 5 Nov 2025 19:24:00 +0100 (CET) Received: from mail-io1-f97.google.com (mail-io1-f97.google.com [209.85.166.97]) by mails.dpdk.org (Postfix) with ESMTP id 04B484021F for ; Wed, 5 Nov 2025 19:23:59 +0100 (CET) Received: by mail-io1-f97.google.com with SMTP id ca18e2360f4ac-9486696aafeso4048939f.3 for ; Wed, 05 Nov 2025 10:23:58 -0800 (PST) DKIM-Signature: v=1; a=rsa-sha256; c=relaxed/relaxed; d=iol.unh.edu; s=unh-iol; t=1762367038; x=1762971838; darn=dpdk.org; h=references:in-reply-to:cc:to:from:subject:message-id:date:from:to :cc:subject:date:message-id:reply-to; bh=eqtHQZ7IIcXMGSetfbOsz9naBx37OmNZj6pwA+UY7rU=; b=JrhIvWPAcw4qrRDP3rObPIo2OEW44pZaSu5ZdjXxrdjl0hdfVyMumz3nP7wro7w3ip +fxyJLKgw4BJqYQd7isf9cuHP1zU38SdwTdjl2IGtR5JA51X8CIAZRU4+UtiwMs73Xws Kmg0DVv7auOeM17zhKVSspG73GZ9KrGeCTo90= X-Google-DKIM-Signature: v=1; a=rsa-sha256; c=relaxed/relaxed; d=1e100.net; s=20230601; t=1762367038; x=1762971838; h=references:in-reply-to:cc:to:from:subject:message-id:date :x-gm-message-state:from:to:cc:subject:date:message-id:reply-to; bh=eqtHQZ7IIcXMGSetfbOsz9naBx37OmNZj6pwA+UY7rU=; b=LcVKBs1QzQg4qNIkx/uRXfSPnxdcmovVMZeM6S2Wy/OUINtStDeqrPEMh0UOqtYTzr S8nZ4V3YkuRGqZjsrCVCcixH9yXxok0oc3qJfU0j36+F/KbXeEeM0N6leWxAWgt8712M wfYOyRQ0FCoXcXFAWI3WvKLcCQgLNIWnueDliy5mvnLkU4SQ1/9b75e8kUO+oh18+Yza qd+xXIhcJ7ic402+i6eIN/NNYBYyVqrrXtW7UFSolKHOh3yvMPVL9r0AJd/i+2WvvzkU Jm+A24oSU7+yPl2KHYTr5MoWK5Of8ssjy5AjvbzcFZVF7eS650IVu+zFUErW2O4QUhfd DRag== X-Gm-Message-State: AOJu0YxETyDA0sQWVPb8Z+5LNOMaf/P9M7l6XY3Hk+IP7BTu4xbBPKa0 IVELmSA3H2z+8hVvd0b+QoNC7maO4kakU/T9SZA4BWutrnf1cF6Utl4NtG0YUVD0VHF9kuQgKpi DRNNBQrSO8Nn6CVztYKrGSSX1jtN8ClFnOrrehiU6nwzMaptRc1UoIgS3FNEE X-Gm-Gg: ASbGncujw9T4Bo+6XbqxBA/L6kN3VGu/420KvOCdI3B+dSicwgltoaYdk03K5ShokRN iOpgxkrVyX9olKimpR8CbbosPkPLJtJw9NSSTyotJAs5x2jlqogyLuYSrDVDZ0eVA4Zccpxr/tJ Ym7SuqK1pooTlBvMVLFMvH7TOCA0OXcD3G35UQ/Gs0buzwrAo9t1WcbgpD4SZL1vC6fKvPJWoKj lr8g6ZWZEIGzyl6GQ6yajsKe4Fyq0n8IKUR7qZ4/pBeHn6TwDhDhrxxWcMv560ggHcHJHTl9zeY CFGmszWTDf0+83squFC5ZyFfHNIcT2glzE25Lw8/iQ++EDMxF87MVp0rauvK0bV21kxiX8qc3fU Yb7MHJm1y X-Google-Smtp-Source: AGHT+IEy3uA64R4osXuJ4lKoD1Q4l6dYcf4uNb0NWwCf0MrV4jt9lFmKUvAbSdx8Zb6nI4VRX0oXrsPWgKgb X-Received: by 2002:a05:6e02:1523:b0:433:31b5:572b with SMTP id e9e14a558f8ab-433407da981mr53641415ab.22.1762367038332; Wed, 05 Nov 2025 10:23:58 -0800 (PST) Received: from postal.iol.unh.edu (postal.iol.unh.edu. [2606:4100:3880:1234::84]) by smtp-relay.gmail.com with ESMTPS id e9e14a558f8ab-4334f4c0f1esm49775ab.27.2025.11.05.10.23.58 (version=TLS1_2 cipher=ECDHE-ECDSA-AES128-GCM-SHA256 bits=128/128); Wed, 05 Nov 2025 10:23:58 -0800 (PST) X-Relaying-Domain: iol.unh.edu Date: Wed, 05 Nov 2025 10:23:58 -0800 (PST) Message-ID: <690b963e.050a0220.22efe5.0469SMTPIN_ADDED_MISSING@mx.google.com> Received: from [172.21.0.4] (unknown [172.18.0.240]) by postal.iol.unh.edu (Postfix) with ESMTP id D59BB604D420; Wed, 5 Nov 2025 13:23:57 -0500 (EST) Subject: |SUCCESS| pw158468-158472 [PATCH] [v2,5/5] net/mlx5: support count a From: dpdklab@iol.unh.edu To: Test Report Cc: dpdk-test-reports@iol.unh.edu In-Reply-To: <20251105165258.1396352-6-dsosnowski@nvidia.com> References: <20251105165258.1396352-6-dsosnowski@nvidia.com> Content-Type: text/plain X-BeenThere: test-report@dpdk.org X-Mailman-Version: 2.1.29 Precedence: list List-Id: automatic DPDK test reports List-Unsubscribe: , List-Archive: List-Post: List-Help: List-Subscribe: , Errors-To: test-report-bounces@dpdk.org Test-Label: iol-compile-amd64-testing Test-Status: SUCCESS http://dpdk.org/patch/158472 _Testing PASS_ Submitter: Dariusz Sosnowski Date: Wednesday, November 05 2025 16:52:58 DPDK git baseline: Repo:dpdk-next-net-mlx Branch: master CommitID:f1c1f82f2421be9ac2f46b4ec2a616ca28da4ca7 158468-158472 --> testing pass Upstream job id: Windows-Compile-DPDK-VS#7436 Test environment and result as below: +-------------------------------+--------------------+-------------------+------------------+ | Environment | dpdk_meson_compile | dpdk_msvc_compile | dpdk_compile_ovs | +===============================+====================+===================+==================+ | Ubuntu 20.04 | PASS | SKIPPED | SKIPPED | +-------------------------------+--------------------+-------------------+------------------+ | FreeBSD 14.2 | PASS | SKIPPED | SKIPPED | +-------------------------------+--------------------+-------------------+------------------+ | CentOS Stream 9 | PASS | SKIPPED | SKIPPED | +-------------------------------+--------------------+-------------------+------------------+ | CentOS Stream 10 | PASS | SKIPPED | SKIPPED | +-------------------------------+--------------------+-------------------+------------------+ | Debian GNU/Linux 12 | PASS | SKIPPED | SKIPPED | +-------------------------------+--------------------+-------------------+------------------+ | Fedora Linux 42 | PASS | SKIPPED | PASS | +-------------------------------+--------------------+-------------------+------------------+ | openSUSE Leap 15.6 | PASS | SKIPPED | SKIPPED | +-------------------------------+--------------------+-------------------+------------------+ | Red Hat Enterprise Linux 8.10 | PASS | SKIPPED | SKIPPED | +-------------------------------+--------------------+-------------------+------------------+ | Red Hat Enterprise Linux 9.5 | PASS | SKIPPED | SKIPPED | +-------------------------------+--------------------+-------------------+------------------+ | Ubuntu 22.04 | PASS | SKIPPED | SKIPPED | +-------------------------------+--------------------+-------------------+------------------+ | Ubuntu 24.04 | PASS | SKIPPED | PASS | +-------------------------------+--------------------+-------------------+------------------+ | Alpine Linux 3.22.0 | PASS | SKIPPED | SKIPPED | +-------------------------------+--------------------+-------------------+------------------+ | Windows Server 2022 | SKIPPED | PASS | SKIPPED | +-------------------------------+--------------------+-------------------+------------------+ Ubuntu 20.04 Kernel: 4.19 Compiler: gcc gcc (Ubuntu 9.4.0-1ubuntu1~20.04.2) 9.4.0 FreeBSD 14.2 Kernel: 14.2-RELEASE Compiler: clang 18.1.6 CentOS Stream 9 Kernel: 5.15 Compiler: gcc gcc (GCC) 11.5.0 20240719 (Red Hat 11.5.0-11) CentOS Stream 10 Kernel: 5.15 Compiler: gcc gcc (GCC) 14.2.1 20250110 (Red Hat 14.2.1-8) Debian GNU/Linux 12 Kernel: 5.15 Compiler: gcc gcc (Debian 12.2.0-14+deb12u1) 12.2.0 Fedora Linux 42 Kernel: 5.15 Compiler: clang gcc (GCC) 15.2.1 20250808 (Red Hat 15.2.1-1) openSUSE Leap 15.6 Kernel: 5.15 Compiler: gcc gcc (SUSE Linux) 7.5.0 Red Hat Enterprise Linux 8.10 Kernel: 5.15 Compiler: gcc gcc (GCC) 8.5.0 20210514 (Red Hat 8.5.0-22) Red Hat Enterprise Linux 9.5 Kernel: 5.15 Compiler: gcc gcc (GCC) 11.5.0 20240719 (Red Hat 11.5.0-2) Ubuntu 22.04 Kernel: 5.15 Compiler: gcc gcc (Ubuntu 11.4.0-1ubuntu1~22.04) 11.4.0 Ubuntu 24.04 Kernel: 5.15 Compiler: gcc gcc (Ubuntu 13.3.0-6ubuntu2~24.04) 13.3.0 Alpine Linux 3.22.0 Kernel: 5.15 Compiler: gcc gcc (Alpine 14.2.0) 14.2.0 Windows Server 2022 Kernel: 10.0.20348.2031 Compiler: clang 15.0.7, gcc 14.1.0 (MinGW), and MSVC VS 19.39.33521 To view detailed results, visit: https://lab.dpdk.org/results/dashboard/patchsets/34477/ UNH-IOL DPDK Community Lab To manage your email subscriptions, visit: https://lab.dpdk.org/results/dashboard/preferences/subscriptions/