From mboxrd@z Thu Jan 1 00:00:00 1970 Return-Path: Received: from mails.dpdk.org (mails.dpdk.org [217.70.189.124]) by inbox.dpdk.org (Postfix) with ESMTP id 5DEB548A76 for ; Wed, 5 Nov 2025 19:28:38 +0100 (CET) Received: from mails.dpdk.org (localhost [127.0.0.1]) by mails.dpdk.org (Postfix) with ESMTP id 56A644021F; Wed, 5 Nov 2025 19:28:38 +0100 (CET) Received: from mail-ua1-f97.google.com (mail-ua1-f97.google.com [209.85.222.97]) by mails.dpdk.org (Postfix) with ESMTP id A05194021F for ; Wed, 5 Nov 2025 19:28:36 +0100 (CET) Received: by mail-ua1-f97.google.com with SMTP id a1e0cc1a2514c-8eafd5a7a23so536822241.1 for ; Wed, 05 Nov 2025 10:28:36 -0800 (PST) DKIM-Signature: v=1; a=rsa-sha256; c=relaxed/relaxed; d=iol.unh.edu; s=unh-iol; t=1762367316; x=1762972116; darn=dpdk.org; h=references:in-reply-to:cc:to:from:subject:message-id:date:from:to :cc:subject:date:message-id:reply-to; bh=xoOxO6H+qnX6jqtAVMV4wx5S+fi+u4hk0hdckZe+su0=; b=VT67KumnnLIYbDLc4s+cVHVvkYSnAsPhtpApeNmEGqbbItlFlZev59U9qzDfa7tMh2 1Ws07El+aTinJGSxUnhQv90+vvx2fqJN1iBvSDaQEdS/cnbMg2SdQliQo58tTbL1IKtx SIjWFb8hnM6UU4SuIkqDz/FeNt9nRY13kwc9E= X-Google-DKIM-Signature: v=1; a=rsa-sha256; c=relaxed/relaxed; d=1e100.net; s=20230601; t=1762367316; x=1762972116; h=references:in-reply-to:cc:to:from:subject:message-id:date:x-gm-gg :x-gm-message-state:from:to:cc:subject:date:message-id:reply-to; bh=xoOxO6H+qnX6jqtAVMV4wx5S+fi+u4hk0hdckZe+su0=; b=ZAWmNsyN2aVD9yVLaEHn2JM1ntoSZdOwcLn5Ta8uuLMUdBrqV2ZefzlbW2k8GkXlgV eBgFkcb7+mYWfRPmlxxI9s6c4gt2HQACPTh4/edrV3jdSB7V5P551iMVgcHHyuZwXYny gcEWKxdqK7K8UGNF0ELIot/uwUUpIqlYGISp5Fjz/wNZvixt122j1pyWjDxNnBYTXjvw TxhqiQAMydvoIXkpmpZfOYDufmbbPAYC1xLkMP5X7oN+JGxEqH6ZvbfmGxHr/7JAcNIv C9uY+rw1YQgVVJd2Rsoz0u3ZiVeZsHefGLEkbWD2FrsIsv4PPp3GhxrVD9oBuqUbdvDl Myqg== X-Gm-Message-State: AOJu0Yz0A2UUnmmosEaPhcQOD/Q4sYiGHahuwB0U2r0eB9NPkVQ8pYqY 94qbd/q0vRq6uakK8HI0MWV930DlYsAAiORqLa/wFJOHMPgcFgphqjI6XkWiJcURuForfDIMOVN lcgid+Tzoah0Yv0dqnI8x66MZ8OaEVBYtLQb9hgsmBvoDl/v3EFYetGVFad8u X-Gm-Gg: ASbGncuSAML4bCQtcvZ6Dmhqv5QUgTarZiNDqZmlSwVnI+59Cjn9ox/9ZJICkd5UTgN DdGs6weWln78/lT1dfLjsZ5ox3IHEd/A6P0UF+GS2X9RNJEnq5Fj+nPAJCAqJIzUzQ6z9qQ/nVC RX19CxZoPZKskyD+4kfa/BnyytPorBTZXY/gpH/TRI2EUNNSwNKofAQNbE1Bkdoj59SYPj6OvIF xwzIZIbA3RovbWjFCc76kLJB29TKt+CKFlYIVrZE9B4Iq2+jzqwJRCIG7gGhCJl9PGwXjXRYLWw pkwDamvZzxShXxp+/Q0iPN+nk+1X4NCDOraz4IR58y0SuMAvfAJ/HUXIO1hmhA5e9yu5GhjrNYA 1FIXvwAHq X-Google-Smtp-Source: AGHT+IEENCRWGg1LjnkkZNeU4rp0zwuYILPMke1WLt180YLQPLFqkXHFZXcVhimEK4SI5yUONreE0Mfhe3vo X-Received: by 2002:a05:6102:944:b0:5a5:57f0:f426 with SMTP id ada2fe7eead31-5dd9fcb2d53mr211794137.5.1762367315970; Wed, 05 Nov 2025 10:28:35 -0800 (PST) Received: from postal.iol.unh.edu (postal.iol.unh.edu. [2606:4100:3880:1234::84]) by smtp-relay.gmail.com with ESMTPS id 71dfb90a1353d-559957cf841sm9032e0c.6.2025.11.05.10.28.35 (version=TLS1_2 cipher=ECDHE-ECDSA-AES128-GCM-SHA256 bits=128/128); Wed, 05 Nov 2025 10:28:35 -0800 (PST) X-Relaying-Domain: iol.unh.edu Date: Wed, 05 Nov 2025 10:28:35 -0800 (PST) Message-ID: <690b9753.050a0220.15dd7.087aSMTPIN_ADDED_MISSING@mx.google.com> Received: from [172.21.0.3] (unknown [172.18.0.240]) by postal.iol.unh.edu (Postfix) with ESMTP id 9F93C604D420; Wed, 5 Nov 2025 13:28:35 -0500 (EST) Subject: |SUCCESS| pw158460 [PATCH] [v1] net/mlx5: fix indirect meter index l From: dpdklab@iol.unh.edu To: Test Report Cc: dpdk-test-reports@iol.unh.edu In-Reply-To: <20251105125433.468878-1-rongweil@nvidia.com> References: <20251105125433.468878-1-rongweil@nvidia.com> Content-Type: text/plain X-BeenThere: test-report@dpdk.org X-Mailman-Version: 2.1.29 Precedence: list List-Id: automatic DPDK test reports List-Unsubscribe: , List-Archive: List-Post: List-Help: List-Subscribe: , Errors-To: test-report-bounces@dpdk.org Test-Label: iol-compile-amd64-testing Test-Status: SUCCESS http://dpdk.org/patch/158460 _Testing PASS_ Submitter: Rongwei Liu Date: Wednesday, November 05 2025 12:54:33 DPDK git baseline: Repo:dpdk-next-net-mlx Branch: master CommitID:f1c1f82f2421be9ac2f46b4ec2a616ca28da4ca7 158460 --> testing pass Upstream job id: Windows-Compile-DPDK-Native#32139 Test environment and result as below: +-------------------------------+--------------------+------------------+-------------------+-------------------------+ | Environment | dpdk_meson_compile | dpdk_compile_ovs | dpdk_msvc_compile | dpdk_llvm_clang_compile | +===============================+====================+==================+===================+=========================+ | FreeBSD 14.2 | PASS | SKIPPED | SKIPPED | SKIPPED | +-------------------------------+--------------------+------------------+-------------------+-------------------------+ | Debian GNU/Linux 12 | PASS | SKIPPED | SKIPPED | SKIPPED | +-------------------------------+--------------------+------------------+-------------------+-------------------------+ | CentOS Stream 10 | PASS | SKIPPED | SKIPPED | SKIPPED | +-------------------------------+--------------------+------------------+-------------------+-------------------------+ | CentOS Stream 9 | PASS | SKIPPED | SKIPPED | SKIPPED | +-------------------------------+--------------------+------------------+-------------------+-------------------------+ | Fedora Linux 42 | PASS | PASS | SKIPPED | SKIPPED | +-------------------------------+--------------------+------------------+-------------------+-------------------------+ | Red Hat Enterprise Linux 8.10 | PASS | SKIPPED | SKIPPED | SKIPPED | +-------------------------------+--------------------+------------------+-------------------+-------------------------+ | openSUSE Leap 15.6 | PASS | SKIPPED | SKIPPED | SKIPPED | +-------------------------------+--------------------+------------------+-------------------+-------------------------+ | Ubuntu 20.04 | PASS | SKIPPED | SKIPPED | SKIPPED | +-------------------------------+--------------------+------------------+-------------------+-------------------------+ | Ubuntu 24.04 | PASS | PASS | SKIPPED | SKIPPED | +-------------------------------+--------------------+------------------+-------------------+-------------------------+ | Ubuntu 22.04 | PASS | SKIPPED | SKIPPED | SKIPPED | +-------------------------------+--------------------+------------------+-------------------+-------------------------+ | Alpine Linux 3.22.0 | PASS | SKIPPED | SKIPPED | SKIPPED | +-------------------------------+--------------------+------------------+-------------------+-------------------------+ | Red Hat Enterprise Linux 9.5 | PASS | SKIPPED | SKIPPED | SKIPPED | +-------------------------------+--------------------+------------------+-------------------+-------------------------+ | Windows Server 2022 | SKIPPED | SKIPPED | PASS | PASS | +-------------------------------+--------------------+------------------+-------------------+-------------------------+ FreeBSD 14.2 Kernel: 14.2-RELEASE Compiler: clang 18.1.6 Debian GNU/Linux 12 Kernel: 5.15 Compiler: gcc gcc (Debian 12.2.0-14+deb12u1) 12.2.0 CentOS Stream 10 Kernel: 5.15 Compiler: gcc gcc (GCC) 14.2.1 20250110 (Red Hat 14.2.1-8) CentOS Stream 9 Kernel: 5.15 Compiler: gcc gcc (GCC) 11.5.0 20240719 (Red Hat 11.5.0-11) Fedora Linux 42 Kernel: 5.15 Compiler: clang gcc (GCC) 15.2.1 20250808 (Red Hat 15.2.1-1) Red Hat Enterprise Linux 8.10 Kernel: 5.15 Compiler: gcc gcc (GCC) 8.5.0 20210514 (Red Hat 8.5.0-22) openSUSE Leap 15.6 Kernel: 5.15 Compiler: gcc gcc (SUSE Linux) 7.5.0 Ubuntu 20.04 Kernel: 5.15 Compiler: gcc gcc (Ubuntu 9.4.0-1ubuntu1~20.04.2) 9.4.0 Ubuntu 24.04 Kernel: 5.15 Compiler: gcc gcc (Ubuntu 13.3.0-6ubuntu2~24.04) 13.3.0 Ubuntu 22.04 Kernel: 5.15 Compiler: gcc gcc (Ubuntu 11.4.0-1ubuntu1~22.04) 11.4.0 Alpine Linux 3.22.0 Kernel: 5.15 Compiler: gcc gcc (Alpine 14.2.0) 14.2.0 Red Hat Enterprise Linux 9.5 Kernel: 5.15 Compiler: gcc gcc (GCC) 11.5.0 20240719 (Red Hat 11.5.0-2) Windows Server 2022 Kernel: 10.0.20348.2031 Compiler: clang 15.0.7, gcc 14.1.0 (MinGW), and MSVC VS 19.39.33521 To view detailed results, visit: https://lab.dpdk.org/results/dashboard/patchsets/34473/ UNH-IOL DPDK Community Lab To manage your email subscriptions, visit: https://lab.dpdk.org/results/dashboard/preferences/subscriptions/