From mboxrd@z Thu Jan 1 00:00:00 1970 Return-Path: Received: from mails.dpdk.org (mails.dpdk.org [217.70.189.124]) by inbox.dpdk.org (Postfix) with ESMTP id AF11A48A76 for ; Wed, 5 Nov 2025 19:38:29 +0100 (CET) Received: from mails.dpdk.org (localhost [127.0.0.1]) by mails.dpdk.org (Postfix) with ESMTP id AB3714021F; Wed, 5 Nov 2025 19:38:29 +0100 (CET) Received: from mail-pl1-f227.google.com (mail-pl1-f227.google.com [209.85.214.227]) by mails.dpdk.org (Postfix) with ESMTP id 6D0584021F for ; Wed, 5 Nov 2025 19:38:28 +0100 (CET) Received: by mail-pl1-f227.google.com with SMTP id d9443c01a7336-295f937d4c3so1304735ad.3 for ; Wed, 05 Nov 2025 10:38:28 -0800 (PST) DKIM-Signature: v=1; a=rsa-sha256; c=relaxed/relaxed; d=iol.unh.edu; s=unh-iol; t=1762367907; x=1762972707; darn=dpdk.org; h=references:in-reply-to:cc:to:from:subject:message-id:date:from:to :cc:subject:date:message-id:reply-to; bh=MqsP6mPu8VvLzV86L6C1bpZadNeun5qjpzkBoXcCldM=; b=HJZ+0gVP8p7YW7u262lrYQj1KRXEpRRMmhIaexfYJDscgKQ4zSdrnKbT1RlKmMxbEZ DR55fOQ1c86VPVvd1vo7lfl4qfcKwvUtacKQIzp9SfyM18QnArBwnlPb9XrapjF65spN I/csgRFmektF/LDeLFT5fnKAUqvTh0B6TY4eQ= X-Google-DKIM-Signature: v=1; a=rsa-sha256; c=relaxed/relaxed; d=1e100.net; s=20230601; t=1762367907; x=1762972707; h=references:in-reply-to:cc:to:from:subject:message-id:date :x-gm-message-state:from:to:cc:subject:date:message-id:reply-to; bh=MqsP6mPu8VvLzV86L6C1bpZadNeun5qjpzkBoXcCldM=; b=fwMlqjJ8FA3VB8q9ercMPcQc4O8BRR838iz48rUnLT1SxPb1YvgQR21hCml1sobM81 yyh8GhZYarZhggbPKFgWgmkF31w5qGCWCZ71c0ugyQ992MQy5ryxtSifMQ74g5euwLq7 VYApLCy9RcyHQZZwsZB01fE1ld6jS+HZOwQRtXMF1uXXEUkB8nWH4RyLLdiy3U4yQnUz VvIHPTy+8ub4277i2TxuSM0ILNun0UhQkOrhysWPVcW7hH3a23Jafp6gUC4jFym8rgaX BaOP1IxK4RWOYCcgwFIwV59zC+V4HjNLBXjQv1Iz23qQUrcG28kt5EVSO1tw535H1tOU iFcw== X-Gm-Message-State: AOJu0YyZchWj2HdbaQG00eMgEqA0WpLXfR8FgzLG9QxPMxm467Zjam6p WSKgyx344OU8Q2amqF6lII91c3vTZDpKxzeZtv8ZnElHZKXVtHfC0W5mB1hXCO/EwC8/nGbHyNJ 0slUI5WqdHsMiGltpaAtcMGW2/c6/Amf9U1KQgbaAQfRlYQMVVOcEwzgbov0S X-Gm-Gg: ASbGncvIcA2dSB4lLwmxiT6PCBGa6hJsbIGBq9SGaiIpfbrmUzCQXfMnD99j1T1xDLh UCs0dCVw+z7Qy0+iMsPQSKNlso4+rJYjK3Gm8sAwkHGk77dzO1YSNu6hBhMnOnBMflUBib8fkJi d4Q8g7aIjHkcCDEdkDRTpH0IV/jk9tnftL9Q8jztGfwfgMfW+LeKYVQ/sI7OA0cInbP6QVJwU8y JIUreRUXLTdB7c+D4NgeRYnD9NmhxEsCAkn8OHM8N1fVOTZsSqIOX5/bVUGue8XRTzEQFbPN0sU tqcCFNEuv1Sc/fuRpQ5pfvLY2DEkDb34YjtOgYEEY2/i1NW0HJ/sfuCqEtO50AoubbcKDdhIo6t kcF7xcci5 X-Google-Smtp-Source: AGHT+IEngXp2oIw39aYSxht34+7lWHorPZw0PeZDN4snbizwBMuz90MZsH9XQFg/1oHPI9d0xYyz5witipR5 X-Received: by 2002:a17:902:e5d0:b0:295:592e:7633 with SMTP id d9443c01a7336-2962ad98cf8mr64823975ad.29.1762367907589; Wed, 05 Nov 2025 10:38:27 -0800 (PST) Received: from postal.iol.unh.edu (postal.iol.unh.edu. [2606:4100:3880:1234::84]) by smtp-relay.gmail.com with ESMTPS id d9443c01a7336-2965096e4b1sm229155ad.9.2025.11.05.10.38.27 (version=TLS1_2 cipher=ECDHE-ECDSA-AES128-GCM-SHA256 bits=128/128); Wed, 05 Nov 2025 10:38:27 -0800 (PST) X-Relaying-Domain: iol.unh.edu Date: Wed, 05 Nov 2025 10:38:27 -0800 (PST) Message-ID: <690b99a3.170a0220.15d943.1523SMTPIN_ADDED_MISSING@mx.google.com> Received: from [172.21.0.3] (unknown [172.18.0.240]) by postal.iol.unh.edu (Postfix) with ESMTP id BBC19604D420; Wed, 5 Nov 2025 13:38:26 -0500 (EST) Subject: |SUCCESS| pw158468-158472 [PATCH] [v2,5/5] net/mlx5: support count a From: dpdklab@iol.unh.edu To: Test Report Cc: dpdk-test-reports@iol.unh.edu In-Reply-To: <20251105165258.1396352-6-dsosnowski@nvidia.com> References: <20251105165258.1396352-6-dsosnowski@nvidia.com> Content-Type: text/plain X-BeenThere: test-report@dpdk.org X-Mailman-Version: 2.1.29 Precedence: list List-Id: automatic DPDK test reports List-Unsubscribe: , List-Archive: List-Post: List-Help: List-Subscribe: , Errors-To: test-report-bounces@dpdk.org Test-Label: iol-unit-amd64-testing Test-Status: SUCCESS http://dpdk.org/patch/158472 _Testing PASS_ Submitter: Dariusz Sosnowski Date: Wednesday, November 05 2025 16:52:58 DPDK git baseline: Repo:dpdk-next-net-mlx Branch: master CommitID:f1c1f82f2421be9ac2f46b4ec2a616ca28da4ca7 158468-158472 --> testing pass Upstream job id: Generic-VM-Unit-Test-DPDK#32321 Test environment and result as below: +-------------------------------+----------------+ | Environment | dpdk_unit_test | +===============================+================+ | CentOS Stream 9 | PASS | +-------------------------------+----------------+ | Debian GNU/Linux 12 | PASS | +-------------------------------+----------------+ | Fedora Linux 40 | PASS | +-------------------------------+----------------+ | CentOS Stream 10 | PASS | +-------------------------------+----------------+ | Fedora Linux 42 | PASS | +-------------------------------+----------------+ | Fedora Linux 41 | PASS | +-------------------------------+----------------+ | Ubuntu 22.04 | PASS | +-------------------------------+----------------+ | Ubuntu 24.04 | PASS | +-------------------------------+----------------+ | Red Hat Enterprise Linux 8.10 | PASS | +-------------------------------+----------------+ | Red Hat Enterprise Linux 9.5 | PASS | +-------------------------------+----------------+ | Ubuntu 20.04 | PASS | +-------------------------------+----------------+ | Windows Server 2022 | PASS | +-------------------------------+----------------+ CentOS Stream 9 Kernel: 5.15 Compiler: gcc gcc (GCC) 11.5.0 20240719 (Red Hat 11.5.0-11) Debian GNU/Linux 12 Kernel: 5.15 Compiler: gcc gcc (Debian 12.2.0-14+deb12u1) 12.2.0 Fedora Linux 40 Kernel: 5.15 Compiler: clang gcc (GCC) 14.2.1 20240912 (Red Hat 14.2.1-3) CentOS Stream 10 Kernel: 5.15 Compiler: gcc gcc (GCC) 14.2.1 20250110 (Red Hat 14.2.1-8) Fedora Linux 42 Kernel: 5.15 Compiler: gcc gcc (GCC) 15.2.1 20250808 (Red Hat 15.2.1-1) Fedora Linux 41 Kernel: 5.15 Compiler: clang gcc (GCC) 14.3.1 20250523 (Red Hat 14.3.1-1) Ubuntu 22.04 Kernel: 5.15 Compiler: gcc gcc (Ubuntu 11.4.0-1ubuntu1~22.04) 11.4.0 Ubuntu 24.04 Kernel: 5.15 Compiler: gcc gcc (Ubuntu 13.3.0-6ubuntu2~24.04) 13.3.0 Red Hat Enterprise Linux 8.10 Kernel: 5.15 Compiler: gcc gcc (GCC) 8.5.0 20210514 (Red Hat 8.5.0-22) Red Hat Enterprise Linux 9.5 Kernel: 5.15 Compiler: gcc gcc (GCC) 11.5.0 20240719 (Red Hat 11.5.0-2) Ubuntu 20.04 Kernel: 5.15 Compiler: gcc gcc (Ubuntu 9.4.0-1ubuntu1~20.04.2) 9.4.0 Windows Server 2022 Kernel: 10.0.20348.2031 Compiler: clang 15.0.7, gcc 14.1.0 (MinGW), and MSVC VS 19.39.33521 To view detailed results, visit: https://lab.dpdk.org/results/dashboard/patchsets/34477/ UNH-IOL DPDK Community Lab To manage your email subscriptions, visit: https://lab.dpdk.org/results/dashboard/preferences/subscriptions/