From mboxrd@z Thu Jan 1 00:00:00 1970 Return-Path: Received: from mails.dpdk.org (mails.dpdk.org [217.70.189.124]) by inbox.dpdk.org (Postfix) with ESMTP id 215E648A76 for ; Wed, 5 Nov 2025 19:51:17 +0100 (CET) Received: from mails.dpdk.org (localhost [127.0.0.1]) by mails.dpdk.org (Postfix) with ESMTP id 1BBEE4021F; Wed, 5 Nov 2025 19:51:17 +0100 (CET) Received: from mail-ot1-f98.google.com (mail-ot1-f98.google.com [209.85.210.98]) by mails.dpdk.org (Postfix) with ESMTP id DBA9C4021F for ; Wed, 5 Nov 2025 19:51:15 +0100 (CET) Received: by mail-ot1-f98.google.com with SMTP id 46e09a7af769-7c2878bdf27so42841a34.2 for ; Wed, 05 Nov 2025 10:51:15 -0800 (PST) DKIM-Signature: v=1; a=rsa-sha256; c=relaxed/relaxed; d=iol.unh.edu; s=unh-iol; t=1762368675; x=1762973475; darn=dpdk.org; h=references:in-reply-to:cc:to:from:subject:message-id:date:from:to :cc:subject:date:message-id:reply-to; bh=mAQ882FSE2A2FAellWFGa0lCE0B1/QGRFGH3m4YquOA=; b=YKOGZjyHo/HHiqJQlfDScjxgkkzCAPq8baK1McjrlSKPssNXhOPVXzTBtugyx88tM2 5WsfRdUZ6v+RCYC/WEphfuSex035hB+kudR7I8HgAuSQSWSLIpg/PR2ppZQZBIfvaFg2 nG9DsWm2es45bIgSBzskiNpN3gBfHKNR8A9Sk= X-Google-DKIM-Signature: v=1; a=rsa-sha256; c=relaxed/relaxed; d=1e100.net; s=20230601; t=1762368675; x=1762973475; h=references:in-reply-to:cc:to:from:subject:message-id:date :x-gm-message-state:from:to:cc:subject:date:message-id:reply-to; bh=mAQ882FSE2A2FAellWFGa0lCE0B1/QGRFGH3m4YquOA=; b=XvzRiozCkeQoYJdZ9xvqLir3i+mlu6rNfola40VBlKqbPZHXKNcjkQDav1QpfGpBsH cJ+AjiN19uR0PLlodo/w2dJtj1skgxOoo/k+Cqfit8122SlEKDdbP9yPLH/8e1xSA9sN EbuLkEfNt1pCzcPIv/D8Q6YzJMbRGumUPMQDZN9ti8ClLvNJETxU2QrroK0r7CYtOvc7 dQEB8/060mCZEd8htp0XasDMpOjzTSkualYZRNIxBuhozxXnpCYL63gfsMbvYZl5R8oW fQ5hGgeAQTfPN2gR90can3DY1iCoJT4IGv+5Pad0WliVWDYM+AUnzXZ51gTPFZrOmdli aXFg== X-Gm-Message-State: AOJu0Yz/fFntaC6e649wqSDifJkv3XrWFMaHgDKnialvtZO0zvMEsnpl RqI495l93ZFBFdM40FUW1yuvfkw7zaNCdbcK8yx7gXjnatC8ea0y4Yf4hdeCC3Mq1z9Y6fnFRwp oXHpVjs+hd6t/zzQcjMg4MEUOOqIQL3hqVkJzCn4VeZqZ X-Gm-Gg: ASbGncsaCwQES8j+pSmlAFKk54Vk3wAf/k3AMnB79K93rJzIeEEYc+H4GCPXE4n0MT9 l8M0C1KQdLd/+/7O6QQq2C690kAPYBMwwewBjt6ba+kFhLIcRdHWMzXdz4nXlQGaLzybhKX4Tt6 E3OP4+P8KYKdW9/yJIORfcRVxxndhlo/xtxqOoAruz8sqaSplHgIICS2el6BFw1hteQ3PyZ8IJ8 gtJhSXPkBnR8bUU+NifqSUJkgHwJTtgYRoLWkuMhE7hyyfGURRHCRyVdkriF5e0cQapbb/rEX7O O6wCXauSauhiF0GHyJZRo+LULEAAFKobTgi9kFEImdNbhzl+TJaSdZ1FV/mvQLvM+HvHtZFOXRA PeWkFGPBjsWCdCcEM8UKtHGeiBScfD9U= X-Google-Smtp-Source: AGHT+IEQu7SpCezMxyuTJojojP9scEN2eBPT1uBbqJ71da3Abr8dMr0YxjsM0RILYxucL6awmn4Y1jr56E5h X-Received: by 2002:a05:6808:2386:b0:441:8f74:e95 with SMTP id 5614622812f47-44fed4fce16mr1958824b6e.63.1762368675085; Wed, 05 Nov 2025 10:51:15 -0800 (PST) Received: from postal.iol.unh.edu (postal.iol.unh.edu. [132.177.123.84]) by smtp-relay.gmail.com with ESMTPS id 006d021491bc7-656c565bc37sm2917eaf.1.2025.11.05.10.51.15 (version=TLS1_2 cipher=ECDHE-ECDSA-AES128-GCM-SHA256 bits=128/128); Wed, 05 Nov 2025 10:51:15 -0800 (PST) X-Relaying-Domain: iol.unh.edu Date: Wed, 05 Nov 2025 10:51:15 -0800 (PST) Message-ID: <690b9ca3.050a0220.3b215e.028fSMTPIN_ADDED_MISSING@mx.google.com> Received: from [172.21.0.3] (unknown [172.18.0.240]) by postal.iol.unh.edu (Postfix) with ESMTP id 14A106051830; Wed, 5 Nov 2025 13:51:14 -0500 (EST) Subject: |SUCCESS| pw158468-158472 [PATCH] [v2,5/5] net/mlx5: support count a From: dpdklab@iol.unh.edu To: Test Report Cc: dpdk-test-reports@iol.unh.edu In-Reply-To: <20251105165258.1396352-6-dsosnowski@nvidia.com> References: <20251105165258.1396352-6-dsosnowski@nvidia.com> Content-Type: text/plain X-BeenThere: test-report@dpdk.org X-Mailman-Version: 2.1.29 Precedence: list List-Id: automatic DPDK test reports List-Unsubscribe: , List-Archive: List-Post: List-Help: List-Subscribe: , Errors-To: test-report-bounces@dpdk.org Test-Label: iol-unit-amd64-testing Test-Status: SUCCESS http://dpdk.org/patch/158472 _Testing PASS_ Submitter: Dariusz Sosnowski Date: Wednesday, November 05 2025 16:52:58 DPDK git baseline: Repo:dpdk-next-net-mlx Branch: master CommitID:f1c1f82f2421be9ac2f46b4ec2a616ca28da4ca7 158468-158472 --> testing pass Upstream job id: Generic-VM-Unit-Test-DPDK#32322 Test environment and result as below: +-------------------------------+----------------+ | Environment | dpdk_unit_test | +===============================+================+ | CentOS Stream 9 | PASS | +-------------------------------+----------------+ | Debian GNU/Linux 12 | PASS | +-------------------------------+----------------+ | Fedora Linux 40 | PASS | +-------------------------------+----------------+ | CentOS Stream 10 | PASS | +-------------------------------+----------------+ | Fedora Linux 42 | PASS | +-------------------------------+----------------+ | Fedora Linux 41 | PASS | +-------------------------------+----------------+ | Ubuntu 22.04 | PASS | +-------------------------------+----------------+ | Ubuntu 24.04 | PASS | +-------------------------------+----------------+ | Red Hat Enterprise Linux 8.10 | PASS | +-------------------------------+----------------+ | Red Hat Enterprise Linux 9.5 | PASS | +-------------------------------+----------------+ | Ubuntu 20.04 | PASS | +-------------------------------+----------------+ | Windows Server 2022 | PASS | +-------------------------------+----------------+ CentOS Stream 9 Kernel: 5.15 Compiler: gcc gcc (GCC) 11.5.0 20240719 (Red Hat 11.5.0-11) Debian GNU/Linux 12 Kernel: 5.15 Compiler: gcc gcc (Debian 12.2.0-14+deb12u1) 12.2.0 Fedora Linux 40 Kernel: 5.15 Compiler: clang gcc (GCC) 14.2.1 20240912 (Red Hat 14.2.1-3) CentOS Stream 10 Kernel: 5.15 Compiler: gcc gcc (GCC) 14.2.1 20250110 (Red Hat 14.2.1-8) Fedora Linux 42 Kernel: 5.15 Compiler: gcc gcc (GCC) 15.2.1 20250808 (Red Hat 15.2.1-1) Fedora Linux 41 Kernel: 5.15 Compiler: clang gcc (GCC) 14.3.1 20250523 (Red Hat 14.3.1-1) Ubuntu 22.04 Kernel: 5.15 Compiler: gcc gcc (Ubuntu 11.4.0-1ubuntu1~22.04) 11.4.0 Ubuntu 24.04 Kernel: 5.15 Compiler: gcc gcc (Ubuntu 13.3.0-6ubuntu2~24.04) 13.3.0 Red Hat Enterprise Linux 8.10 Kernel: 5.15 Compiler: gcc gcc (GCC) 8.5.0 20210514 (Red Hat 8.5.0-22) Red Hat Enterprise Linux 9.5 Kernel: 5.15 Compiler: gcc gcc (GCC) 11.5.0 20240719 (Red Hat 11.5.0-2) Ubuntu 20.04 Kernel: 5.15 Compiler: gcc gcc (Ubuntu 9.4.0-1ubuntu1~20.04.2) 9.4.0 Windows Server 2022 Kernel: 10.0.20348.2031 Compiler: clang 15.0.7, gcc 14.1.0 (MinGW), and MSVC VS 19.39.33521 To view detailed results, visit: https://lab.dpdk.org/results/dashboard/patchsets/34477/ UNH-IOL DPDK Community Lab To manage your email subscriptions, visit: https://lab.dpdk.org/results/dashboard/preferences/subscriptions/