From mboxrd@z Thu Jan 1 00:00:00 1970 Return-Path: Received: from mails.dpdk.org (mails.dpdk.org [217.70.189.124]) by inbox.dpdk.org (Postfix) with ESMTP id 713D348A77 for ; Wed, 5 Nov 2025 20:02:37 +0100 (CET) Received: from mails.dpdk.org (localhost [127.0.0.1]) by mails.dpdk.org (Postfix) with ESMTP id 55D074021F; Wed, 5 Nov 2025 20:02:37 +0100 (CET) Received: from mail-il1-f228.google.com (mail-il1-f228.google.com [209.85.166.228]) by mails.dpdk.org (Postfix) with ESMTP id 31DD34060A for ; Wed, 5 Nov 2025 20:02:35 +0100 (CET) Received: by mail-il1-f228.google.com with SMTP id e9e14a558f8ab-43320988dcfso478795ab.3 for ; Wed, 05 Nov 2025 11:02:35 -0800 (PST) DKIM-Signature: v=1; a=rsa-sha256; c=relaxed/relaxed; d=iol.unh.edu; s=unh-iol; t=1762369354; x=1762974154; darn=dpdk.org; h=references:in-reply-to:cc:to:from:subject:message-id:date:from:to :cc:subject:date:message-id:reply-to; bh=QnYSc/CiuwUGwzB9qS7BAigiLvGNL+OA4wVUMAKP9yY=; b=L406FjqQorNvmj0WDFafCCJybD+bAw4LAxLqSP3MB0d+7z/zL0AWarL8mA5qrGIxyK rcgQgSDtoHDJ8Q2Wa3xfHWp7gTlNA5mDRf7DaSbIkM0svePQbNBhYDTkyTFbH5hzMUbz B2V5MYMLK0eUybLixUvkQrNGSf1XazzoKeN+E= X-Google-DKIM-Signature: v=1; a=rsa-sha256; c=relaxed/relaxed; d=1e100.net; s=20230601; t=1762369354; x=1762974154; h=references:in-reply-to:cc:to:from:subject:message-id:date :x-gm-message-state:from:to:cc:subject:date:message-id:reply-to; bh=QnYSc/CiuwUGwzB9qS7BAigiLvGNL+OA4wVUMAKP9yY=; b=uen4Hn8JJzo539KAvy32tuhaRZb8TUj8xPPa9xRufABIl1Q5tyPVw4roj7OzRXhvJY ROp4No95kYPWM3SCSxf3PVaIPjqUlKZrB2zF4ykhoSORakc54p3Kls0Z8uPHaPPkYsHO 1jddiKciHDwmqZlZfFMpn1cKqgkdgjeP6JU8LpDqF+CTQZu6WpR78tkDMMXncbZQDATX AAonU+K8YrAueORdIrnsIF6CtDZMTT9DEf7Eh7VVFgmYn5nN8WZo45O3NzMd19N0kiHl 0FtRiyoau67bjhZuZ+mhovRsFEuygOxttFPPo6Sw8B2ZM8hcTfQqANR3Mm+cvYJMknFu qtvQ== X-Gm-Message-State: AOJu0Yzdvtjna99edHvOYGrrq4UOrg42fihwsMM9960oNtkPQAYWDDmm EEuz2j/9waA84MGoDcb14lImZsVweTs8MAfr6CVkXKePmNcaWwJmbd8kg0e709ouqpqBNuX80Fc P2SAZM8mdOKfQlceix/ocdGMJsZtjKVsYKMJ1aySmys6A X-Gm-Gg: ASbGncvv6ytdboo9iz+cfj/CVDuRWb9DWwzZjcW+5v6mIMetSqLD7IOwjU8M7/7qVqK HfEqEg31m9en8B6ajFXpPJSrHeELLE0XSAalQ07bWu4YuTsLIPcpSBGcWtL2hK1bwWjlah447LH 1ZECGityxIWtxixFuMJNxxhN4jJQP8FPLyx7Q+JDfSWqB21ZVAQzvANYsDd0Flw/kh+GXMbxZlS DO9WjHkKMeiwevAjnbc3iQjyGWZEVgBxXXumlk3jbOAhAcDSIWHeUBb+pznpzaSFL3vhgLjpvgF 3WTB8rZGZlWo6XKV9QPJ3q6c7iF/R0isQBZCbFVEaIlMMs9J8iafis+J2fKfqHYkPxey7QgQ4PV sO1ZWpBsDxEJuYp2A+RE92TIuO0R4vdE= X-Google-Smtp-Source: AGHT+IFHE3RllDrlTNtrb/V+AS7t/3nuLfT8xK2/oJkFBuWbOv3+WdR2LNC37XV5oOBPEofhMUm3+GWKce/a X-Received: by 2002:a05:6e02:3182:b0:433:27c1:75c4 with SMTP id e9e14a558f8ab-433407dac54mr70156975ab.31.1762369354346; Wed, 05 Nov 2025 11:02:34 -0800 (PST) Received: from postal.iol.unh.edu (postal.iol.unh.edu. [132.177.123.84]) by smtp-relay.gmail.com with ESMTPS id e9e14a558f8ab-4334f44a14asm135635ab.4.2025.11.05.11.02.34 (version=TLS1_2 cipher=ECDHE-ECDSA-AES128-GCM-SHA256 bits=128/128); Wed, 05 Nov 2025 11:02:34 -0800 (PST) X-Relaying-Domain: iol.unh.edu Date: Wed, 05 Nov 2025 11:02:34 -0800 (PST) Message-ID: <690b9f4a.050a0220.16712c.0c9fSMTPIN_ADDED_MISSING@mx.google.com> Received: from [172.21.0.5] (unknown [172.18.0.240]) by postal.iol.unh.edu (Postfix) with ESMTP id ECF036051830; Wed, 5 Nov 2025 14:02:33 -0500 (EST) Subject: |SUCCESS| pw158460 [PATCH] [v1] net/mlx5: fix indirect meter index l From: dpdklab@iol.unh.edu To: Test Report Cc: dpdk-test-reports@iol.unh.edu In-Reply-To: <20251105125433.468878-1-rongweil@nvidia.com> References: <20251105125433.468878-1-rongweil@nvidia.com> Content-Type: text/plain X-BeenThere: test-report@dpdk.org X-Mailman-Version: 2.1.29 Precedence: list List-Id: automatic DPDK test reports List-Unsubscribe: , List-Archive: List-Post: List-Help: List-Subscribe: , Errors-To: test-report-bounces@dpdk.org Test-Label: iol-compile-arm64-testing Test-Status: SUCCESS http://dpdk.org/patch/158460 _Testing PASS_ Submitter: Rongwei Liu Date: Wednesday, November 05 2025 12:54:33 DPDK git baseline: Repo:dpdk-next-net-mlx Branch: master CommitID:f1c1f82f2421be9ac2f46b4ec2a616ca28da4ca7 158460 --> testing pass Upstream job id: Generic-DPDK-Compile-Meson#441059 Test environment and result as below: +------------------------------+--------------------+ | Environment | dpdk_meson_compile | +==============================+====================+ | Fedora Linux 42 | PASS | +------------------------------+--------------------+ | Ubuntu 24.04 | PASS | +------------------------------+--------------------+ | Ubuntu 20.04 | PASS | +------------------------------+--------------------+ | Debian GNU/Linux 12 | PASS | +------------------------------+--------------------+ | Red Hat Enterprise Linux 9.5 | PASS | +------------------------------+--------------------+ | Ubuntu 22.04 | PASS | +------------------------------+--------------------+ | CentOS Stream 10 | PASS | +------------------------------+--------------------+ | CentOS Stream 9 | PASS | +------------------------------+--------------------+ Fedora Linux 42 Kernel: 5.4 Compiler: gcc gcc (GCC) 15.2.1 20250808 (Red Hat 15.2.1-1) Ubuntu 24.04 Kernel: 5.4 Compiler: gcc gcc (Ubuntu 13.3.0-6ubuntu2~24.04) 13.3.0 Ubuntu 20.04 Kernel: 5.15 Compiler: aarch64-linux-gnu-gcc gcc (Ubuntu 9.4.0-1ubuntu1~20.04.2) 9.4.0 Debian GNU/Linux 12 Kernel: 5.4 Compiler: gcc gcc (Debian 12.2.0-14+deb12u1) 12.2.0 Red Hat Enterprise Linux 9.5 Kernel: 5.4 Compiler: gcc gcc (GCC) 11.5.0 20240719 (Red Hat 11.5.0-2) Ubuntu 22.04 Kernel: 5.4 Compiler: gcc gcc (Ubuntu 11.4.0-1ubuntu1~22.04) 11.4.0 CentOS Stream 10 Kernel: 5.4 Compiler: gcc gcc (GCC) 14.2.1 20250110 (Red Hat 14.2.1-8) CentOS Stream 9 Kernel: 5.4 Compiler: gcc gcc (GCC) 11.5.0 20240719 (Red Hat 11.5.0-11) To view detailed results, visit: https://lab.dpdk.org/results/dashboard/patchsets/34473/ UNH-IOL DPDK Community Lab To manage your email subscriptions, visit: https://lab.dpdk.org/results/dashboard/preferences/subscriptions/