From mboxrd@z Thu Jan 1 00:00:00 1970 Return-Path: Received: from mails.dpdk.org (mails.dpdk.org [217.70.189.124]) by inbox.dpdk.org (Postfix) with ESMTP id 2C4D748A77 for ; Wed, 5 Nov 2025 20:14:19 +0100 (CET) Received: from mails.dpdk.org (localhost [127.0.0.1]) by mails.dpdk.org (Postfix) with ESMTP id 220D9402E6; Wed, 5 Nov 2025 20:14:19 +0100 (CET) Received: from mail-yx1-f99.google.com (mail-yx1-f99.google.com [74.125.224.99]) by mails.dpdk.org (Postfix) with ESMTP id 4105C402E6 for ; Wed, 5 Nov 2025 20:14:17 +0100 (CET) Received: by mail-yx1-f99.google.com with SMTP id 956f58d0204a3-63e1e1bf882so188037d50.1 for ; Wed, 05 Nov 2025 11:14:17 -0800 (PST) DKIM-Signature: v=1; a=rsa-sha256; c=relaxed/relaxed; d=iol.unh.edu; s=unh-iol; t=1762370056; x=1762974856; darn=dpdk.org; h=references:in-reply-to:cc:to:from:subject:message-id:date:from:to :cc:subject:date:message-id:reply-to; bh=YTeiuhu0TWo7bFwPh91DXfPnf3IA2zLvRn2bZRCaJU8=; b=UHRW/Yl0V2UtTLpjsvic1eT7NEE/l46xfjKeumAVNdbPH+Nqx608RzEXgMUigDNIzN 04LJMCg7gzWO2GWeZ2152C9h2ADsv6k+T0oXbr/mWJu7zMLPn5g1cz5f/1QtVDt5O003 xQaKl/5e0XiuNEOyrBVMSd5RgnOmkYwE0c3XI= X-Google-DKIM-Signature: v=1; a=rsa-sha256; c=relaxed/relaxed; d=1e100.net; s=20230601; t=1762370056; x=1762974856; h=references:in-reply-to:cc:to:from:subject:message-id:date :x-gm-message-state:from:to:cc:subject:date:message-id:reply-to; bh=YTeiuhu0TWo7bFwPh91DXfPnf3IA2zLvRn2bZRCaJU8=; b=q2D54KGk3vbB7vdduTJiGYfNfOEx8Oxqw8q26dNyGB4fEo7p3DiIfG1kaX5QQajKxX ATcIj0wd16PqWylJcEQfLFCJYFBVaZRgcacPKpI8WHMRXq1Pebz7PrlvY8zCETkK+vzS m1U41pw6nnUbit27SNHzs8yyuUm88Vwodnn5KCK+npqA4lCWK5sI86qNCHXxIS8ePpts Qe8mZ/C99hhBhzXniJYeqUYQhgorMaLfuxIj4oa/Lp+U62FHQ11MkY6TaTab+1g0Axm+ 2z+OiHRLt94tmxkdAAWA27zjcbAHQBGR+Te0A0l/1cjNKB09ytAXqdmBUQY/nZQLUdH0 RqxA== X-Gm-Message-State: AOJu0Yw9XUtKRriFxEm851WLAWwbyRbU/TvJTH29orcebU3Gps258cyd oKTri0iqIJgyiI47K6I1c+U0TzfOYDp1RsZEBUjLA3jbDtLKw4tD/TUrD/ZAjQE/6PY6riDmO9z oZzbZV0kIqhCMjBOk2YejTw4TT7tnVXFuhBdOAg+0qMUxKaOSx6FG518Ck7OE X-Gm-Gg: ASbGnctkqXvXdVY7kB+A9Gyvg3a/RlJES8QgKRQIj5aUW01IgeOphO7lowSh+P6lz8l mi5E6z/ra7UThaNQB9HiS6Fvxe9Xx88AnboDEiVRWB2/Mkx2LNDmScBhxqzmcSaMQlN6z9D+CcM DxUKcS/aLS6dfy8jJeLO8r7NssDwTOjUh+XnqumsVhCbNLU/h+aIt8HXQSqAIsOfwZ+h3i6phfp b5rJ4NN5n+AEJpF23rGqp+twoGVj/2lcLuF60YxyXg2h9EoGmg7Da7EtBVYfdFucAg3aNAEQpV2 Nk1epbEKkB6u525NNHXRN3Bp54qNo2PECOwr0QMoyDyvRRSkXUKtkirkVJp0c1U8HVyfQwhoQaX meVlgL2mU X-Google-Smtp-Source: AGHT+IEl90/8ZWyHPYXVKx9k8czPWFolOHKsKYYRG3k/OOrUIzrMkze4x98ZEqfaVZIR1MdhFPc/1mPqCz0o X-Received: by 2002:a05:690c:dce:b0:784:9883:5fd4 with SMTP id 00721157ae682-786a4214fbfmr68944087b3.64.1762370056539; Wed, 05 Nov 2025 11:14:16 -0800 (PST) Received: from postal.iol.unh.edu (postal.iol.unh.edu. [2606:4100:3880:1234::84]) by smtp-relay.gmail.com with ESMTPS id 956f58d0204a3-640b5c910bdsm8468d50.1.2025.11.05.11.14.16 (version=TLS1_2 cipher=ECDHE-ECDSA-AES128-GCM-SHA256 bits=128/128); Wed, 05 Nov 2025 11:14:16 -0800 (PST) X-Relaying-Domain: iol.unh.edu Date: Wed, 05 Nov 2025 11:14:16 -0800 (PST) Message-ID: <690ba208.050a0220.22985d.0785SMTPIN_ADDED_MISSING@mx.google.com> Received: from [172.21.0.3] (unknown [172.18.0.240]) by postal.iol.unh.edu (Postfix) with ESMTP id 381A66050A61; Wed, 5 Nov 2025 14:14:16 -0500 (EST) Subject: |SUCCESS| pw158459 [PATCH] [v1] net/mlx5: fix invalid queue index ha From: dpdklab@iol.unh.edu To: Test Report Cc: dpdk-test-reports@iol.unh.edu In-Reply-To: <20251105125200.468312-1-rongweil@nvidia.com> References: <20251105125200.468312-1-rongweil@nvidia.com> Content-Type: text/plain X-BeenThere: test-report@dpdk.org X-Mailman-Version: 2.1.29 Precedence: list List-Id: automatic DPDK test reports List-Unsubscribe: , List-Archive: List-Post: List-Help: List-Subscribe: , Errors-To: test-report-bounces@dpdk.org Test-Label: iol-compile-arm64-testing Test-Status: SUCCESS http://dpdk.org/patch/158459 _Testing PASS_ Submitter: Rongwei Liu Date: Wednesday, November 05 2025 12:52:00 DPDK git baseline: Repo:dpdk-next-net-mlx Branch: master CommitID:f1c1f82f2421be9ac2f46b4ec2a616ca28da4ca7 158459 --> testing pass Upstream job id: Generic-DPDK-Compile-Meson#441099 Test environment and result as below: +------------------------------+--------------------+ | Environment | dpdk_meson_compile | +==============================+====================+ | Ubuntu 20.04 | PASS | +------------------------------+--------------------+ | Fedora Linux 42 | PASS | +------------------------------+--------------------+ | CentOS Stream 9 | PASS | +------------------------------+--------------------+ | Red Hat Enterprise Linux 9.5 | PASS | +------------------------------+--------------------+ | Debian GNU/Linux 12 | PASS | +------------------------------+--------------------+ | CentOS Stream 10 | PASS | +------------------------------+--------------------+ | Ubuntu 24.04 | PASS | +------------------------------+--------------------+ | Ubuntu 22.04 | PASS | +------------------------------+--------------------+ Ubuntu 20.04 Kernel: 5.15 Compiler: aarch64-linux-gnu-gcc gcc (Ubuntu 9.4.0-1ubuntu1~20.04.2) 9.4.0 Fedora Linux 42 Kernel: 5.4 Compiler: clang gcc (GCC) 15.2.1 20250808 (Red Hat 15.2.1-1) CentOS Stream 9 Kernel: 5.4 Compiler: gcc gcc (GCC) 11.5.0 20240719 (Red Hat 11.5.0-11) Red Hat Enterprise Linux 9.5 Kernel: 5.4 Compiler: gcc gcc (GCC) 11.5.0 20240719 (Red Hat 11.5.0-2) Debian GNU/Linux 12 Kernel: 5.4 Compiler: gcc gcc (Debian 12.2.0-14+deb12u1) 12.2.0 CentOS Stream 10 Kernel: 5.4 Compiler: gcc gcc (GCC) 14.2.1 20250110 (Red Hat 14.2.1-8) Ubuntu 24.04 Kernel: 5.4 Compiler: gcc gcc (Ubuntu 13.3.0-6ubuntu2~24.04) 13.3.0 Ubuntu 22.04 Kernel: 5.4 Compiler: gcc gcc (Ubuntu 11.4.0-1ubuntu1~22.04) 11.4.0 To view detailed results, visit: https://lab.dpdk.org/results/dashboard/patchsets/34474/ UNH-IOL DPDK Community Lab To manage your email subscriptions, visit: https://lab.dpdk.org/results/dashboard/preferences/subscriptions/