From mboxrd@z Thu Jan 1 00:00:00 1970 Return-Path: Received: from mails.dpdk.org (mails.dpdk.org [217.70.189.124]) by inbox.dpdk.org (Postfix) with ESMTP id 0173948A77 for ; Wed, 5 Nov 2025 20:23:45 +0100 (CET) Received: from mails.dpdk.org (localhost [127.0.0.1]) by mails.dpdk.org (Postfix) with ESMTP id F0F93402E6; Wed, 5 Nov 2025 20:23:44 +0100 (CET) Received: from mail-pg1-f226.google.com (mail-pg1-f226.google.com [209.85.215.226]) by mails.dpdk.org (Postfix) with ESMTP id E5290402E6 for ; Wed, 5 Nov 2025 20:23:43 +0100 (CET) Received: by mail-pg1-f226.google.com with SMTP id 41be03b00d2f7-b5a631b9c82so100584a12.1 for ; Wed, 05 Nov 2025 11:23:43 -0800 (PST) DKIM-Signature: v=1; a=rsa-sha256; c=relaxed/relaxed; d=iol.unh.edu; s=unh-iol; t=1762370623; x=1762975423; darn=dpdk.org; h=references:in-reply-to:cc:to:from:subject:message-id:date:from:to :cc:subject:date:message-id:reply-to; bh=Fw7RHfyRnYByl7DyCnP1lQaNGWm36le5z6/dg+hPIo4=; b=YXgN5IV4fIOqzqVWJT2tcv7NsS1IMrjpmAf8eG+YKdAds8jzlAb91QMZMtEOfXeu4P RcPZpSPhsXzoSyY9vIwkffW7i4a1QIlKrkqUMF/pH1pIFRVcRFgRI25yyIvZH+j00MR4 h1Z+5BX2+Z+T5pxq1dzy6Kpinzyet9T/2BS5g= X-Google-DKIM-Signature: v=1; a=rsa-sha256; c=relaxed/relaxed; d=1e100.net; s=20230601; t=1762370623; x=1762975423; h=references:in-reply-to:cc:to:from:subject:message-id:date :x-gm-message-state:from:to:cc:subject:date:message-id:reply-to; bh=Fw7RHfyRnYByl7DyCnP1lQaNGWm36le5z6/dg+hPIo4=; b=Sg60nCUWZ3SitWn3sgjxcIJ0COIWWI5jEMZ84mgnhzbpVZvT2loLaC7CIZZ1wPalq/ Wf59SREJzz2FlOggAb9GDJSMrt0n5hvpGW2CpWsak9uKbUEu0V0kyhazPUcZTYeYamqj ii/CzcGejifit7gndoUwDTbxgK9s5TO8Lu+sS1zP2WOHK25BgO8yPpd9vwzXIqtCvNPD A4wcAUw1EXSGaCHo9LpGtt3ON8pnSXDy+s8bLyxWA9k2aJ2+6kLgu9oWLFeA2B2HntAJ sgtfVZQNcQcsktVeBTWRwVOocU4Vc1kh3Naf9MXmtBBxAuER3g/n/bHtIPq1138Cu0ZS g86g== X-Gm-Message-State: AOJu0YwxEjXZZdUFcJxLS/tC4BrxB3qz7ZAz4C8OGiATnQpVRYJjfQ6o McTE70LOi1sWEyjdTX+3EFPyLvmLu4XDzbUTYTMRfLHzf2QPxQnVnh+yugFVcN08GfIBSEHajEP hzmbrtCcfZRuPyUtBfHZMmN/qkpcoMXijdgutRQZuzONAr/JEl4UPttXMfQXN X-Gm-Gg: ASbGncsAOorvNbN63AqjUSNU+ko+GDS8Am89OB+Epbuxr+p3s23fp2AqB4IDDIJQ0je oyeTKu7wctaH+ResSeMM0tjsGy7TZbLzIbEcFF160pwSrZmpOVU+uhY7/P5NLCbkLvmiN8qpnH7 K08xslQqSmNQ8gVyEkXDjKHErkcUT/s+eRlimN6FSMnGN9z2r8o8zuuADkP0enZfgpNEvhLnDJF whKUb6GiAhT3CJyyIPz5+5CQFThD2S0cG4h8/S7L8IWzqK9tOrvflRZiUjo8utCm4V4URQkqGVH ToLMc/+fQbpVsA8U2CsMLDjJXDb+tGOolmKv5OcTnHA2ZGx9OwMiIQvjtFGE9HQmyWud0v7n0sN H5DanAg4k X-Google-Smtp-Source: AGHT+IFgERl78k8C2G2VRE61r6keMgdoPPzKWpkee3n87DqriCoVpeF2EGHXHkF26ynm+DacXQSzHGDtPc0a X-Received: by 2002:a05:6a20:7d9d:b0:342:b918:b475 with SMTP id adf61e73a8af0-34f840087ccmr4675142637.21.1762370622955; Wed, 05 Nov 2025 11:23:42 -0800 (PST) Received: from postal.iol.unh.edu (postal.iol.unh.edu. [2606:4100:3880:1234::84]) by smtp-relay.gmail.com with ESMTPS id 41be03b00d2f7-ba8fd8f5376sm6698a12.11.2025.11.05.11.23.42 (version=TLS1_2 cipher=ECDHE-ECDSA-AES128-GCM-SHA256 bits=128/128); Wed, 05 Nov 2025 11:23:42 -0800 (PST) X-Relaying-Domain: iol.unh.edu Date: Wed, 05 Nov 2025 11:23:42 -0800 (PST) Message-ID: <690ba43e.630a0220.d88b3.067dSMTPIN_ADDED_MISSING@mx.google.com> Received: from [172.21.0.3] (unknown [172.18.0.240]) by postal.iol.unh.edu (Postfix) with ESMTP id 1F658604A958; Wed, 5 Nov 2025 14:23:42 -0500 (EST) Subject: |SUCCESS| pw158460 [PATCH] [v1] net/mlx5: fix indirect meter index l From: dpdklab@iol.unh.edu To: Test Report Cc: dpdk-test-reports@iol.unh.edu In-Reply-To: <20251105125433.468878-1-rongweil@nvidia.com> References: <20251105125433.468878-1-rongweil@nvidia.com> Content-Type: text/plain X-BeenThere: test-report@dpdk.org X-Mailman-Version: 2.1.29 Precedence: list List-Id: automatic DPDK test reports List-Unsubscribe: , List-Archive: List-Post: List-Help: List-Subscribe: , Errors-To: test-report-bounces@dpdk.org Test-Label: iol-compile-amd64-testing Test-Status: SUCCESS http://dpdk.org/patch/158460 _Testing PASS_ Submitter: Rongwei Liu Date: Wednesday, November 05 2025 12:54:33 DPDK git baseline: Repo:dpdk-next-net-mlx Branch: master CommitID:f1c1f82f2421be9ac2f46b4ec2a616ca28da4ca7 158460 --> testing pass Upstream job id: Windows-Compile-DPDK-Native#32140 Test environment and result as below: +-------------------------------+--------------------+------------------+-------------------+-------------------------+----------------------+ | Environment | dpdk_meson_compile | dpdk_compile_ovs | dpdk_msvc_compile | dpdk_llvm_clang_compile | dpdk_mingw64_compile | +===============================+====================+==================+===================+=========================+======================+ | FreeBSD 14.2 | PASS | SKIPPED | SKIPPED | SKIPPED | SKIPPED | +-------------------------------+--------------------+------------------+-------------------+-------------------------+----------------------+ | Debian GNU/Linux 12 | PASS | SKIPPED | SKIPPED | SKIPPED | SKIPPED | +-------------------------------+--------------------+------------------+-------------------+-------------------------+----------------------+ | CentOS Stream 10 | PASS | SKIPPED | SKIPPED | SKIPPED | SKIPPED | +-------------------------------+--------------------+------------------+-------------------+-------------------------+----------------------+ | CentOS Stream 9 | PASS | SKIPPED | SKIPPED | SKIPPED | SKIPPED | +-------------------------------+--------------------+------------------+-------------------+-------------------------+----------------------+ | Fedora Linux 42 | PASS | PASS | SKIPPED | SKIPPED | SKIPPED | +-------------------------------+--------------------+------------------+-------------------+-------------------------+----------------------+ | Red Hat Enterprise Linux 8.10 | PASS | SKIPPED | SKIPPED | SKIPPED | SKIPPED | +-------------------------------+--------------------+------------------+-------------------+-------------------------+----------------------+ | openSUSE Leap 15.6 | PASS | SKIPPED | SKIPPED | SKIPPED | SKIPPED | +-------------------------------+--------------------+------------------+-------------------+-------------------------+----------------------+ | Ubuntu 20.04 | PASS | SKIPPED | SKIPPED | SKIPPED | SKIPPED | +-------------------------------+--------------------+------------------+-------------------+-------------------------+----------------------+ | Ubuntu 24.04 | PASS | PASS | SKIPPED | SKIPPED | SKIPPED | +-------------------------------+--------------------+------------------+-------------------+-------------------------+----------------------+ | Ubuntu 22.04 | PASS | SKIPPED | SKIPPED | SKIPPED | SKIPPED | +-------------------------------+--------------------+------------------+-------------------+-------------------------+----------------------+ | Alpine Linux 3.22.0 | PASS | SKIPPED | SKIPPED | SKIPPED | SKIPPED | +-------------------------------+--------------------+------------------+-------------------+-------------------------+----------------------+ | Red Hat Enterprise Linux 9.5 | PASS | SKIPPED | SKIPPED | SKIPPED | SKIPPED | +-------------------------------+--------------------+------------------+-------------------+-------------------------+----------------------+ | Windows Server 2022 | SKIPPED | SKIPPED | PASS | PASS | PASS | +-------------------------------+--------------------+------------------+-------------------+-------------------------+----------------------+ FreeBSD 14.2 Kernel: 14.2-RELEASE Compiler: clang 18.1.6 Debian GNU/Linux 12 Kernel: 5.15 Compiler: gcc gcc (Debian 12.2.0-14+deb12u1) 12.2.0 CentOS Stream 10 Kernel: 5.15 Compiler: gcc gcc (GCC) 14.2.1 20250110 (Red Hat 14.2.1-8) CentOS Stream 9 Kernel: 5.15 Compiler: gcc gcc (GCC) 11.5.0 20240719 (Red Hat 11.5.0-11) Fedora Linux 42 Kernel: 5.15 Compiler: clang gcc (GCC) 15.2.1 20250808 (Red Hat 15.2.1-1) Red Hat Enterprise Linux 8.10 Kernel: 5.15 Compiler: gcc gcc (GCC) 8.5.0 20210514 (Red Hat 8.5.0-22) openSUSE Leap 15.6 Kernel: 5.15 Compiler: gcc gcc (SUSE Linux) 7.5.0 Ubuntu 20.04 Kernel: 5.15 Compiler: gcc gcc (Ubuntu 9.4.0-1ubuntu1~20.04.2) 9.4.0 Ubuntu 24.04 Kernel: 5.15 Compiler: gcc gcc (Ubuntu 13.3.0-6ubuntu2~24.04) 13.3.0 Ubuntu 22.04 Kernel: 5.15 Compiler: gcc gcc (Ubuntu 11.4.0-1ubuntu1~22.04) 11.4.0 Alpine Linux 3.22.0 Kernel: 5.15 Compiler: gcc gcc (Alpine 14.2.0) 14.2.0 Red Hat Enterprise Linux 9.5 Kernel: 5.15 Compiler: gcc gcc (GCC) 11.5.0 20240719 (Red Hat 11.5.0-2) Windows Server 2022 Kernel: 10.0.20348.2031 Compiler: clang 15.0.7, gcc 14.1.0 (MinGW), and MSVC VS 19.39.33521 To view detailed results, visit: https://lab.dpdk.org/results/dashboard/patchsets/34473/ UNH-IOL DPDK Community Lab To manage your email subscriptions, visit: https://lab.dpdk.org/results/dashboard/preferences/subscriptions/