From mboxrd@z Thu Jan 1 00:00:00 1970 Return-Path: Received: from mails.dpdk.org (mails.dpdk.org [217.70.189.124]) by inbox.dpdk.org (Postfix) with ESMTP id 1040148A77 for ; Wed, 5 Nov 2025 20:34:55 +0100 (CET) Received: from mails.dpdk.org (localhost [127.0.0.1]) by mails.dpdk.org (Postfix) with ESMTP id 002CA40B91; Wed, 5 Nov 2025 20:34:55 +0100 (CET) Received: from mail-yx1-f98.google.com (mail-yx1-f98.google.com [74.125.224.98]) by mails.dpdk.org (Postfix) with ESMTP id 634BA4069D for ; Wed, 5 Nov 2025 20:34:53 +0100 (CET) Received: by mail-yx1-f98.google.com with SMTP id 956f58d0204a3-63e19642764so231015d50.1 for ; Wed, 05 Nov 2025 11:34:53 -0800 (PST) DKIM-Signature: v=1; a=rsa-sha256; c=relaxed/relaxed; d=iol.unh.edu; s=unh-iol; t=1762371292; x=1762976092; darn=dpdk.org; h=references:in-reply-to:cc:to:from:subject:message-id:date:from:to :cc:subject:date:message-id:reply-to; bh=RuyLE1fj54RJTq1chfkgzScLd7noMuCrPWOs5EEpJqo=; b=Veczqcknw/30GSh9xv/zvbYFdqj/oxAlM7mgdR0Veejg5gwLMocs/Uxi+2XU0uTsNh jclSlhJDlsXtTjUf9x8zLnZSrloBulKnkUZZam/l2UpR2FDX5XXd2Rx0axsojeGzZaSM /EsSCDFNT0yoemaJlcj+qAn+nJ4p54W/BJ9JI= X-Google-DKIM-Signature: v=1; a=rsa-sha256; c=relaxed/relaxed; d=1e100.net; s=20230601; t=1762371292; x=1762976092; h=references:in-reply-to:cc:to:from:subject:message-id:date :x-gm-message-state:from:to:cc:subject:date:message-id:reply-to; bh=RuyLE1fj54RJTq1chfkgzScLd7noMuCrPWOs5EEpJqo=; b=SE/P/5L6caxzgwoSjTznc18W220EJUroJ4Xp/WAOkDrEHkYMSJegLppVLQ5hOD5zjM gW6MxNksjgOaBbKK+lESU6/HEy73YstsrzfgDNQYiIZr8tDcd6TpmFP7I8eYa80RWna1 tFs93k2ZMP103JeLzzPOqXSrWMin4LSpzyqqbFHFXPfCZ3/H+PiEIQ/g0w+cEeyUsFVx pxze4RJnTaXbFMj09dcEiTo9whWVXHmeOdvwepvUhaWS5w8gwCWYs5m/8nf56h49QlAR zzYqOz6qdzMmez9Tou3ijIT2VTsy2Tx9givDWy9EwLUE73vx9PsOR8I/gXzN/Nl+CM3Q 1e0g== X-Gm-Message-State: AOJu0YxzUqJ70IXUFSSbxg4enhJJrGFgzmU3qaJS0p2qUrcF1xf5PsEw KbEeCkK0ZdzVwOX++0M6f1iup8606Nb2b6dLOBYVU6bGTyU4TpxmLsRXCCKb1xvFFKD2BTwi+ZF X1KMciubjkr9FpXQ13GNHoTGeVme1mYA/gLi7v8Upcuot X-Gm-Gg: ASbGncsPiEfSfssChU/SJtU34qbUil4L00zwiJkeNnL7O9jxDbK3BX+qTi5RXGL/5z5 VLpTi4dJiFP3lAdEQjG73ZXKQsIkPa5+u19K2qddWjN5zpaAETCnw1bu1Cnlcsyof/x9nxRBVAw ZawtDaRTbAN04FHmuGOJPChQ7HjUgN4Ts+u/Z74ZvcHoO8HsbRsyIcscbbg2o9W//teQtpLgQ8y 1MWybdcsp/TLKldoX6OYa0eJ1hqRmbpTSOozCHhnsGh5aZzLnzqzYmE+H9CBRQVPbT1Zdg8gpn6 DSQrdMzSmnAYKkqEpx50huWXgrQrDEKQT/+nm7Ig48MJx1EAcjoFFVi8ZswKlTpA+mR9hKL6oRq yPgN2Q1BE85jx48KbRuJl4SYVGo139+M= X-Google-Smtp-Source: AGHT+IHR/qwA9IW1ZHrMbVVXk5I5tWr96dWxUcVAtvA5zwdHktAiUUTjwls1j6huAtbHiMAqJ4ykVYs4rQ/k X-Received: by 2002:a05:690e:801:b0:63f:1e8c:f264 with SMTP id 956f58d0204a3-63fd35b93c8mr2570850d50.69.1762371292698; Wed, 05 Nov 2025 11:34:52 -0800 (PST) Received: from postal.iol.unh.edu (postal.iol.unh.edu. [132.177.123.84]) by smtp-relay.gmail.com with ESMTPS id 00721157ae682-787b16170easm231977b3.2.2025.11.05.11.34.52 (version=TLS1_2 cipher=ECDHE-ECDSA-AES128-GCM-SHA256 bits=128/128); Wed, 05 Nov 2025 11:34:52 -0800 (PST) X-Relaying-Domain: iol.unh.edu Date: Wed, 05 Nov 2025 11:34:52 -0800 (PST) Message-ID: <690ba6dc.050a0220.26c5a9.1502SMTPIN_ADDED_MISSING@mx.google.com> Received: from [172.21.0.2] (unknown [172.18.0.240]) by postal.iol.unh.edu (Postfix) with ESMTP id 61407604A958; Wed, 5 Nov 2025 14:34:52 -0500 (EST) Subject: |SUCCESS| pw158475-158476 [PATCH] [v3,2/2] net/mlx5: support PF repr From: dpdklab@iol.unh.edu To: Test Report Cc: dpdk-test-reports@iol.unh.edu, Stephen Hemminger In-Reply-To: <20251105174839.323085-2-getelson@nvidia.com> References: <20251105174839.323085-2-getelson@nvidia.com> Content-Type: text/plain X-BeenThere: test-report@dpdk.org X-Mailman-Version: 2.1.29 Precedence: list List-Id: automatic DPDK test reports List-Unsubscribe: , List-Archive: List-Post: List-Help: List-Subscribe: , Errors-To: test-report-bounces@dpdk.org Test-Label: iol-unit-amd64-testing Test-Status: SUCCESS http://dpdk.org/patch/158476 _Testing PASS_ Submitter: Gregory Etelson Date: Wednesday, November 05 2025 17:48:38 DPDK git baseline: Repo:dpdk-next-net Branch: master CommitID:538052bb364db22ba8cc08b5e23a9e6d25a864a9 158475-158476 --> testing pass Upstream job id: Generic-VM-Unit-Test-DPDK#32323 Test environment and result as below: +-------------------------------+----------------+ | Environment | dpdk_unit_test | +===============================+================+ | CentOS Stream 9 | PASS | +-------------------------------+----------------+ | Fedora Linux 40 | PASS | +-------------------------------+----------------+ | Ubuntu 22.04 | PASS | +-------------------------------+----------------+ | Fedora Linux 42 | PASS | +-------------------------------+----------------+ | Ubuntu 24.04 | PASS | +-------------------------------+----------------+ | Fedora Linux 41 | PASS | +-------------------------------+----------------+ | Debian GNU/Linux 12 | PASS | +-------------------------------+----------------+ | Red Hat Enterprise Linux 9.5 | PASS | +-------------------------------+----------------+ | Red Hat Enterprise Linux 8.10 | PASS | +-------------------------------+----------------+ | CentOS Stream 10 | PASS | +-------------------------------+----------------+ | Ubuntu 20.04 | PASS | +-------------------------------+----------------+ | Windows Server 2022 | PASS | +-------------------------------+----------------+ CentOS Stream 9 Kernel: 5.15 Compiler: gcc gcc (GCC) 11.5.0 20240719 (Red Hat 11.5.0-11) Fedora Linux 40 Kernel: 5.15 Compiler: clang gcc (GCC) 14.2.1 20240912 (Red Hat 14.2.1-3) Ubuntu 22.04 Kernel: 5.15 Compiler: gcc gcc (Ubuntu 11.4.0-1ubuntu1~22.04) 11.4.0 Fedora Linux 42 Kernel: 5.15 Compiler: gcc gcc (GCC) 15.2.1 20250808 (Red Hat 15.2.1-1) Ubuntu 24.04 Kernel: 5.15 Compiler: gcc gcc (Ubuntu 13.3.0-6ubuntu2~24.04) 13.3.0 Fedora Linux 41 Kernel: 5.15 Compiler: gcc gcc (GCC) 14.3.1 20250523 (Red Hat 14.3.1-1) Debian GNU/Linux 12 Kernel: 5.15 Compiler: gcc gcc (Debian 12.2.0-14+deb12u1) 12.2.0 Red Hat Enterprise Linux 9.5 Kernel: 5.15 Compiler: gcc gcc (GCC) 11.5.0 20240719 (Red Hat 11.5.0-2) Red Hat Enterprise Linux 8.10 Kernel: 5.15 Compiler: gcc gcc (GCC) 8.5.0 20210514 (Red Hat 8.5.0-22) CentOS Stream 10 Kernel: 5.15 Compiler: gcc gcc (GCC) 14.2.1 20250110 (Red Hat 14.2.1-8) Ubuntu 20.04 Kernel: 5.15 Compiler: gcc gcc (Ubuntu 9.4.0-1ubuntu1~20.04.2) 9.4.0 Windows Server 2022 Kernel: 10.0.20348.2031 Compiler: clang 15.0.7, gcc 14.1.0 (MinGW), and MSVC VS 19.39.33521 To view detailed results, visit: https://lab.dpdk.org/results/dashboard/patchsets/34479/ UNH-IOL DPDK Community Lab To manage your email subscriptions, visit: https://lab.dpdk.org/results/dashboard/preferences/subscriptions/