From mboxrd@z Thu Jan 1 00:00:00 1970 Return-Path: Received: from mails.dpdk.org (mails.dpdk.org [217.70.189.124]) by inbox.dpdk.org (Postfix) with ESMTP id D8B6F48A77 for ; Wed, 5 Nov 2025 20:52:51 +0100 (CET) Received: from mails.dpdk.org (localhost [127.0.0.1]) by mails.dpdk.org (Postfix) with ESMTP id D1A6A40666; Wed, 5 Nov 2025 20:52:51 +0100 (CET) Received: from mail-pl1-f228.google.com (mail-pl1-f228.google.com [209.85.214.228]) by mails.dpdk.org (Postfix) with ESMTP id C2D0740666 for ; Wed, 5 Nov 2025 20:52:49 +0100 (CET) Received: by mail-pl1-f228.google.com with SMTP id d9443c01a7336-2957850c63bso2805545ad.0 for ; Wed, 05 Nov 2025 11:52:49 -0800 (PST) DKIM-Signature: v=1; a=rsa-sha256; c=relaxed/relaxed; d=iol.unh.edu; s=unh-iol; t=1762372369; x=1762977169; darn=dpdk.org; h=references:in-reply-to:cc:to:from:subject:message-id:date:from:to :cc:subject:date:message-id:reply-to; bh=c2Ts+lu/rj2fV9wmFRF3ybmozdXJhjHlhcyDXhr/gdM=; b=T5eIu3Rf/vnb2WxM/8q6s/DLAyIaKEZNjQzpfoJtWUUuGcWh1jX/oskIUqyNxRsJVC PNQVm/hNXWhrlhV7n3q6gOpyywYlykVMMK0oreLoxYCkC8JKwIU+I3YWfHJ7uFVjUwhu nAV9Y5txUEEHb+CIh2v1FM6dF6hAzEJWLXoso= X-Google-DKIM-Signature: v=1; a=rsa-sha256; c=relaxed/relaxed; d=1e100.net; s=20230601; t=1762372369; x=1762977169; h=references:in-reply-to:cc:to:from:subject:message-id:date :x-gm-message-state:from:to:cc:subject:date:message-id:reply-to; bh=c2Ts+lu/rj2fV9wmFRF3ybmozdXJhjHlhcyDXhr/gdM=; b=X1nbi475fAL9zu+q+wGWv/R1UDsz3hpUISN3K+suFQ2Mz54yrD5ygS4OGESten04OI 0APJu+4aowuITEsswnhxjpzYoc3CFARYdvjVErT5GcHuKEDnNvvikRdlJ0RURMzBeuHF 9DudwJANdjl+8+j/gi1ncavcqjJLCMUtYkVHIj98HyxPi3LqxiSDcG4GBfY0Xo+FUiOm /tuawlIup/TLZbSgGVy0qG2CYL1rk+t5o81858rFFp+qHX2io4GebJ056C/oPjlh+2Qh ac1BUmREAY3tzUv9K/EwOU8Sk8dCFWHeVjl1wcBa8REAf+1dzu0mZ508vqWBAMhTpHYe TeHw== X-Gm-Message-State: AOJu0Yws35sab7uoEsHtr2QIKoAoMYomaA8FxZGOGVePdQu5mCpzBhLB GefL3HcCmD+VsqnDAcP7IBkGXeWB2ppA154HtT8pjNPYe9DHdfRiJjIBSwZ3s0lSDGu6tnqX6rQ NXtebgTKmod1FTMpLyVzR+RG0dXIsMfg2yi3MaTKUnU2OEGu2wZHXU99CqnEv X-Gm-Gg: ASbGncuxr5xKX2O0QeMeve3S4eAl4Iq7mqLWba+4ACyee0pEvN94D2DZ7alvf9sSieF Qufl9M8XfnlvvWiRaSSyHApcEuSXlIxDPqSO2uljV+ZkNW2UckriTBwZx3Muzx6rhJESJ352n09 nHPSDZKfRuRhRquFw7NA6+2KCO+lawqsYRIMqOmq/isHfLpISVqGVuelthsh9qhbsBk6PfOgfoT N7QbPHYXATDANIfbG5rmMc0xB5Kckglx/SZzzQ0HHpRQj5lnroRMzwkGmrXLobEVeHS8YK5d0UA r+hZmaPrtFfUUeUK4DBRki5hZXxXMSBjOt7eea0xRHtylVlXOxSdThDDRgULDB7hWpwHmYsherT Jvtmg3M3F X-Google-Smtp-Source: AGHT+IHatovxQKH+mhwWBvBa39NtQxNEq40DUXSeEMUv1pDLdLUOM+94CnjIW+/13pz7EKSw/N4PcdZTJW8Q X-Received: by 2002:a17:902:c94f:b0:295:28a4:f0c6 with SMTP id d9443c01a7336-2964eae1f8fmr7546195ad.0.1762372368901; Wed, 05 Nov 2025 11:52:48 -0800 (PST) Received: from postal.iol.unh.edu (postal.iol.unh.edu. [2606:4100:3880:1234::84]) by smtp-relay.gmail.com with ESMTPS id d9443c01a7336-29651c8d5dcsm381165ad.45.2025.11.05.11.52.48 (version=TLS1_2 cipher=ECDHE-ECDSA-AES128-GCM-SHA256 bits=128/128); Wed, 05 Nov 2025 11:52:48 -0800 (PST) X-Relaying-Domain: iol.unh.edu Date: Wed, 05 Nov 2025 11:52:48 -0800 (PST) Message-ID: <690bab10.170a0220.9409a.215bSMTPIN_ADDED_MISSING@mx.google.com> Received: from [172.21.0.2] (unknown [172.18.0.240]) by postal.iol.unh.edu (Postfix) with ESMTP id 2FD0F6051830; Wed, 5 Nov 2025 14:52:48 -0500 (EST) Subject: |SUCCESS| pw158478-158481 [PATCH] [v3,4/4] doc: update TxPP document From: dpdklab@iol.unh.edu To: Test Report Cc: dpdk-test-reports@iol.unh.edu, Bruce Richardson In-Reply-To: <20251106064638.23020-5-soumyadeep.hore@intel.com> References: <20251106064638.23020-5-soumyadeep.hore@intel.com> Content-Type: text/plain X-BeenThere: test-report@dpdk.org X-Mailman-Version: 2.1.29 Precedence: list List-Id: automatic DPDK test reports List-Unsubscribe: , List-Archive: List-Post: List-Help: List-Subscribe: , Errors-To: test-report-bounces@dpdk.org Test-Label: iol-unit-amd64-testing Test-Status: SUCCESS http://dpdk.org/patch/158481 _Testing PASS_ Submitter: Soumyadeep Hore Date: Thursday, November 06 2025 06:46:37 DPDK git baseline: Repo:dpdk-next-net-intel Branch: master CommitID:03e1f9ac281264a54af53f547a2eb80f25bc19e6 158478-158481 --> testing pass Upstream job id: Generic-Unit-Test-DPDK#389094 Test environment and result as below: +-------------------------------+----------------+ | Environment | dpdk_unit_test | +===============================+================+ | Fedora Linux 41 | PASS | +-------------------------------+----------------+ | Fedora Linux 40 | PASS | +-------------------------------+----------------+ | CentOS Stream 10 | PASS | +-------------------------------+----------------+ | Fedora Linux 42 | PASS | +-------------------------------+----------------+ | Ubuntu 22.04 | PASS | +-------------------------------+----------------+ | Red Hat Enterprise Linux 8.10 | PASS | +-------------------------------+----------------+ | Debian GNU/Linux 12 | PASS | +-------------------------------+----------------+ | Ubuntu 20.04 | PASS | +-------------------------------+----------------+ | Red Hat Enterprise Linux 9.5 | PASS | +-------------------------------+----------------+ | Ubuntu 24.04 | PASS | +-------------------------------+----------------+ | CentOS Stream 9 | PASS | +-------------------------------+----------------+ Fedora Linux 41 Kernel: 5.15 Compiler: clang gcc (GCC) 14.3.1 20250523 (Red Hat 14.3.1-1) Fedora Linux 40 Kernel: 5.15 Compiler: clang gcc (GCC) 14.2.1 20240912 (Red Hat 14.2.1-3) CentOS Stream 10 Kernel: 5.15 Compiler: gcc gcc (GCC) 14.2.1 20250110 (Red Hat 14.2.1-8) Fedora Linux 42 Kernel: 5.15 Compiler: clang gcc (GCC) 15.2.1 20250808 (Red Hat 15.2.1-1) Ubuntu 22.04 Kernel: 5.15 Compiler: gcc gcc (Ubuntu 11.4.0-1ubuntu1~22.04) 11.4.0 Red Hat Enterprise Linux 8.10 Kernel: 5.15 Compiler: gcc gcc (GCC) 8.5.0 20210514 (Red Hat 8.5.0-22) Debian GNU/Linux 12 Kernel: 5.15 Compiler: gcc gcc (Debian 12.2.0-14+deb12u1) 12.2.0 Ubuntu 20.04 Kernel: 5.15 Compiler: gcc gcc (Ubuntu 9.4.0-1ubuntu1~20.04.2) 9.4.0 Red Hat Enterprise Linux 9.5 Kernel: 5.15 Compiler: gcc gcc (GCC) 11.5.0 20240719 (Red Hat 11.5.0-2) Ubuntu 24.04 Kernel: 5.15 Compiler: gcc gcc (Ubuntu 13.3.0-6ubuntu2~24.04) 13.3.0 CentOS Stream 9 Kernel: 5.15 Compiler: gcc gcc (GCC) 11.5.0 20240719 (Red Hat 11.5.0-11) To view detailed results, visit: https://lab.dpdk.org/results/dashboard/patchsets/34480/ UNH-IOL DPDK Community Lab To manage your email subscriptions, visit: https://lab.dpdk.org/results/dashboard/preferences/subscriptions/