From mboxrd@z Thu Jan 1 00:00:00 1970 Return-Path: Received: from mails.dpdk.org (mails.dpdk.org [217.70.189.124]) by inbox.dpdk.org (Postfix) with ESMTP id 9515948A77 for ; Wed, 5 Nov 2025 20:57:20 +0100 (CET) Received: from mails.dpdk.org (localhost [127.0.0.1]) by mails.dpdk.org (Postfix) with ESMTP id 7A3F1402E6; Wed, 5 Nov 2025 20:57:20 +0100 (CET) Received: from mail-pf1-f227.google.com (mail-pf1-f227.google.com [209.85.210.227]) by mails.dpdk.org (Postfix) with ESMTP id 56A92402E6 for ; Wed, 5 Nov 2025 20:57:19 +0100 (CET) Received: by mail-pf1-f227.google.com with SMTP id d2e1a72fcca58-7a4c202a30aso243946b3a.2 for ; Wed, 05 Nov 2025 11:57:19 -0800 (PST) DKIM-Signature: v=1; a=rsa-sha256; c=relaxed/relaxed; d=iol.unh.edu; s=unh-iol; t=1762372638; x=1762977438; darn=dpdk.org; h=references:in-reply-to:cc:to:from:subject:message-id:date:from:to :cc:subject:date:message-id:reply-to; bh=f8XjdxnUzOltFp04PRkI9SeMZSOxjBGMFBYPsMS8flI=; b=WihK9zwSTQdJ2/S66osNQNg9K0Ix5G8b60EkEiKvBB9Lw1cd/ezLE0VoQtCQ/e+wu3 Wtvqh4oxlDvZgbZvqq8yebC/myGzctX/Jwc7DDzNd2S6uWpbvvs55zW50/KPspIbVJ/y 1ekIcMoooeKiDK1HSTDHMnsLN7m9flABQA9VI= X-Google-DKIM-Signature: v=1; a=rsa-sha256; c=relaxed/relaxed; d=1e100.net; s=20230601; t=1762372638; x=1762977438; h=references:in-reply-to:cc:to:from:subject:message-id:date :x-gm-message-state:from:to:cc:subject:date:message-id:reply-to; bh=f8XjdxnUzOltFp04PRkI9SeMZSOxjBGMFBYPsMS8flI=; b=SFloUAH1+YnQLJwhvFYyS8zkM/vQKqOaQ20alAfStq4TViuq10h7GGSrdzgBDI54m5 DJ+U3dZoUAug90Lbeb3AfT3kMsOKrH3iuy70v0IGKjla3eUGniF/JsX/nrnDnvFQvS0/ xQOLTBPaubW3EPLMy0bHt/+eXxNHRz2kB+abSBDAXq+YvEliYo72H8ilnfdIV/6mQthz pVXkDctl6/z38zODtS1/3yVcdm3u/P7Z8D3MWUQOX/gON0WMBr5XnMwZ7esrDOPQTKJr DpksoUhvjS5QH1te4rdwV461alOiN3imDesWFlCMq25PRBqgLEVUtMFqvzHHqO8JAayw GZtA== X-Gm-Message-State: AOJu0YzWq0HDq9C4pc3KmZncd0tv7EtXir/Q38xUSTmPJ8/VumSLl+ES uZbDi5NVAeEpvw8L+sYbHC9Trv0pRmXLARVF9yCMrWb9cM8sX1lCGKLKQpzyNhVZhyB8v/iJCZ1 PRU0T/B00w4wvO/J4dwKZRn/IhhZuU08PjAHD/0hu1EzS X-Gm-Gg: ASbGncup9/UQI8pw3LHRzCCY2R7dhGb6C4NS9umecAclJP+R56B0pV5SmXBvPuDYs1E pvZ9K49H/0Gqqs7cRPyGFW8S3l6mUBhmn13t6zl+iE4Hhe3dO1tuxG2K1SD3MRk4i8VEUa6uw+9 FQ6/AsVCTcGEdxJD3Kx+ouiJKcDJ3GG395bWj0cJlOZ1rLB1LI5hhAcsd7DHHIZ6NPmfQF0fF1O 6iVvn23Uwbv5yjVTfOYjtZYncBj84cOltzoPFdznVpzlDMx6yMw0twZJ25PB4gyFlapt+3Bjxg+ FAmK7oGYMcCrxIjV68ntPbNzwx5qaFqYSDNi32w/hxxR2jZrtNHT6unmu+Q0Ol0VXivFOdZse2F U6c2iE2/8+U6A+eRlXyDMC3flXDc6wY8= X-Google-Smtp-Source: AGHT+IFEAruV2WKKQxMU7UUCdWWq9N14JZ20XgsdX9c2c6LiqJ3znNti3UEQeg5Wb+LwGRElbrhFNln/sIy3 X-Received: by 2002:a05:6a21:9102:b0:350:b8e:f999 with SMTP id adf61e73a8af0-3500b8f0345mr3878829637.26.1762372638387; Wed, 05 Nov 2025 11:57:18 -0800 (PST) Received: from postal.iol.unh.edu (postal.iol.unh.edu. [132.177.123.84]) by smtp-relay.gmail.com with ESMTPS id 41be03b00d2f7-ba8ecf890d8sm14543a12.0.2025.11.05.11.57.18 (version=TLS1_2 cipher=ECDHE-ECDSA-AES128-GCM-SHA256 bits=128/128); Wed, 05 Nov 2025 11:57:18 -0800 (PST) X-Relaying-Domain: iol.unh.edu Date: Wed, 05 Nov 2025 11:57:18 -0800 (PST) Message-ID: <690bac1e.630a0220.3161c5.0d03SMTPIN_ADDED_MISSING@mx.google.com> Received: from [172.21.0.2] (unknown [172.18.0.240]) by postal.iol.unh.edu (Postfix) with ESMTP id 87EF26050A61; Wed, 5 Nov 2025 14:57:17 -0500 (EST) Subject: |SUCCESS| pw158475-158476 [PATCH] [v3,2/2] net/mlx5: support PF repr From: dpdklab@iol.unh.edu To: Test Report Cc: dpdk-test-reports@iol.unh.edu, Stephen Hemminger In-Reply-To: <20251105174839.323085-2-getelson@nvidia.com> References: <20251105174839.323085-2-getelson@nvidia.com> Content-Type: text/plain X-BeenThere: test-report@dpdk.org X-Mailman-Version: 2.1.29 Precedence: list List-Id: automatic DPDK test reports List-Unsubscribe: , List-Archive: List-Post: List-Help: List-Subscribe: , Errors-To: test-report-bounces@dpdk.org Test-Label: iol-compile-amd64-testing Test-Status: SUCCESS http://dpdk.org/patch/158476 _Testing PASS_ Submitter: Gregory Etelson Date: Wednesday, November 05 2025 17:48:38 DPDK git baseline: Repo:dpdk-next-net Branch: master CommitID:538052bb364db22ba8cc08b5e23a9e6d25a864a9 158475-158476 --> testing pass Upstream job id: Generic-DPDK-Compile-Meson#441193 Test environment and result as below: +-------------------------------+--------------------+-------------------+------------------+ | Environment | dpdk_meson_compile | dpdk_msvc_compile | dpdk_compile_ovs | +===============================+====================+===================+==================+ | FreeBSD 14.2 | PASS | SKIPPED | SKIPPED | +-------------------------------+--------------------+-------------------+------------------+ | Ubuntu 20.04 | PASS | SKIPPED | SKIPPED | +-------------------------------+--------------------+-------------------+------------------+ | CentOS Stream 9 | PASS | SKIPPED | SKIPPED | +-------------------------------+--------------------+-------------------+------------------+ | CentOS Stream 10 | PASS | SKIPPED | SKIPPED | +-------------------------------+--------------------+-------------------+------------------+ | Debian GNU/Linux 12 | PASS | SKIPPED | SKIPPED | +-------------------------------+--------------------+-------------------+------------------+ | Fedora Linux 42 | PASS | SKIPPED | PASS | +-------------------------------+--------------------+-------------------+------------------+ | openSUSE Leap 15.6 | PASS | SKIPPED | SKIPPED | +-------------------------------+--------------------+-------------------+------------------+ | Red Hat Enterprise Linux 8.10 | PASS | SKIPPED | SKIPPED | +-------------------------------+--------------------+-------------------+------------------+ | Red Hat Enterprise Linux 9.5 | PASS | SKIPPED | SKIPPED | +-------------------------------+--------------------+-------------------+------------------+ | Ubuntu 22.04 | PASS | SKIPPED | SKIPPED | +-------------------------------+--------------------+-------------------+------------------+ | Ubuntu 24.04 | PASS | SKIPPED | PASS | +-------------------------------+--------------------+-------------------+------------------+ | Alpine Linux 3.22.0 | PASS | SKIPPED | SKIPPED | +-------------------------------+--------------------+-------------------+------------------+ | Windows Server 2022 | SKIPPED | PASS | SKIPPED | +-------------------------------+--------------------+-------------------+------------------+ FreeBSD 14.2 Kernel: 14.2-RELEASE Compiler: clang 18.1.6 Ubuntu 20.04 Kernel: 4.19 Compiler: gcc gcc (Ubuntu 9.4.0-1ubuntu1~20.04.2) 9.4.0 CentOS Stream 9 Kernel: 5.15 Compiler: gcc gcc (GCC) 11.5.0 20240719 (Red Hat 11.5.0-11) CentOS Stream 10 Kernel: 5.15 Compiler: gcc gcc (GCC) 14.2.1 20250110 (Red Hat 14.2.1-8) Debian GNU/Linux 12 Kernel: 5.15 Compiler: gcc gcc (Debian 12.2.0-14+deb12u1) 12.2.0 Fedora Linux 42 Kernel: 5.15 Compiler: gcc gcc (GCC) 15.2.1 20250808 (Red Hat 15.2.1-1) openSUSE Leap 15.6 Kernel: 5.15 Compiler: gcc gcc (SUSE Linux) 7.5.0 Red Hat Enterprise Linux 8.10 Kernel: 5.15 Compiler: gcc gcc (GCC) 8.5.0 20210514 (Red Hat 8.5.0-22) Red Hat Enterprise Linux 9.5 Kernel: 5.15 Compiler: gcc gcc (GCC) 11.5.0 20240719 (Red Hat 11.5.0-2) Ubuntu 22.04 Kernel: 5.15 Compiler: gcc gcc (Ubuntu 11.4.0-1ubuntu1~22.04) 11.4.0 Ubuntu 24.04 Kernel: 5.15 Compiler: gcc gcc (Ubuntu 13.3.0-6ubuntu2~24.04) 13.3.0 Alpine Linux 3.22.0 Kernel: 5.15 Compiler: gcc gcc (Alpine 14.2.0) 14.2.0 Windows Server 2022 Kernel: 10.0.20348.2031 Compiler: clang 15.0.7, gcc 14.1.0 (MinGW), and MSVC VS 19.39.33521 To view detailed results, visit: https://lab.dpdk.org/results/dashboard/patchsets/34479/ UNH-IOL DPDK Community Lab To manage your email subscriptions, visit: https://lab.dpdk.org/results/dashboard/preferences/subscriptions/