From mboxrd@z Thu Jan 1 00:00:00 1970 Return-Path: Received: from mails.dpdk.org (mails.dpdk.org [217.70.189.124]) by inbox.dpdk.org (Postfix) with ESMTP id D793A48A77 for ; Wed, 5 Nov 2025 20:59:46 +0100 (CET) Received: from mails.dpdk.org (localhost [127.0.0.1]) by mails.dpdk.org (Postfix) with ESMTP id D1946402E6; Wed, 5 Nov 2025 20:59:46 +0100 (CET) Received: from mail-qv1-f99.google.com (mail-qv1-f99.google.com [209.85.219.99]) by mails.dpdk.org (Postfix) with ESMTP id 7C3A9402E6 for ; Wed, 5 Nov 2025 20:59:45 +0100 (CET) Received: by mail-qv1-f99.google.com with SMTP id 6a1803df08f44-8803e8f440eso3020706d6.1 for ; Wed, 05 Nov 2025 11:59:45 -0800 (PST) DKIM-Signature: v=1; a=rsa-sha256; c=relaxed/relaxed; d=iol.unh.edu; s=unh-iol; t=1762372785; x=1762977585; darn=dpdk.org; h=references:in-reply-to:cc:to:from:subject:message-id:date:from:to :cc:subject:date:message-id:reply-to; bh=C+T5htpjhFylaOyZHdzzwjcZeqDs2DXJGUFjOZ4RMco=; b=K1ET18izR9R+farBWpfRZNU8rIg9jXj6Twhn5TR6QrwhmGDb4fMqBFZJAVjKISQRrU vzDW+tds10mvpdTImvNwS0YJvP5AryVfb/v2YN9Hug6eJbRQGGQgmy5DMZ180CiVNzy8 IYZ1vwkV7g0Mrfkk7qPzSCDonju8batkBO+9Q= X-Google-DKIM-Signature: v=1; a=rsa-sha256; c=relaxed/relaxed; d=1e100.net; s=20230601; t=1762372785; x=1762977585; h=references:in-reply-to:cc:to:from:subject:message-id:date :x-gm-message-state:from:to:cc:subject:date:message-id:reply-to; bh=C+T5htpjhFylaOyZHdzzwjcZeqDs2DXJGUFjOZ4RMco=; b=gJ7M7YW9C8uNh13t6jUoz2QHUwLoG4s12BNaj22/OkgpeTnlw2zfxRUdSxRZOdMZEY h3AOC0CXJxaoXMP2VY49v1mK1WqhnX0HzYcmza0RlhSqw8mV1i1qxWFwgriRB3Y+ZUAC SRzb17tB+3Ugu4IKynhYWs+OqXHl94i/TYf8ClOrD9xiqneZOJSckonWW4PemGtPqRwW F4M20Ri7pFfiIEdNlVf6j3OKob5OMXdmhXP3bFQR74uappXSuVsLQXH0RLK/ORAYQ7bG UhpTrMksgZ67YbUo9ucQZMxA5lgn1nzkNgNHLEO6sirKWatk4+ua0Ut2W+ydmT0Bsump OjpA== X-Gm-Message-State: AOJu0YxDmBh6iDTctJirLy4N3aJA+KJmrM+OpyKDGFDB23f8gauWCXz5 8b2T+LHbG8QfnVcQ05jI7iavqcDi1bF14rx1c/I5Seof6hNUkGCuAu7cm4e9YD20BMeiPeBdvqf MbYuu7IEKI89nULKu0POLjNr9wyvCmuNtgbmQglGehQ+v X-Gm-Gg: ASbGncvj8MsBBKzNx+xjzY91s6fk6xkjwlEZnqnkfU8QeeeEQ8v5CmBQCIhqazePjxa pGDWjCk0Nf3Gsq9ysvpsIiuTZ0J8R3YLTZEkcBKQ5buM/rzKvCP78b2eadPUOD5eaVGnpEMMOGM qOvz3YxyhRs5hhwwG0QaZmWrc5mj6Y7NeIKGwkx93owLl/5boWR6c0BTEBmO4Q0yuWhTLkJDFDg IEI5uIhvg1fgwILA4u3fRuPjkmomrSfOFnct8dbUzl6GlXV6pqMT3AnBdxGXFb6XtWseVRjtvyh ufEOcR70SO52mgEFteaZPYVX3GQMaTNZG0hptC/0dmXID3lteHTiQY9U+QKaDNLS/JvK7R7Yllk 3/+jGsMAF8dcO6M71hMj5ZHIyrJZDNTc= X-Google-Smtp-Source: AGHT+IGrnmXLrFjpZx0oEML8dnL1Cbtz/38T3i/290ISwTEwZgYpNXKtpLuzdwU3DRQaQC/eXUpsKtJS2qII X-Received: by 2002:a05:6214:e4b:b0:80a:7bd3:e61d with SMTP id 6a1803df08f44-88071173ff9mr54541856d6.34.1762372784882; Wed, 05 Nov 2025 11:59:44 -0800 (PST) Received: from postal.iol.unh.edu (postal.iol.unh.edu. [132.177.123.84]) by smtp-relay.gmail.com with ESMTPS id d75a77b69052e-4ed8138c5cbsm220101cf.10.2025.11.05.11.59.44 (version=TLS1_2 cipher=ECDHE-ECDSA-AES128-GCM-SHA256 bits=128/128); Wed, 05 Nov 2025 11:59:44 -0800 (PST) X-Relaying-Domain: iol.unh.edu Date: Wed, 05 Nov 2025 11:59:44 -0800 (PST) Message-ID: <690bacb0.050a0220.2c9564.14c4SMTPIN_ADDED_MISSING@mx.google.com> Received: from [172.21.0.3] (unknown [172.18.0.240]) by postal.iol.unh.edu (Postfix) with ESMTP id 89B656050A61; Wed, 5 Nov 2025 14:59:44 -0500 (EST) Subject: |SUCCESS| pw158475-158476 [PATCH] [v3,2/2] net/mlx5: support PF repr From: dpdklab@iol.unh.edu To: Test Report Cc: dpdk-test-reports@iol.unh.edu, Stephen Hemminger In-Reply-To: <20251105174839.323085-2-getelson@nvidia.com> References: <20251105174839.323085-2-getelson@nvidia.com> Content-Type: text/plain X-BeenThere: test-report@dpdk.org X-Mailman-Version: 2.1.29 Precedence: list List-Id: automatic DPDK test reports List-Unsubscribe: , List-Archive: List-Post: List-Help: List-Subscribe: , Errors-To: test-report-bounces@dpdk.org Test-Label: iol-unit-amd64-testing Test-Status: SUCCESS http://dpdk.org/patch/158476 _Testing PASS_ Submitter: Gregory Etelson Date: Wednesday, November 05 2025 17:48:38 DPDK git baseline: Repo:dpdk-next-net Branch: master CommitID:538052bb364db22ba8cc08b5e23a9e6d25a864a9 158475-158476 --> testing pass Upstream job id: Generic-VM-Unit-Test-DPDK#32324 Test environment and result as below: +-------------------------------+----------------+ | Environment | dpdk_unit_test | +===============================+================+ | CentOS Stream 9 | PASS | +-------------------------------+----------------+ | Fedora Linux 40 | PASS | +-------------------------------+----------------+ | Ubuntu 22.04 | PASS | +-------------------------------+----------------+ | Fedora Linux 42 | PASS | +-------------------------------+----------------+ | Ubuntu 24.04 | PASS | +-------------------------------+----------------+ | Fedora Linux 41 | PASS | +-------------------------------+----------------+ | Debian GNU/Linux 12 | PASS | +-------------------------------+----------------+ | Red Hat Enterprise Linux 9.5 | PASS | +-------------------------------+----------------+ | Red Hat Enterprise Linux 8.10 | PASS | +-------------------------------+----------------+ | CentOS Stream 10 | PASS | +-------------------------------+----------------+ | Ubuntu 20.04 | PASS | +-------------------------------+----------------+ | Windows Server 2022 | PASS | +-------------------------------+----------------+ CentOS Stream 9 Kernel: 5.15 Compiler: gcc gcc (GCC) 11.5.0 20240719 (Red Hat 11.5.0-11) Fedora Linux 40 Kernel: 5.15 Compiler: clang gcc (GCC) 14.2.1 20240912 (Red Hat 14.2.1-3) Ubuntu 22.04 Kernel: 5.15 Compiler: gcc gcc (Ubuntu 11.4.0-1ubuntu1~22.04) 11.4.0 Fedora Linux 42 Kernel: 5.15 Compiler: gcc gcc (GCC) 15.2.1 20250808 (Red Hat 15.2.1-1) Ubuntu 24.04 Kernel: 5.15 Compiler: gcc gcc (Ubuntu 13.3.0-6ubuntu2~24.04) 13.3.0 Fedora Linux 41 Kernel: 5.15 Compiler: gcc gcc (GCC) 14.3.1 20250523 (Red Hat 14.3.1-1) Debian GNU/Linux 12 Kernel: 5.15 Compiler: gcc gcc (Debian 12.2.0-14+deb12u1) 12.2.0 Red Hat Enterprise Linux 9.5 Kernel: 5.15 Compiler: gcc gcc (GCC) 11.5.0 20240719 (Red Hat 11.5.0-2) Red Hat Enterprise Linux 8.10 Kernel: 5.15 Compiler: gcc gcc (GCC) 8.5.0 20210514 (Red Hat 8.5.0-22) CentOS Stream 10 Kernel: 5.15 Compiler: gcc gcc (GCC) 14.2.1 20250110 (Red Hat 14.2.1-8) Ubuntu 20.04 Kernel: 5.15 Compiler: gcc gcc (Ubuntu 9.4.0-1ubuntu1~20.04.2) 9.4.0 Windows Server 2022 Kernel: 10.0.20348.2031 Compiler: clang 15.0.7, gcc 14.1.0 (MinGW), and MSVC VS 19.39.33521 To view detailed results, visit: https://lab.dpdk.org/results/dashboard/patchsets/34479/ UNH-IOL DPDK Community Lab To manage your email subscriptions, visit: https://lab.dpdk.org/results/dashboard/preferences/subscriptions/