From mboxrd@z Thu Jan 1 00:00:00 1970 Return-Path: Received: from mails.dpdk.org (mails.dpdk.org [217.70.189.124]) by inbox.dpdk.org (Postfix) with ESMTP id 6477E48A77 for ; Wed, 5 Nov 2025 21:04:24 +0100 (CET) Received: from mails.dpdk.org (localhost [127.0.0.1]) by mails.dpdk.org (Postfix) with ESMTP id 3FB55402E6; Wed, 5 Nov 2025 21:04:24 +0100 (CET) Received: from mail-oo1-f97.google.com (mail-oo1-f97.google.com [209.85.161.97]) by mails.dpdk.org (Postfix) with ESMTP id 84AC0402E6 for ; Wed, 5 Nov 2025 21:04:23 +0100 (CET) Received: by mail-oo1-f97.google.com with SMTP id 006d021491bc7-656c07e3241so105332eaf.1 for ; Wed, 05 Nov 2025 12:04:23 -0800 (PST) DKIM-Signature: v=1; a=rsa-sha256; c=relaxed/relaxed; d=iol.unh.edu; s=unh-iol; t=1762373062; x=1762977862; darn=dpdk.org; h=references:in-reply-to:cc:to:from:subject:message-id:date:from:to :cc:subject:date:message-id:reply-to; bh=vQ63U7jjFSeMCGFqnbzMa0PamHeJ/YMSEBMOicN5mMA=; b=EotQg2Cc06fCNZDHrp8w1j5UWqYRr9QO5wu6o90PN9LCLkYqH0Pprch9VSyhYXpyhU wU9Mxra1tkwoq4EmEKUq1tlyo+R6SpFeVkQa/UG9JbimBjpUt6eKaswcwM1qfSh6gmFo D5n2dS7in93ABK4XE/u/5SaLAgDWZmyonLauQ= X-Google-DKIM-Signature: v=1; a=rsa-sha256; c=relaxed/relaxed; d=1e100.net; s=20230601; t=1762373062; x=1762977862; h=references:in-reply-to:cc:to:from:subject:message-id:date :x-gm-message-state:from:to:cc:subject:date:message-id:reply-to; bh=vQ63U7jjFSeMCGFqnbzMa0PamHeJ/YMSEBMOicN5mMA=; b=ltrmqWpdIzTKZN1LXP19FQs5DgX+IL0ZQmXURdMLQ7FWIaMfzYFyioh23yZJ/obRXD 7APVQli3mVAhnNr05xZu/EI6tVZaKz/T+OSyxyEmY5zKPssNNh7YSbYBDfAi8GEjFTJI 3/2juXuDqjKGHaG0H4SAkzs+EYBPP9Ix7J1t47HyDBUC8PJnnsVYai8nVL0MlKgaKxI+ x6oS/DuOlv2RLW+s616Juw97VyF/FYtmRgixurHsNuPmDmprUYofmYdIbk8tpyYTYFA/ IpRz6Dur7lN8LxJApOmI6avg+z/mO/UIIyopy/KDxyK5VHjs59l3lNpfpBY1WM9R3yA+ NBvA== X-Gm-Message-State: AOJu0YxshuaMOy7ZXVBgt7Be2WS+8RDvt9sGNj3BIII2uSQC9AfReypz LiC66DHTW4T+f8WWExqSjci8ooKjNYZujq3zdXSnhcycpDanfgQEDtpBI6lG0ycaB7/4lrRK1Nu jLf6UURAqL3j1/Am9hTayDJxbxK3PBFp/fRPV5JOJeNyi X-Gm-Gg: ASbGnctCXivHTF25kj8x7Surt/3qHVqvUGIkZ2HQiW670mFgfeDa8BkUWhpoSmyZZ0W VgjzGjFNHmCoYbFr+JmJTmqtcBuu9hL0F3Zkaz9CEp6yGaJ27e3xofqSf5eRbGFYlRiY2JAlhFr 9C67RPDDITbmmYnYN1VdHdV1jPDJqEYQcatnRTu0OfBKe8JwYnk6VXgpk/RPeQTLVxtgsPwJlJZ 7zrJY7gA8qJvkUkd6ZCF0XcHMxkST8JEnUXjndORTlZzHjFKX/y1vBN43FEKV1gf1WUunR9XHqM 1UobLF+i2C4dHTrd+Zo7O4TO3cThG1axAJZb4+TYCLIqGr/cv04PyVgfjne86/J5zI+vrym2FcQ T+XpUyNx6GK11SjMmUdF3bzWfysHUe5A= X-Google-Smtp-Source: AGHT+IEoUhY65fje0wC+w5mOwC2XQNO8fnCg/i/pmv3mXLIyl1wQqnD2Qxew1EX+omCC+Gj/v3ABrxP6OPrJ X-Received: by 2002:a05:6820:2006:b0:650:1417:73ce with SMTP id 006d021491bc7-656bb6599a5mr1664912eaf.8.1762373062686; Wed, 05 Nov 2025 12:04:22 -0800 (PST) Received: from postal.iol.unh.edu (postal.iol.unh.edu. [132.177.123.84]) by smtp-relay.gmail.com with ESMTPS id 006d021491bc7-656c57591c6sm13800eaf.10.2025.11.05.12.04.22 (version=TLS1_2 cipher=ECDHE-ECDSA-AES128-GCM-SHA256 bits=128/128); Wed, 05 Nov 2025 12:04:22 -0800 (PST) X-Relaying-Domain: iol.unh.edu Date: Wed, 05 Nov 2025 12:04:22 -0800 (PST) Message-ID: <690badc6.4a0a0220.1d8993.0c17SMTPIN_ADDED_MISSING@mx.google.com> Received: from [172.21.0.2] (unknown [172.18.0.240]) by postal.iol.unh.edu (Postfix) with ESMTP id 1A6146050A61; Wed, 5 Nov 2025 15:04:22 -0500 (EST) Subject: |SUCCESS| pw158477 [PATCH] net/bonding: fix MAC address propagation From: dpdklab@iol.unh.edu To: Test Report Cc: dpdk-test-reports@iol.unh.edu, Stephen Hemminger In-Reply-To: <20251105180135.1181619-1-shperetz@nvidia.com> References: <20251105180135.1181619-1-shperetz@nvidia.com> Content-Type: text/plain X-BeenThere: test-report@dpdk.org X-Mailman-Version: 2.1.29 Precedence: list List-Id: automatic DPDK test reports List-Unsubscribe: , List-Archive: List-Post: List-Help: List-Subscribe: , Errors-To: test-report-bounces@dpdk.org Test-Label: iol-compile-amd64-testing Test-Status: SUCCESS http://dpdk.org/patch/158477 _Testing PASS_ Submitter: Shani Peretz Date: Wednesday, November 05 2025 18:01:35 DPDK git baseline: Repo:dpdk-next-net Branch: master CommitID:538052bb364db22ba8cc08b5e23a9e6d25a864a9 158477 --> testing pass Upstream job id: Generic-DPDK-Compile-Meson#441247 Test environment and result as below: +-------------------------------+--------------------+------------------+ | Environment | dpdk_meson_compile | dpdk_compile_ovs | +===============================+====================+==================+ | Ubuntu 20.04 | PASS | SKIPPED | +-------------------------------+--------------------+------------------+ | FreeBSD 14.2 | PASS | SKIPPED | +-------------------------------+--------------------+------------------+ | Ubuntu 22.04 | PASS | SKIPPED | +-------------------------------+--------------------+------------------+ | CentOS Stream 9 | PASS | SKIPPED | +-------------------------------+--------------------+------------------+ | CentOS Stream 10 | PASS | SKIPPED | +-------------------------------+--------------------+------------------+ | Debian GNU/Linux 12 | PASS | SKIPPED | +-------------------------------+--------------------+------------------+ | Fedora Linux 42 | PASS | PASS | +-------------------------------+--------------------+------------------+ | openSUSE Leap 15.6 | PASS | SKIPPED | +-------------------------------+--------------------+------------------+ | Red Hat Enterprise Linux 8.10 | PASS | SKIPPED | +-------------------------------+--------------------+------------------+ | Red Hat Enterprise Linux 9.5 | PASS | SKIPPED | +-------------------------------+--------------------+------------------+ | Ubuntu 24.04 | PASS | PASS | +-------------------------------+--------------------+------------------+ | Alpine Linux 3.22.0 | PASS | SKIPPED | +-------------------------------+--------------------+------------------+ Ubuntu 20.04 Kernel: 4.19 Compiler: gcc gcc (Ubuntu 9.4.0-1ubuntu1~20.04.2) 9.4.0 FreeBSD 14.2 Kernel: 14.2-RELEASE Compiler: clang 18.1.6 Ubuntu 22.04 Kernel: 5.15 Compiler: gcc gcc (Ubuntu 11.4.0-1ubuntu1~22.04) 11.4.0 CentOS Stream 9 Kernel: 5.15 Compiler: gcc gcc (GCC) 11.5.0 20240719 (Red Hat 11.5.0-11) CentOS Stream 10 Kernel: 5.15 Compiler: gcc gcc (GCC) 14.2.1 20250110 (Red Hat 14.2.1-8) Debian GNU/Linux 12 Kernel: 5.15 Compiler: gcc gcc (Debian 12.2.0-14+deb12u1) 12.2.0 Fedora Linux 42 Kernel: 5.15 Compiler: clang gcc (GCC) 15.2.1 20250808 (Red Hat 15.2.1-1) openSUSE Leap 15.6 Kernel: 5.15 Compiler: gcc gcc (SUSE Linux) 7.5.0 Red Hat Enterprise Linux 8.10 Kernel: 5.15 Compiler: gcc gcc (GCC) 8.5.0 20210514 (Red Hat 8.5.0-22) Red Hat Enterprise Linux 9.5 Kernel: 5.15 Compiler: gcc gcc (GCC) 11.5.0 20240719 (Red Hat 11.5.0-2) Ubuntu 24.04 Kernel: 5.15 Compiler: gcc gcc (Ubuntu 13.3.0-6ubuntu2~24.04) 13.3.0 Alpine Linux 3.22.0 Kernel: 5.15 Compiler: gcc gcc (Alpine 14.2.0) 14.2.0 To view detailed results, visit: https://lab.dpdk.org/results/dashboard/patchsets/34481/ UNH-IOL DPDK Community Lab To manage your email subscriptions, visit: https://lab.dpdk.org/results/dashboard/preferences/subscriptions/