From mboxrd@z Thu Jan 1 00:00:00 1970 Return-Path: Received: from mails.dpdk.org (mails.dpdk.org [217.70.189.124]) by inbox.dpdk.org (Postfix) with ESMTP id F035C48A77 for ; Wed, 5 Nov 2025 21:10:20 +0100 (CET) Received: from mails.dpdk.org (localhost [127.0.0.1]) by mails.dpdk.org (Postfix) with ESMTP id CDA60402E6; Wed, 5 Nov 2025 21:10:20 +0100 (CET) Received: from mail-io1-f99.google.com (mail-io1-f99.google.com [209.85.166.99]) by mails.dpdk.org (Postfix) with ESMTP id EDB1E402E6 for ; Wed, 5 Nov 2025 21:10:19 +0100 (CET) Received: by mail-io1-f99.google.com with SMTP id ca18e2360f4ac-940dbb1e343so50694339f.0 for ; Wed, 05 Nov 2025 12:10:19 -0800 (PST) DKIM-Signature: v=1; a=rsa-sha256; c=relaxed/relaxed; d=iol.unh.edu; s=unh-iol; t=1762373419; x=1762978219; darn=dpdk.org; h=references:in-reply-to:cc:to:from:subject:message-id:date:from:to :cc:subject:date:message-id:reply-to; bh=Qo/wR6WeuPAFZxGAsFCfs7OC6DWCQr8mWRsr66Z82M8=; b=S6EnnkClh0BnuG0DfAPikd1Gngf3TD+DEaKOOEIlHxeZWNViGbXYHEXVv5OPcuFw6w 2C+or5DUBTbklqe48RQhKkomzlxN7FuzskVeCKzVapHx/DdfvB/G/AiHiVmueHVBqSB1 WR3HhZVuggBpYSSohOvIy9XLmzXYQYJp8iqhY= X-Google-DKIM-Signature: v=1; a=rsa-sha256; c=relaxed/relaxed; d=1e100.net; s=20230601; t=1762373419; x=1762978219; h=references:in-reply-to:cc:to:from:subject:message-id:date:x-gm-gg :x-gm-message-state:from:to:cc:subject:date:message-id:reply-to; bh=Qo/wR6WeuPAFZxGAsFCfs7OC6DWCQr8mWRsr66Z82M8=; b=r+647MjFgK7pC3ZKvDbNV/ekvH/2me3Db1JHkwfSsOb5ey/Eedi6OwaIbM+CbI2iuF H4CgO3YP/a3M1PrKLD1gm5UJ/bng9WoVf6VPengTEy4W+AFOIBLbDe+gcMGHgTOi7dPB kvM8UIolmRj3hJSBygctk7rieh6eelAAN/RECsDsUHRM8cqUu9gUGa3PZ0R3m7nqiLnU ZTtKcXQRCjY9N9wXXmPOLay8SO0sKJahH6CCRszVNBpFSMXLaAAJNOFxaAwMWrGWVRnp xCS+VL6t0Olfvx2z5/WA6CuxP75uN0ZPXPzpkiEHW8NXKopq0n3zsBdlbgj2PAvolCT+ bOEw== X-Gm-Message-State: AOJu0YzxzQoqBZ6qTOnM72uEsHtg4WBT+1sWOGHAsNOdzhrPG4VBXUDE X3jPvsvfJ9IazuzyFMqiR0/cofm2C/MecqyMxB+9NbVnKmL+z1DWvtyJmrbX9F73Ovvmoe+3WQu Btl1CnCETPHrD/PYSh98dw1sl5KwZ8dtVh8eCex3HWwxUF61M5WvExoDseVWf X-Gm-Gg: ASbGncviByqt89scYRcEmNSBi6Pe8Y7l69/UE7A8wnO21czLp4DxQjLcC90cr2/F3UC lqRDOwGO002SM6ETRboz/DuodYrz/Pqv4xcI8j+RWAV0LgF0EuaPA/EhjxB3dwWUyo6PxeoEOHS oJp3jLhLmok8yVJm3fsRukoCiT1PiSUSd105aTciXkG04KMArFPgwlbVdIFVYecFqw3BRtLO48S u+AzuP7cjZksS7WGR49hTht0mUj5mpJn5Yfu/7VFnLrhiKRQicPewUzhSMcVX6hzXEStxP228lD rOflUMgbFM3zOqbRuxn6VPFeWU5FM6l87JcRV3Cd3rTo79VfAYx3qkzyPzAymCNcsz4hfNMMLN6 O2NPZYHeo X-Google-Smtp-Source: AGHT+IFw+tgwGOno/Hh0Mz9PcOW+dKbmQWz8GW6mIiAslHrY+IjVaIsQe9h8N01KJPBn2rBcOnpB/bPLyLTf X-Received: by 2002:a05:6e02:1c0c:b0:433:28e7:d834 with SMTP id e9e14a558f8ab-4334eea074amr11032385ab.15.1762373419163; Wed, 05 Nov 2025 12:10:19 -0800 (PST) Received: from postal.iol.unh.edu (postal.iol.unh.edu. [2606:4100:3880:1234::84]) by smtp-relay.gmail.com with ESMTPS id e9e14a558f8ab-4334f4b46basm234735ab.19.2025.11.05.12.10.19 (version=TLS1_2 cipher=ECDHE-ECDSA-AES128-GCM-SHA256 bits=128/128); Wed, 05 Nov 2025 12:10:19 -0800 (PST) X-Relaying-Domain: iol.unh.edu Date: Wed, 05 Nov 2025 12:10:19 -0800 (PST) Message-ID: <690baf2b.050a0220.a2538.14ecSMTPIN_ADDED_MISSING@mx.google.com> Received: from [172.21.0.2] (unknown [172.18.0.240]) by postal.iol.unh.edu (Postfix) with ESMTP id A407E6050A61; Wed, 5 Nov 2025 15:10:18 -0500 (EST) Subject: |SUCCESS| pw158478-158481 [PATCH] [v3,4/4] doc: update TxPP document From: dpdklab@iol.unh.edu To: Test Report Cc: dpdk-test-reports@iol.unh.edu, Bruce Richardson In-Reply-To: <20251106064638.23020-5-soumyadeep.hore@intel.com> References: <20251106064638.23020-5-soumyadeep.hore@intel.com> Content-Type: text/plain X-BeenThere: test-report@dpdk.org X-Mailman-Version: 2.1.29 Precedence: list List-Id: automatic DPDK test reports List-Unsubscribe: , List-Archive: List-Post: List-Help: List-Subscribe: , Errors-To: test-report-bounces@dpdk.org Test-Label: iol-compile-amd64-testing Test-Status: SUCCESS http://dpdk.org/patch/158481 _Testing PASS_ Submitter: Soumyadeep Hore Date: Thursday, November 06 2025 06:46:37 DPDK git baseline: Repo:dpdk-next-net-intel Branch: master CommitID:03e1f9ac281264a54af53f547a2eb80f25bc19e6 158478-158481 --> testing pass Upstream job id: Windows-Compile-DPDK-VS#7438 Test environment and result as below: +-------------------------------+--------------------+------------------+-------------------+ | Environment | dpdk_meson_compile | dpdk_compile_ovs | dpdk_msvc_compile | +===============================+====================+==================+===================+ | FreeBSD 14.2 | PASS | SKIPPED | SKIPPED | +-------------------------------+--------------------+------------------+-------------------+ | Ubuntu 20.04 | PASS | SKIPPED | SKIPPED | +-------------------------------+--------------------+------------------+-------------------+ | CentOS Stream 9 | PASS | SKIPPED | SKIPPED | +-------------------------------+--------------------+------------------+-------------------+ | CentOS Stream 10 | PASS | SKIPPED | SKIPPED | +-------------------------------+--------------------+------------------+-------------------+ | Debian GNU/Linux 12 | PASS | SKIPPED | SKIPPED | +-------------------------------+--------------------+------------------+-------------------+ | Fedora Linux 42 | PASS | PASS | SKIPPED | +-------------------------------+--------------------+------------------+-------------------+ | openSUSE Leap 15.6 | PASS | SKIPPED | SKIPPED | +-------------------------------+--------------------+------------------+-------------------+ | Red Hat Enterprise Linux 8.10 | PASS | SKIPPED | SKIPPED | +-------------------------------+--------------------+------------------+-------------------+ | Red Hat Enterprise Linux 9.5 | PASS | SKIPPED | SKIPPED | +-------------------------------+--------------------+------------------+-------------------+ | Ubuntu 22.04 | PASS | SKIPPED | SKIPPED | +-------------------------------+--------------------+------------------+-------------------+ | Ubuntu 24.04 | PASS | PASS | SKIPPED | +-------------------------------+--------------------+------------------+-------------------+ | Alpine Linux 3.22.0 | PASS | SKIPPED | SKIPPED | +-------------------------------+--------------------+------------------+-------------------+ | Windows Server 2022 | SKIPPED | SKIPPED | PASS | +-------------------------------+--------------------+------------------+-------------------+ FreeBSD 14.2 Kernel: 14.2-RELEASE Compiler: clang 18.1.6 Ubuntu 20.04 Kernel: 4.19 Compiler: gcc gcc (Ubuntu 9.4.0-1ubuntu1~20.04.2) 9.4.0 CentOS Stream 9 Kernel: 5.15 Compiler: gcc gcc (GCC) 11.5.0 20240719 (Red Hat 11.5.0-11) CentOS Stream 10 Kernel: 5.15 Compiler: gcc gcc (GCC) 14.2.1 20250110 (Red Hat 14.2.1-8) Debian GNU/Linux 12 Kernel: 5.15 Compiler: gcc gcc (Debian 12.2.0-14+deb12u1) 12.2.0 Fedora Linux 42 Kernel: 5.15 Compiler: clang gcc (GCC) 15.2.1 20250808 (Red Hat 15.2.1-1) openSUSE Leap 15.6 Kernel: 5.15 Compiler: gcc gcc (SUSE Linux) 7.5.0 Red Hat Enterprise Linux 8.10 Kernel: 5.15 Compiler: gcc gcc (GCC) 8.5.0 20210514 (Red Hat 8.5.0-22) Red Hat Enterprise Linux 9.5 Kernel: 5.15 Compiler: gcc gcc (GCC) 11.5.0 20240719 (Red Hat 11.5.0-2) Ubuntu 22.04 Kernel: 5.15 Compiler: gcc gcc (Ubuntu 11.4.0-1ubuntu1~22.04) 11.4.0 Ubuntu 24.04 Kernel: 5.15 Compiler: gcc gcc (Ubuntu 13.3.0-6ubuntu2~24.04) 13.3.0 Alpine Linux 3.22.0 Kernel: 5.15 Compiler: gcc gcc (Alpine 14.2.0) 14.2.0 Windows Server 2022 Kernel: 10.0.20348.2031 Compiler: clang 15.0.7, gcc 14.1.0 (MinGW), and MSVC VS 19.39.33521 To view detailed results, visit: https://lab.dpdk.org/results/dashboard/patchsets/34480/ UNH-IOL DPDK Community Lab To manage your email subscriptions, visit: https://lab.dpdk.org/results/dashboard/preferences/subscriptions/