From mboxrd@z Thu Jan 1 00:00:00 1970 Return-Path: Received: from mails.dpdk.org (mails.dpdk.org [217.70.189.124]) by inbox.dpdk.org (Postfix) with ESMTP id C29E848A77 for ; Wed, 5 Nov 2025 21:23:41 +0100 (CET) Received: from mails.dpdk.org (localhost [127.0.0.1]) by mails.dpdk.org (Postfix) with ESMTP id 9399340BA4; Wed, 5 Nov 2025 21:23:41 +0100 (CET) Received: from mail-pg1-f228.google.com (mail-pg1-f228.google.com [209.85.215.228]) by mails.dpdk.org (Postfix) with ESMTP id 932E440666 for ; Wed, 5 Nov 2025 21:23:39 +0100 (CET) Received: by mail-pg1-f228.google.com with SMTP id 41be03b00d2f7-b67ae7e76abso106973a12.3 for ; Wed, 05 Nov 2025 12:23:39 -0800 (PST) DKIM-Signature: v=1; a=rsa-sha256; c=relaxed/relaxed; d=iol.unh.edu; s=unh-iol; t=1762374218; x=1762979018; darn=dpdk.org; h=references:in-reply-to:cc:to:from:subject:message-id:date:from:to :cc:subject:date:message-id:reply-to; bh=i1xvPpSL1XXOn9+SDPgUTwQRKT+h4v2urXWmkg5nDMc=; b=dHyx9bLuZUkKWQcjv9XHGo3QS1RUKr/+kcm0UAcgVudSZp55PORhN7lZRBx3pJSQ+u aY8+R15j2qVLMpgM1J2Thn+AZOeuBZP3zcdnwGcYz7neoLxlRz0+gZsY3LOyxKWd3Q57 oXXVB9tLopK9Bag9eXAAIpphtjeLIe+6HpWqA= X-Google-DKIM-Signature: v=1; a=rsa-sha256; c=relaxed/relaxed; d=1e100.net; s=20230601; t=1762374218; x=1762979018; h=references:in-reply-to:cc:to:from:subject:message-id:date :x-gm-message-state:from:to:cc:subject:date:message-id:reply-to; bh=i1xvPpSL1XXOn9+SDPgUTwQRKT+h4v2urXWmkg5nDMc=; b=Vwi+KqVpm3Xn4yuuefr+Qt38IUSEBk27lCHg7kfMUvotyqBnKf8w8PxcLA5BN32XbX Hg6ftwy9nxICWhEMyCc+MKV69mYHCls8kcmqVdt3y2k6ALat7ceYzGEieyKy7v3/hV49 zSHL7sGoRpRDNY5zMG6LbjPpB2BDuQa7kbaaKwcBAqYQHmp/zOLwzzpUSWw55J9FCsiA GMmL3FjUOLX+L03HU3rr0/sDrjtfWT0K3gSirH4eivgFbcsSLpX0Sc34/tU1NEjT/I3T tSS6MPBcC5i6o7x9Hdl7dLeiWhQOQtSze/gYIx/e326qYPq2ppSwRmJGNp9/W1qip5BN nuBw== X-Gm-Message-State: AOJu0YxjBMX/R5mz4xJW2+Bjask0D5T1ttWFuEHwx/5EDZ9o0fUkXVvi tG2Jkvu+8oHbsQmeqrQzwTlbBFYXDxSnIqDoZMvUV+FYkgOORakYsliHTKCeH4OqqBkE9vwY83B KAW+zL3fQCSsP8gkGsvq29/B1Xxw9ELSQtGxEdtc7AhoRBQN+edEzpgAox5QO X-Gm-Gg: ASbGncsfz7efuXaA5NzikskUBIxgT8MALJi/92YIp8Ux+oekccmwKa0ymdbGe0izHNg lz915JF2nBJ7/jtFjptSsjnISmFlpMU9UGC1ZYQFxbZkGyb0VDTINKAFdNw9KgIxjK9zHbsTKQL oQpEPYzlFA00HQtNCnlsiSu1YOLooe29v9zsTeU+4riCM6WfMl53me7UVCh4DRRdXTgH8JkQzqT pjxfzzcYRi4OqNrDcR0iOAaMZSRz1DqACsQB2fuEw20475F+gX4ZGr0PvTm/zKNAE+sp+CqrIr2 nIcJHdKCpGDHUIrLtYZ6JiQ1b1fxWzfUvgeRRm2qEc8EcvBVV/qa70fjymHyUXFwVSbbwtLhbfw Ik8eCYpcS X-Google-Smtp-Source: AGHT+IEYOIZze9sbtgArqqB14FCOyb7HMy6yrlA+KySQN+mNVWj+U/h0DpwGUYRCBDyeNaYIrmm/WOJ4K/zX X-Received: by 2002:a05:6a20:a128:b0:343:5d53:c0a5 with SMTP id adf61e73a8af0-34f84113660mr6025078637.16.1762374218618; Wed, 05 Nov 2025 12:23:38 -0800 (PST) Received: from postal.iol.unh.edu (postal.iol.unh.edu. [2606:4100:3880:1234::84]) by smtp-relay.gmail.com with ESMTPS id 41be03b00d2f7-ba8fe9b5f67sm16486a12.12.2025.11.05.12.23.38 (version=TLS1_2 cipher=ECDHE-ECDSA-AES128-GCM-SHA256 bits=128/128); Wed, 05 Nov 2025 12:23:38 -0800 (PST) X-Relaying-Domain: iol.unh.edu Date: Wed, 05 Nov 2025 12:23:38 -0800 (PST) Message-ID: <690bb24a.050a0220.298ec0.0ebcSMTPIN_ADDED_MISSING@mx.google.com> Received: from [172.21.0.3] (unknown [172.18.0.240]) by postal.iol.unh.edu (Postfix) with ESMTP id 828AD6050A61; Wed, 5 Nov 2025 15:23:37 -0500 (EST) Subject: |SUCCESS| pw158478-158481 [PATCH] [v3,4/4] doc: update TxPP document From: dpdklab@iol.unh.edu To: Test Report Cc: dpdk-test-reports@iol.unh.edu, Bruce Richardson In-Reply-To: <20251106064638.23020-5-soumyadeep.hore@intel.com> References: <20251106064638.23020-5-soumyadeep.hore@intel.com> Content-Type: text/plain X-BeenThere: test-report@dpdk.org X-Mailman-Version: 2.1.29 Precedence: list List-Id: automatic DPDK test reports List-Unsubscribe: , List-Archive: List-Post: List-Help: List-Subscribe: , Errors-To: test-report-bounces@dpdk.org Test-Label: iol-unit-amd64-testing Test-Status: SUCCESS http://dpdk.org/patch/158481 _Testing PASS_ Submitter: Soumyadeep Hore Date: Thursday, November 06 2025 06:46:37 DPDK git baseline: Repo:dpdk-next-net-intel Branch: master CommitID:03e1f9ac281264a54af53f547a2eb80f25bc19e6 158478-158481 --> testing pass Upstream job id: Generic-VM-Unit-Test-DPDK#32325 Test environment and result as below: +-------------------------------+----------------+ | Environment | dpdk_unit_test | +===============================+================+ | Fedora Linux 41 | PASS | +-------------------------------+----------------+ | Fedora Linux 40 | PASS | +-------------------------------+----------------+ | CentOS Stream 10 | PASS | +-------------------------------+----------------+ | Fedora Linux 42 | PASS | +-------------------------------+----------------+ | Ubuntu 22.04 | PASS | +-------------------------------+----------------+ | Red Hat Enterprise Linux 8.10 | PASS | +-------------------------------+----------------+ | Debian GNU/Linux 12 | PASS | +-------------------------------+----------------+ | Ubuntu 20.04 | PASS | +-------------------------------+----------------+ | Red Hat Enterprise Linux 9.5 | PASS | +-------------------------------+----------------+ | Ubuntu 24.04 | PASS | +-------------------------------+----------------+ | CentOS Stream 9 | PASS | +-------------------------------+----------------+ | Windows Server 2022 | PASS | +-------------------------------+----------------+ Fedora Linux 41 Kernel: 5.15 Compiler: clang gcc (GCC) 14.3.1 20250523 (Red Hat 14.3.1-1) Fedora Linux 40 Kernel: 5.15 Compiler: clang gcc (GCC) 14.2.1 20240912 (Red Hat 14.2.1-3) CentOS Stream 10 Kernel: 5.15 Compiler: gcc gcc (GCC) 14.2.1 20250110 (Red Hat 14.2.1-8) Fedora Linux 42 Kernel: 5.15 Compiler: clang gcc (GCC) 15.2.1 20250808 (Red Hat 15.2.1-1) Ubuntu 22.04 Kernel: 5.15 Compiler: gcc gcc (Ubuntu 11.4.0-1ubuntu1~22.04) 11.4.0 Red Hat Enterprise Linux 8.10 Kernel: 5.15 Compiler: gcc gcc (GCC) 8.5.0 20210514 (Red Hat 8.5.0-22) Debian GNU/Linux 12 Kernel: 5.15 Compiler: gcc gcc (Debian 12.2.0-14+deb12u1) 12.2.0 Ubuntu 20.04 Kernel: 5.15 Compiler: gcc gcc (Ubuntu 9.4.0-1ubuntu1~20.04.2) 9.4.0 Red Hat Enterprise Linux 9.5 Kernel: 5.15 Compiler: gcc gcc (GCC) 11.5.0 20240719 (Red Hat 11.5.0-2) Ubuntu 24.04 Kernel: 5.15 Compiler: gcc gcc (Ubuntu 13.3.0-6ubuntu2~24.04) 13.3.0 CentOS Stream 9 Kernel: 5.15 Compiler: gcc gcc (GCC) 11.5.0 20240719 (Red Hat 11.5.0-11) Windows Server 2022 Kernel: 10.0.20348.2031 Compiler: clang 15.0.7, gcc 14.1.0 (MinGW), and MSVC VS 19.39.33521 To view detailed results, visit: https://lab.dpdk.org/results/dashboard/patchsets/34480/ UNH-IOL DPDK Community Lab To manage your email subscriptions, visit: https://lab.dpdk.org/results/dashboard/preferences/subscriptions/