From mboxrd@z Thu Jan 1 00:00:00 1970 Return-Path: Received: from mails.dpdk.org (mails.dpdk.org [217.70.189.124]) by inbox.dpdk.org (Postfix) with ESMTP id 41D2848A77 for ; Wed, 5 Nov 2025 21:27:14 +0100 (CET) Received: from mails.dpdk.org (localhost [127.0.0.1]) by mails.dpdk.org (Postfix) with ESMTP id 3B00F402E6; Wed, 5 Nov 2025 21:27:14 +0100 (CET) Received: from mail-pl1-f226.google.com (mail-pl1-f226.google.com [209.85.214.226]) by mails.dpdk.org (Postfix) with ESMTP id 69D04402E6 for ; Wed, 5 Nov 2025 21:27:12 +0100 (CET) Received: by mail-pl1-f226.google.com with SMTP id d9443c01a7336-2953e415b27so2352665ad.2 for ; Wed, 05 Nov 2025 12:27:12 -0800 (PST) DKIM-Signature: v=1; a=rsa-sha256; c=relaxed/relaxed; d=iol.unh.edu; s=unh-iol; t=1762374431; x=1762979231; darn=dpdk.org; h=references:in-reply-to:cc:to:from:subject:message-id:date:from:to :cc:subject:date:message-id:reply-to; bh=hi0FN6r7mhHJvex5E/rEIZUcX9cAzfAQ/Xq3uXtjcyA=; b=QkPnm/4qv10fm+GYxrr8yAEsrcKIydAn02TClnSS9jLlKzNR+BTw7CyMYuiGWEWJz1 B/eZOJcPAFG5NkqTTeHp95Kp9y1RwKNlI5DkJwhd9174yySjuO7TezJ5wNeVhs2iIx8A C+z7aFnJfE2qhYiDFAY9jU5HkDxiyu/5P4s3w= X-Google-DKIM-Signature: v=1; a=rsa-sha256; c=relaxed/relaxed; d=1e100.net; s=20230601; t=1762374431; x=1762979231; h=references:in-reply-to:cc:to:from:subject:message-id:date :x-gm-message-state:from:to:cc:subject:date:message-id:reply-to; bh=hi0FN6r7mhHJvex5E/rEIZUcX9cAzfAQ/Xq3uXtjcyA=; b=E/uS7inXtJA6O04wbD0Hr52MAn/i9pHTdqBPiXdbWSboeXqup6BkTweGAwR5WKRKwO lYAHDowg0dYInKidcaeBcDi2dKXUZAaCsu9AIMJvLKRlJDODeebCvsNC1qpNLpwINDaE BQiN2jATNCFkyEMMcvbxjPti5YRls3Bd0D0vMiAOVKXT5hkdEu8y0lP/5FwLFdUVhz/V O2LsoBStofxk2pbhDJyxLxBsRDtSfc/5AuBxiAUazljejVA6dkA6hc4qLF90zJ9NiX1E qPfjiVvXU1wW2pMmNYhCdUqOSEECjAcV1kWNRKkWYbY/x7K9VolkwBgRFEgUegUP+JZR 95bA== X-Gm-Message-State: AOJu0YwpB0BQeWuKYvbxdOX9j/0JgQxrpUiELhmSMU49nK0ctQDno13K cSNy5WaYHwjm8IzfOrdcjCGRSpPqELZGouMErZ2MFD8IKHa+Zq7W6/6fWAEEWW88u1RdCHtR5rt KLtQnY9gT3Br4Jz0HVwoGPfyJ5YB8f1r097+CcDjPpHY1JfZssU3i28GMqDo5 X-Gm-Gg: ASbGnctJOBmodFc/b30Rv13asdYIqFxoPxlpRmwnqvMZJNU/m4z0k5XlB0AE91BtaBM bVApgppuTuXZ7OwqNZNF/I8gMXmGUyDPU1Xt+SZMjpdpgShdWGkPM1PJdkFy7Pw4bv1sZq2LbH4 hGjos7XulEGHjN6V9ZD1T5st8E381P26AxN4K0nZnSEP0/l2rXhiMkRp1/T5MVvtJYZcN+uU1p9 KR+S1rscgLZrIfN09FR/5CSsrmHxxWLQg5sN78/vuJ2yH2lBWhB2vnBzKEZuFxOfO5Wu5EZkPM4 80AL/V7O34C+AC+RJeJDmuAOAE4kqWHfNJqb8ygBt4Ts+XpKIRPYGWLkORok8l7KGfiOa/IOXDp CV+E2IgTu X-Google-Smtp-Source: AGHT+IGVydGvoXKycLKUOng0VgXVmU42X6RoKNNk0heGmtn2Iw2t1msW4su5wJa5ix5OUikKa6q4ts32l4f5 X-Received: by 2002:a17:902:e802:b0:290:c516:8c53 with SMTP id d9443c01a7336-2962ae36994mr66433925ad.40.1762374431599; Wed, 05 Nov 2025 12:27:11 -0800 (PST) Received: from postal.iol.unh.edu (postal.iol.unh.edu. [2606:4100:3880:1234::84]) by smtp-relay.gmail.com with ESMTPS id d9443c01a7336-29650c5fb48sm394445ad.19.2025.11.05.12.27.11 (version=TLS1_2 cipher=ECDHE-ECDSA-AES128-GCM-SHA256 bits=128/128); Wed, 05 Nov 2025 12:27:11 -0800 (PST) X-Relaying-Domain: iol.unh.edu Date: Wed, 05 Nov 2025 12:27:11 -0800 (PST) Message-ID: <690bb31f.170a0220.32db89.248cSMTPIN_ADDED_MISSING@mx.google.com> Received: from [172.21.0.2] (unknown [172.18.0.240]) by postal.iol.unh.edu (Postfix) with ESMTP id 1DBCC6050A61; Wed, 5 Nov 2025 15:27:11 -0500 (EST) Subject: |SUCCESS| pw158477 [PATCH] net/bonding: fix MAC address propagation From: dpdklab@iol.unh.edu To: Test Report Cc: dpdk-test-reports@iol.unh.edu, Stephen Hemminger In-Reply-To: <20251105180135.1181619-1-shperetz@nvidia.com> References: <20251105180135.1181619-1-shperetz@nvidia.com> Content-Type: text/plain X-BeenThere: test-report@dpdk.org X-Mailman-Version: 2.1.29 Precedence: list List-Id: automatic DPDK test reports List-Unsubscribe: , List-Archive: List-Post: List-Help: List-Subscribe: , Errors-To: test-report-bounces@dpdk.org Test-Label: iol-unit-amd64-testing Test-Status: SUCCESS http://dpdk.org/patch/158477 _Testing PASS_ Submitter: Shani Peretz Date: Wednesday, November 05 2025 18:01:35 DPDK git baseline: Repo:dpdk-next-net Branch: master CommitID:538052bb364db22ba8cc08b5e23a9e6d25a864a9 158477 --> testing pass Upstream job id: Generic-Unit-Test-DPDK#389128 Test environment and result as below: +-------------------------------+----------------+ | Environment | dpdk_unit_test | +===============================+================+ | CentOS Stream 9 | PASS | +-------------------------------+----------------+ | CentOS Stream 10 | PASS | +-------------------------------+----------------+ | Fedora Linux 40 | PASS | +-------------------------------+----------------+ | Debian GNU/Linux 12 | PASS | +-------------------------------+----------------+ | Fedora Linux 41 | PASS | +-------------------------------+----------------+ | Fedora Linux 42 | PASS | +-------------------------------+----------------+ | Red Hat Enterprise Linux 9.5 | PASS | +-------------------------------+----------------+ | Red Hat Enterprise Linux 8.10 | PASS | +-------------------------------+----------------+ | Ubuntu 24.04 | PASS | +-------------------------------+----------------+ | Ubuntu 22.04 | PASS | +-------------------------------+----------------+ | Ubuntu 20.04 | PASS | +-------------------------------+----------------+ CentOS Stream 9 Kernel: 5.15 Compiler: gcc gcc (GCC) 11.5.0 20240719 (Red Hat 11.5.0-11) CentOS Stream 10 Kernel: 5.15 Compiler: gcc gcc (GCC) 14.2.1 20250110 (Red Hat 14.2.1-8) Fedora Linux 40 Kernel: 5.15 Compiler: gcc gcc (GCC) 14.2.1 20240912 (Red Hat 14.2.1-3) Debian GNU/Linux 12 Kernel: 5.15 Compiler: gcc gcc (Debian 12.2.0-14+deb12u1) 12.2.0 Fedora Linux 41 Kernel: 5.15 Compiler: clang gcc (GCC) 14.3.1 20250523 (Red Hat 14.3.1-1) Fedora Linux 42 Kernel: 5.15 Compiler: clang gcc (GCC) 15.2.1 20250808 (Red Hat 15.2.1-1) Red Hat Enterprise Linux 9.5 Kernel: 5.15 Compiler: gcc gcc (GCC) 11.5.0 20240719 (Red Hat 11.5.0-2) Red Hat Enterprise Linux 8.10 Kernel: 5.15 Compiler: gcc gcc (GCC) 8.5.0 20210514 (Red Hat 8.5.0-22) Ubuntu 24.04 Kernel: 5.15 Compiler: gcc gcc (Ubuntu 13.3.0-6ubuntu2~24.04) 13.3.0 Ubuntu 22.04 Kernel: 5.15 Compiler: gcc gcc (Ubuntu 11.4.0-1ubuntu1~22.04) 11.4.0 Ubuntu 20.04 Kernel: 5.15 Compiler: gcc gcc (Ubuntu 9.4.0-1ubuntu1~20.04.2) 9.4.0 To view detailed results, visit: https://lab.dpdk.org/results/dashboard/patchsets/34481/ UNH-IOL DPDK Community Lab To manage your email subscriptions, visit: https://lab.dpdk.org/results/dashboard/preferences/subscriptions/