From mboxrd@z Thu Jan 1 00:00:00 1970 Return-Path: Received: from mails.dpdk.org (mails.dpdk.org [217.70.189.124]) by inbox.dpdk.org (Postfix) with ESMTP id A389248A77 for ; Wed, 5 Nov 2025 21:30:19 +0100 (CET) Received: from mails.dpdk.org (localhost [127.0.0.1]) by mails.dpdk.org (Postfix) with ESMTP id 80F36402E6; Wed, 5 Nov 2025 21:30:19 +0100 (CET) Received: from mail-io1-f100.google.com (mail-io1-f100.google.com [209.85.166.100]) by mails.dpdk.org (Postfix) with ESMTP id 3ABE9402E6 for ; Wed, 5 Nov 2025 21:30:18 +0100 (CET) Received: by mail-io1-f100.google.com with SMTP id ca18e2360f4ac-94822ad1baeso13440539f.2 for ; Wed, 05 Nov 2025 12:30:18 -0800 (PST) DKIM-Signature: v=1; a=rsa-sha256; c=relaxed/relaxed; d=iol.unh.edu; s=unh-iol; t=1762374617; x=1762979417; darn=dpdk.org; h=references:in-reply-to:cc:to:from:subject:message-id:date:from:to :cc:subject:date:message-id:reply-to; bh=TX26Q4CvVJCX9jsK4+ST+x0MOlycq5IpwxuQH0qrz1E=; b=gahwzJ4oTZyNfCEFEYilOGcQuzQP6pb1EOGEABaS12mGed/gr0vopsKQrBbSHVT68D 6IorzU2RsoqtzYfeVWHYEcl7DAz/Sa9ThKAgpDu5FaBb9G/Ggg72TxYU1J2+frajX/Vl 04QyojlT3NDNuhPziAueGIUZcEMfc64SnAWDE= X-Google-DKIM-Signature: v=1; a=rsa-sha256; c=relaxed/relaxed; d=1e100.net; s=20230601; t=1762374617; x=1762979417; h=references:in-reply-to:cc:to:from:subject:message-id:date :x-gm-message-state:from:to:cc:subject:date:message-id:reply-to; bh=TX26Q4CvVJCX9jsK4+ST+x0MOlycq5IpwxuQH0qrz1E=; b=KDP07Pj3tdxiCgM7kRYv5KSQ6cs5nBMi36F1Y2bOHdg9Ns2/UFeainM4cnrRpKOnix Q5Nf/0bs2BrPB0pfZpStdIPFlWz+RT9T5ZqSkw5bswiui+gxk1XYIMeCaotVvcET6GAT iUt8sj3Ehjb1DNO4ICX9fPFmkEoqz6cyWEH/qQ3A+hxY6rS+Kb399MXmzkGgVaap9Le5 o7QNPI6Bbn4oVKwd0ID9eV3zdsaJO7JoC9hNEeVbD7kJhoT/GQr81B23YZ8Q8OcqJXOw APYUvYDq9Mt4Q2N2oRefZh4DurjPIDj6SBDVu3DCY5p3gnmE1j8ysA62uYaDIoDCFMLZ oFFg== X-Gm-Message-State: AOJu0YyLfUH9Lf0+/CSFn5xxV8mVCjwwZn36fi3NdccMo3ZsdGfmhh0H 7xCx9+ijELnkosFXcXZtsW/63IgSLZZDKh8gcnnYFtU7mDC+tn7db5uS5zeD0OMgqvJutvDR8od 5A90/MUSUPjBBKfNMuuMrM+Z7FQo8AXp4no1T7NA05/gv X-Gm-Gg: ASbGncvH4gZ4FPKzcLm93odfiAyOq4F8Bb+yaiiWHTXH8Bwu1BCMo//Fgaqq+MYK1Ha dJVZq6jQhlqb83S96Aw6aLFf9f1oYVjJaLLswhaI2wUSfIS/NQDT3A9N2fcZb/1ALfdY91LF98a XV1rtScPrHtREgvJQ7rBrgdxrIhiYOHz5ES1UmUyKKBdo6LBpZGMkbmSQliGj9pjzxi+KMZQOV3 gTPbzmoCCZUfQS9E2bhVCPjW5DvLmvqcxLZCKLa5fDb9a91dWr+rRysAfw89TNIUsM+cRwEIWR+ wOCBFcdGMakwxDzdnosERWevttl8nzXhbZ7Fd+nwW78WT8wd5PRzBfLbG4oQORddZWEK3JY7mE/ i5T/iHpfVMs3Pz5S+wPg90OgwaQIOGgg= X-Google-Smtp-Source: AGHT+IHXxAXHmLXsEYY+pMOTUUDMBfQsCHLOjF+lSmyZpQTdJszua1t3Igve0e918gNFfxFNSwdRcX4GEjin X-Received: by 2002:a05:6e02:1608:b0:433:2b27:b6d1 with SMTP id e9e14a558f8ab-433407d9afemr59035555ab.23.1762374617444; Wed, 05 Nov 2025 12:30:17 -0800 (PST) Received: from postal.iol.unh.edu (postal.iol.unh.edu. [132.177.123.84]) by smtp-relay.gmail.com with ESMTPS id 8926c6da1cb9f-5b7467399ddsm25992173.7.2025.11.05.12.30.17 (version=TLS1_2 cipher=ECDHE-ECDSA-AES128-GCM-SHA256 bits=128/128); Wed, 05 Nov 2025 12:30:17 -0800 (PST) X-Relaying-Domain: iol.unh.edu Date: Wed, 05 Nov 2025 12:30:17 -0800 (PST) Message-ID: <690bb3d9.050a0220.63387.197dSMTPIN_ADDED_MISSING@mx.google.com> Received: from [172.21.0.2] (unknown [172.18.0.240]) by postal.iol.unh.edu (Postfix) with ESMTP id 1B3DE6050A61; Wed, 5 Nov 2025 15:30:17 -0500 (EST) Subject: |SUCCESS| pw158478-158481 [PATCH] [v3,4/4] doc: update TxPP document From: dpdklab@iol.unh.edu To: Test Report Cc: dpdk-test-reports@iol.unh.edu, Bruce Richardson In-Reply-To: <20251106064638.23020-5-soumyadeep.hore@intel.com> References: <20251106064638.23020-5-soumyadeep.hore@intel.com> Content-Type: text/plain X-BeenThere: test-report@dpdk.org X-Mailman-Version: 2.1.29 Precedence: list List-Id: automatic DPDK test reports List-Unsubscribe: , List-Archive: List-Post: List-Help: List-Subscribe: , Errors-To: test-report-bounces@dpdk.org Test-Label: iol-unit-amd64-testing Test-Status: SUCCESS http://dpdk.org/patch/158481 _Testing PASS_ Submitter: Soumyadeep Hore Date: Thursday, November 06 2025 06:46:37 DPDK git baseline: Repo:dpdk-next-net-intel Branch: master CommitID:03e1f9ac281264a54af53f547a2eb80f25bc19e6 158478-158481 --> testing pass Upstream job id: Generic-VM-Unit-Test-DPDK#32326 Test environment and result as below: +-------------------------------+----------------+ | Environment | dpdk_unit_test | +===============================+================+ | Fedora Linux 41 | PASS | +-------------------------------+----------------+ | Fedora Linux 40 | PASS | +-------------------------------+----------------+ | CentOS Stream 10 | PASS | +-------------------------------+----------------+ | Fedora Linux 42 | PASS | +-------------------------------+----------------+ | Ubuntu 22.04 | PASS | +-------------------------------+----------------+ | Red Hat Enterprise Linux 8.10 | PASS | +-------------------------------+----------------+ | Debian GNU/Linux 12 | PASS | +-------------------------------+----------------+ | Ubuntu 20.04 | PASS | +-------------------------------+----------------+ | Red Hat Enterprise Linux 9.5 | PASS | +-------------------------------+----------------+ | Ubuntu 24.04 | PASS | +-------------------------------+----------------+ | CentOS Stream 9 | PASS | +-------------------------------+----------------+ | Windows Server 2022 | PASS | +-------------------------------+----------------+ Fedora Linux 41 Kernel: 5.15 Compiler: clang gcc (GCC) 14.3.1 20250523 (Red Hat 14.3.1-1) Fedora Linux 40 Kernel: 5.15 Compiler: clang gcc (GCC) 14.2.1 20240912 (Red Hat 14.2.1-3) CentOS Stream 10 Kernel: 5.15 Compiler: gcc gcc (GCC) 14.2.1 20250110 (Red Hat 14.2.1-8) Fedora Linux 42 Kernel: 5.15 Compiler: clang gcc (GCC) 15.2.1 20250808 (Red Hat 15.2.1-1) Ubuntu 22.04 Kernel: 5.15 Compiler: gcc gcc (Ubuntu 11.4.0-1ubuntu1~22.04) 11.4.0 Red Hat Enterprise Linux 8.10 Kernel: 5.15 Compiler: gcc gcc (GCC) 8.5.0 20210514 (Red Hat 8.5.0-22) Debian GNU/Linux 12 Kernel: 5.15 Compiler: gcc gcc (Debian 12.2.0-14+deb12u1) 12.2.0 Ubuntu 20.04 Kernel: 5.15 Compiler: gcc gcc (Ubuntu 9.4.0-1ubuntu1~20.04.2) 9.4.0 Red Hat Enterprise Linux 9.5 Kernel: 5.15 Compiler: gcc gcc (GCC) 11.5.0 20240719 (Red Hat 11.5.0-2) Ubuntu 24.04 Kernel: 5.15 Compiler: gcc gcc (Ubuntu 13.3.0-6ubuntu2~24.04) 13.3.0 CentOS Stream 9 Kernel: 5.15 Compiler: gcc gcc (GCC) 11.5.0 20240719 (Red Hat 11.5.0-11) Windows Server 2022 Kernel: 10.0.20348.2031 Compiler: clang 15.0.7, gcc 14.1.0 (MinGW), and MSVC VS 19.39.33521 To view detailed results, visit: https://lab.dpdk.org/results/dashboard/patchsets/34480/ UNH-IOL DPDK Community Lab To manage your email subscriptions, visit: https://lab.dpdk.org/results/dashboard/preferences/subscriptions/