From mboxrd@z Thu Jan 1 00:00:00 1970 Return-Path: Received: from mails.dpdk.org (mails.dpdk.org [217.70.189.124]) by inbox.dpdk.org (Postfix) with ESMTP id 5B531489ED for ; Wed, 5 Nov 2025 21:48:24 +0100 (CET) Received: from mails.dpdk.org (localhost [127.0.0.1]) by mails.dpdk.org (Postfix) with ESMTP id 566FB402E6; Wed, 5 Nov 2025 21:48:24 +0100 (CET) Received: from mail-yw1-f225.google.com (mail-yw1-f225.google.com [209.85.128.225]) by mails.dpdk.org (Postfix) with ESMTP id 61FFF402E6 for ; Wed, 5 Nov 2025 21:48:23 +0100 (CET) Received: by mail-yw1-f225.google.com with SMTP id 00721157ae682-781014f4e12so2398237b3.1 for ; Wed, 05 Nov 2025 12:48:23 -0800 (PST) DKIM-Signature: v=1; a=rsa-sha256; c=relaxed/relaxed; d=iol.unh.edu; s=unh-iol; t=1762375703; x=1762980503; darn=dpdk.org; h=references:in-reply-to:cc:to:from:subject:message-id:date:from:to :cc:subject:date:message-id:reply-to; bh=9ls9y/bxENPhTfzJ1AzaiugMRfgMweh5NfOtfVjui0M=; b=Mpd1t9NDOyLkSWK245jUAUvOMluw4Y9y7rYdXoygrkboLPKz97unb2n4bQQvIPAhBD NzWEf3XJXfoyQMKGv1oRiT2Jyl9qhgBvmJMJ8Nj/8cwjS/NWSphP4VoNS1WsVeOwGTPm FI/QDv17bLA/1PkzJmEYDCvxFDphmf0YGBWV8= X-Google-DKIM-Signature: v=1; a=rsa-sha256; c=relaxed/relaxed; d=1e100.net; s=20230601; t=1762375703; x=1762980503; h=references:in-reply-to:cc:to:from:subject:message-id:date :x-gm-message-state:from:to:cc:subject:date:message-id:reply-to; bh=9ls9y/bxENPhTfzJ1AzaiugMRfgMweh5NfOtfVjui0M=; b=TMxXUikvzXe/jZXsi0KC/eSnz0PGmrYbitFt4E3rW7KJ52jyUlo1cwsPINd24jdrUc mdfTm2gRcmEgOxu8yy2nEBS2XUuQydC+Fdhc8eL/KrqYyjqHQg3vn6qS/n2NTQpn0Fju c1Bcm/h94xGE9Zx50w1FSC3/m6Lke3GPUn0oOEUDtuzwLc1G+ybAixa3r7lgm6QtjBOu wa0kgP+rUwCpHErw2Ksrw32qvgPJ9pBPuUDq2N4JhBmYB/mpFczDkuGWpASyeeAjC1ov OkvBlmjCbBhfDQoZNsDuSQ4p+LF3iN3I+Z1MPK3XGAFOlv/6AfMQMIiRq6nBnfh0D0+j qQMg== X-Gm-Message-State: AOJu0YwOKFrdwUXqwGBJm2O/Or/NSw5K71GciiHlLUeeNIBOhbJQed0G 9lJyNvq8GSOIe/OOpCmvh2lQodaZTseoe+U4wg5026gxW/Au6rJK3fuasunXB95M/vuHibDcYUk WuPYnQiZplkcWacVfZOk7QQavp99omzpaWTyHsOUIr7dhM/xBwGZF82LGiIQU X-Gm-Gg: ASbGncsgzt0PlvGgsnyGpHnqyKSJvkBeWJCQrB9SIVcuTO4bEteCVJyKDYvXGy36ZD4 bLtVe15dU/Lyhe5Mz7YmvkA/7wF/3NP07VojbAvofviCsRe0CY8hR6JNE7Eix0+EKkCTih8JvEY QTSEhnv2IAkrqhmLinqg1aV8EzzlvEwlBCK/emATZEfBtrTUHPb6rEsLM/Xb1Xj+9qzGNd2oR8K MKFkGOO0H0LZ2IjvgQqFBshksiBh6KMvOzTAh7ac4NhwxJy963df81UpI/siae6UC8NfuPhbPg5 nEyzlnW10HlbhcoTctG01W99f7sJaitzKU1RXWU3y1LavOPx+5423QLYFaVE1PLK6ZQfIygeKs3 yCpOz3IYP X-Google-Smtp-Source: AGHT+IF5YKvfEaFW2i9CzzbBR6cC2nDM1y6a3hMAtyonuWSpK7Vsr9JfADCQHsfV2yXdIabSMxOtid15JIPQ X-Received: by 2002:a05:690c:a083:10b0:786:8a95:1e00 with SMTP id 00721157ae682-786a40fffe7mr37936957b3.10.1762375702824; Wed, 05 Nov 2025 12:48:22 -0800 (PST) Received: from postal.iol.unh.edu (postal.iol.unh.edu. [2606:4100:3880:1234::84]) by smtp-relay.gmail.com with ESMTPS id 00721157ae682-787b1d9fcd2sm323867b3.33.2025.11.05.12.48.22 (version=TLS1_2 cipher=ECDHE-ECDSA-AES128-GCM-SHA256 bits=128/128); Wed, 05 Nov 2025 12:48:22 -0800 (PST) X-Relaying-Domain: iol.unh.edu Date: Wed, 05 Nov 2025 12:48:22 -0800 (PST) Message-ID: <690bb816.050a0220.28b90e.1d4aSMTPIN_ADDED_MISSING@mx.google.com> Received: from [172.21.0.2] (unknown [172.18.0.240]) by postal.iol.unh.edu (Postfix) with ESMTP id 5174960003E7; Wed, 5 Nov 2025 15:48:22 -0500 (EST) Subject: |SUCCESS| pw158477 [PATCH] net/bonding: fix MAC address propagation From: dpdklab@iol.unh.edu To: Test Report Cc: dpdk-test-reports@iol.unh.edu, Stephen Hemminger In-Reply-To: <20251105180135.1181619-1-shperetz@nvidia.com> References: <20251105180135.1181619-1-shperetz@nvidia.com> Content-Type: text/plain X-BeenThere: test-report@dpdk.org X-Mailman-Version: 2.1.29 Precedence: list List-Id: automatic DPDK test reports List-Unsubscribe: , List-Archive: List-Post: List-Help: List-Subscribe: , Errors-To: test-report-bounces@dpdk.org Test-Label: iol-compile-amd64-testing Test-Status: SUCCESS http://dpdk.org/patch/158477 _Testing PASS_ Submitter: Shani Peretz Date: Wednesday, November 05 2025 18:01:35 DPDK git baseline: Repo:dpdk-next-net Branch: master CommitID:538052bb364db22ba8cc08b5e23a9e6d25a864a9 158477 --> testing pass Upstream job id: Windows-Compile-DPDK-VS#7439 Test environment and result as below: +-------------------------------+--------------------+------------------+-------------------+ | Environment | dpdk_meson_compile | dpdk_compile_ovs | dpdk_msvc_compile | +===============================+====================+==================+===================+ | Ubuntu 20.04 | PASS | SKIPPED | SKIPPED | +-------------------------------+--------------------+------------------+-------------------+ | FreeBSD 14.2 | PASS | SKIPPED | SKIPPED | +-------------------------------+--------------------+------------------+-------------------+ | Ubuntu 22.04 | PASS | SKIPPED | SKIPPED | +-------------------------------+--------------------+------------------+-------------------+ | CentOS Stream 9 | PASS | SKIPPED | SKIPPED | +-------------------------------+--------------------+------------------+-------------------+ | CentOS Stream 10 | PASS | SKIPPED | SKIPPED | +-------------------------------+--------------------+------------------+-------------------+ | Debian GNU/Linux 12 | PASS | SKIPPED | SKIPPED | +-------------------------------+--------------------+------------------+-------------------+ | Fedora Linux 42 | PASS | PASS | SKIPPED | +-------------------------------+--------------------+------------------+-------------------+ | openSUSE Leap 15.6 | PASS | SKIPPED | SKIPPED | +-------------------------------+--------------------+------------------+-------------------+ | Red Hat Enterprise Linux 8.10 | PASS | SKIPPED | SKIPPED | +-------------------------------+--------------------+------------------+-------------------+ | Red Hat Enterprise Linux 9.5 | PASS | SKIPPED | SKIPPED | +-------------------------------+--------------------+------------------+-------------------+ | Ubuntu 24.04 | PASS | PASS | SKIPPED | +-------------------------------+--------------------+------------------+-------------------+ | Alpine Linux 3.22.0 | PASS | SKIPPED | SKIPPED | +-------------------------------+--------------------+------------------+-------------------+ | Windows Server 2022 | SKIPPED | SKIPPED | PASS | +-------------------------------+--------------------+------------------+-------------------+ Ubuntu 20.04 Kernel: 4.19 Compiler: gcc gcc (Ubuntu 9.4.0-1ubuntu1~20.04.2) 9.4.0 FreeBSD 14.2 Kernel: 14.2-RELEASE Compiler: clang 18.1.6 Ubuntu 22.04 Kernel: 5.15 Compiler: gcc gcc (Ubuntu 11.4.0-1ubuntu1~22.04) 11.4.0 CentOS Stream 9 Kernel: 5.15 Compiler: gcc gcc (GCC) 11.5.0 20240719 (Red Hat 11.5.0-11) CentOS Stream 10 Kernel: 5.15 Compiler: gcc gcc (GCC) 14.2.1 20250110 (Red Hat 14.2.1-8) Debian GNU/Linux 12 Kernel: 5.15 Compiler: gcc gcc (Debian 12.2.0-14+deb12u1) 12.2.0 Fedora Linux 42 Kernel: 5.15 Compiler: clang gcc (GCC) 15.2.1 20250808 (Red Hat 15.2.1-1) openSUSE Leap 15.6 Kernel: 5.15 Compiler: gcc gcc (SUSE Linux) 7.5.0 Red Hat Enterprise Linux 8.10 Kernel: 5.15 Compiler: gcc gcc (GCC) 8.5.0 20210514 (Red Hat 8.5.0-22) Red Hat Enterprise Linux 9.5 Kernel: 5.15 Compiler: gcc gcc (GCC) 11.5.0 20240719 (Red Hat 11.5.0-2) Ubuntu 24.04 Kernel: 5.15 Compiler: gcc gcc (Ubuntu 13.3.0-6ubuntu2~24.04) 13.3.0 Alpine Linux 3.22.0 Kernel: 5.15 Compiler: gcc gcc (Alpine 14.2.0) 14.2.0 Windows Server 2022 Kernel: 10.0.20348.2031 Compiler: clang 15.0.7, gcc 14.1.0 (MinGW), and MSVC VS 19.39.33521 To view detailed results, visit: https://lab.dpdk.org/results/dashboard/patchsets/34481/ UNH-IOL DPDK Community Lab To manage your email subscriptions, visit: https://lab.dpdk.org/results/dashboard/preferences/subscriptions/