From mboxrd@z Thu Jan 1 00:00:00 1970 Return-Path: Received: from mails.dpdk.org (mails.dpdk.org [217.70.189.124]) by inbox.dpdk.org (Postfix) with ESMTP id 7DBB8489ED for ; Wed, 5 Nov 2025 21:49:34 +0100 (CET) Received: from mails.dpdk.org (localhost [127.0.0.1]) by mails.dpdk.org (Postfix) with ESMTP id 76B78402E6; Wed, 5 Nov 2025 21:49:34 +0100 (CET) Received: from mail-il1-f227.google.com (mail-il1-f227.google.com [209.85.166.227]) by mails.dpdk.org (Postfix) with ESMTP id 3FD3E402E6 for ; Wed, 5 Nov 2025 21:49:33 +0100 (CET) Received: by mail-il1-f227.google.com with SMTP id e9e14a558f8ab-4330eb0f232so5299835ab.0 for ; Wed, 05 Nov 2025 12:49:33 -0800 (PST) DKIM-Signature: v=1; a=rsa-sha256; c=relaxed/relaxed; d=iol.unh.edu; s=unh-iol; t=1762375772; x=1762980572; darn=dpdk.org; h=references:in-reply-to:cc:to:from:subject:message-id:date:from:to :cc:subject:date:message-id:reply-to; bh=gQYEs5dpVi0/nlB2/2mZ9mZ8uxDf/OdXbEsUqPhYw/4=; b=PnMVXthrskgovbz9ydEN4N0E6wSydF7sUEfjM0M+CnPlXFeZcq2R3z/FzvWvXeUnMx duOclhV3jJeiLD2ZuWZKPq7zTYk4/aUxei4xaAy4LlPT0v/YGoh4uhw4hpvUX8/OuLcm Bo57xFVmyjuflYd5wv5HWK9FVP+mIZAJPbkFA= X-Google-DKIM-Signature: v=1; a=rsa-sha256; c=relaxed/relaxed; d=1e100.net; s=20230601; t=1762375772; x=1762980572; h=references:in-reply-to:cc:to:from:subject:message-id:date:x-gm-gg :x-gm-message-state:from:to:cc:subject:date:message-id:reply-to; bh=gQYEs5dpVi0/nlB2/2mZ9mZ8uxDf/OdXbEsUqPhYw/4=; b=jY2XXOVx4dGqTycvsDqkVc36GZ9Msp36MYeh4ffru+Ad7bn2n7ka5eXS2GH8KZfNK1 LhX3WzGidh01YYfIG13RXG+jnexXC4Zr80ewwzYm3+Pk9dqPT7L+phmfQiA5xrTJkUVM e72UmWASmSs3/OQiPE/gA8rDg6119qqxTMnwdvAQYuoTgenTzMu7ZXpJhlxFkgziH+jR ne4VosJ0M4+aitw5TQPzv1VqPpxC9MuB1QqiTfqDAwDFkJT/W4buHUgl77GZWZ6niW08 ZCVSkTxMoaUq1wYasx3SyAxZKvsLLdGwxbPNUFkGgQ1FJQu+K8lJn+tEdzw8JRZzntTy j+3A== X-Gm-Message-State: AOJu0YxMmMKss+2SKYqtgHJBv56VDRm6MNxnjYcPt+uvRIELNdfge3Br A32UpPEGhtMLNyBt6TSNxK/jxNThF4l1L1M189ysUrTFj+O2gRaO6XZq/t3GzeYGzAJCvu6Q0qO HcEFbLXm1CtdWdEI/rLeAZGSd+cTfz2/ZZl8vmDVS+XKUjuyJ/vf/16XhnLWl X-Gm-Gg: ASbGncugBxxQgI7343xhPqv9euaHvF0LkTbMWJYB2s9D1vAyCuJpyeqm2FEE/HLt2DT IVoNeEBb4Xl2JjefmL3CE2Y7Iy5gX9tLiwy6jwtnjjyHlWieD8j8e45iuKzneqzLmwjiLVLVurc IC7TqYeifvS7j4gJceu4DYAjV6KftStJqPU6F/vO6dwFjYRdffI3MYaDHpLEzZQGvoh26TDEq6X tzkz3DbA1Ov4/+skrWpA0OGZ5I8I7wyLF9z/BrjDPaxsLJpL8Uy7KBdG+6vBxajaC5Ma9r5a3pH fGZM5CYx09K+EoBiJL/9dj+GNnqW2FfL4xAh5HmVVPx4f7astZE6Qh6UD9Zps4OnIdCv6OfEcAh N3E7ugfu8 X-Google-Smtp-Source: AGHT+IF2yCNbZsK+zSfAVrFsm2e4DlUS1mlEb1tsHcRs6CdFpfVET5tlzKP4RicML0yUNLZ5eIiXprBFfVgI X-Received: by 2002:a92:da4d:0:b0:433:2cf4:5ffb with SMTP id e9e14a558f8ab-4334ee5cb6emr11275415ab.6.1762375772537; Wed, 05 Nov 2025 12:49:32 -0800 (PST) Received: from postal.iol.unh.edu (postal.iol.unh.edu. [2606:4100:3880:1234::84]) by smtp-relay.gmail.com with ESMTPS id 8926c6da1cb9f-5b74676a695sm33015173.9.2025.11.05.12.49.32 (version=TLS1_2 cipher=ECDHE-ECDSA-AES128-GCM-SHA256 bits=128/128); Wed, 05 Nov 2025 12:49:32 -0800 (PST) X-Relaying-Domain: iol.unh.edu Date: Wed, 05 Nov 2025 12:49:32 -0800 (PST) Message-ID: <690bb85c.050a0220.2dee7.1d50SMTPIN_ADDED_MISSING@mx.google.com> Received: from [172.21.0.2] (unknown [172.18.0.240]) by postal.iol.unh.edu (Postfix) with ESMTP id EFB856051830; Wed, 5 Nov 2025 15:49:31 -0500 (EST) Subject: |SUCCESS| pw158459 [PATCH] [v1] net/mlx5: fix invalid queue index ha From: dpdklab@iol.unh.edu To: Test Report Cc: dpdk-test-reports@iol.unh.edu In-Reply-To: <20251105125200.468312-1-rongweil@nvidia.com> References: <20251105125200.468312-1-rongweil@nvidia.com> Content-Type: text/plain X-BeenThere: test-report@dpdk.org X-Mailman-Version: 2.1.29 Precedence: list List-Id: automatic DPDK test reports List-Unsubscribe: , List-Archive: List-Post: List-Help: List-Subscribe: , Errors-To: test-report-bounces@dpdk.org Test-Label: iol-compile-amd64-testing Test-Status: SUCCESS http://dpdk.org/patch/158459 _Testing PASS_ Submitter: Rongwei Liu Date: Wednesday, November 05 2025 12:52:00 DPDK git baseline: Repo:dpdk-next-net-mlx Branch: master CommitID:f1c1f82f2421be9ac2f46b4ec2a616ca28da4ca7 158459 --> testing pass Upstream job id: Windows-Compile-DPDK-Native#32142 Test environment and result as below: +-------------------------------+--------------------+------------------+-------------------+-------------------------+----------------------+ | Environment | dpdk_meson_compile | dpdk_compile_ovs | dpdk_msvc_compile | dpdk_llvm_clang_compile | dpdk_mingw64_compile | +===============================+====================+==================+===================+=========================+======================+ | Debian GNU/Linux 12 | PASS | SKIPPED | SKIPPED | SKIPPED | SKIPPED | +-------------------------------+--------------------+------------------+-------------------+-------------------------+----------------------+ | Ubuntu 24.04 | PASS | PASS | SKIPPED | SKIPPED | SKIPPED | +-------------------------------+--------------------+------------------+-------------------+-------------------------+----------------------+ | CentOS Stream 9 | PASS | SKIPPED | SKIPPED | SKIPPED | SKIPPED | +-------------------------------+--------------------+------------------+-------------------+-------------------------+----------------------+ | CentOS Stream 10 | PASS | SKIPPED | SKIPPED | SKIPPED | SKIPPED | +-------------------------------+--------------------+------------------+-------------------+-------------------------+----------------------+ | Ubuntu 20.04 | PASS | SKIPPED | SKIPPED | SKIPPED | SKIPPED | +-------------------------------+--------------------+------------------+-------------------+-------------------------+----------------------+ | Fedora Linux 42 | PASS | PASS | SKIPPED | SKIPPED | SKIPPED | +-------------------------------+--------------------+------------------+-------------------+-------------------------+----------------------+ | Red Hat Enterprise Linux 9.5 | PASS | SKIPPED | SKIPPED | SKIPPED | SKIPPED | +-------------------------------+--------------------+------------------+-------------------+-------------------------+----------------------+ | Ubuntu 22.04 | PASS | SKIPPED | SKIPPED | SKIPPED | SKIPPED | +-------------------------------+--------------------+------------------+-------------------+-------------------------+----------------------+ | Red Hat Enterprise Linux 8.10 | PASS | SKIPPED | SKIPPED | SKIPPED | SKIPPED | +-------------------------------+--------------------+------------------+-------------------+-------------------------+----------------------+ | Alpine Linux 3.22.0 | PASS | SKIPPED | SKIPPED | SKIPPED | SKIPPED | +-------------------------------+--------------------+------------------+-------------------+-------------------------+----------------------+ | openSUSE Leap 15.6 | PASS | SKIPPED | SKIPPED | SKIPPED | SKIPPED | +-------------------------------+--------------------+------------------+-------------------+-------------------------+----------------------+ | FreeBSD 14.2 | PASS | SKIPPED | SKIPPED | SKIPPED | SKIPPED | +-------------------------------+--------------------+------------------+-------------------+-------------------------+----------------------+ | Windows Server 2022 | SKIPPED | SKIPPED | PASS | PASS | PASS | +-------------------------------+--------------------+------------------+-------------------+-------------------------+----------------------+ Debian GNU/Linux 12 Kernel: 5.15 Compiler: gcc gcc (Debian 12.2.0-14+deb12u1) 12.2.0 Ubuntu 24.04 Kernel: 5.15 Compiler: gcc gcc (Ubuntu 13.3.0-6ubuntu2~24.04) 13.3.0 CentOS Stream 9 Kernel: 5.15 Compiler: gcc gcc (GCC) 11.5.0 20240719 (Red Hat 11.5.0-11) CentOS Stream 10 Kernel: 5.15 Compiler: gcc gcc (GCC) 14.2.1 20250110 (Red Hat 14.2.1-8) Ubuntu 20.04 Kernel: 4.19 Compiler: gcc gcc (Ubuntu 9.4.0-1ubuntu1~20.04.2) 9.4.0 Fedora Linux 42 Kernel: 5.15 Compiler: clang gcc (GCC) 15.2.1 20250808 (Red Hat 15.2.1-1) Red Hat Enterprise Linux 9.5 Kernel: 5.15 Compiler: gcc gcc (GCC) 11.5.0 20240719 (Red Hat 11.5.0-2) Ubuntu 22.04 Kernel: 5.15 Compiler: gcc gcc (Ubuntu 11.4.0-1ubuntu1~22.04) 11.4.0 Red Hat Enterprise Linux 8.10 Kernel: 5.15 Compiler: gcc gcc (GCC) 8.5.0 20210514 (Red Hat 8.5.0-22) Alpine Linux 3.22.0 Kernel: 5.15 Compiler: gcc gcc (Alpine 14.2.0) 14.2.0 openSUSE Leap 15.6 Kernel: 5.15 Compiler: gcc gcc (SUSE Linux) 7.5.0 FreeBSD 14.2 Kernel: 14.2-RELEASE Compiler: clang 18.1.6 Windows Server 2022 Kernel: 10.0.20348.2031 Compiler: clang 15.0.7, gcc 14.1.0 (MinGW), and MSVC VS 19.39.33521 To view detailed results, visit: https://lab.dpdk.org/results/dashboard/patchsets/34474/ UNH-IOL DPDK Community Lab To manage your email subscriptions, visit: https://lab.dpdk.org/results/dashboard/preferences/subscriptions/