From mboxrd@z Thu Jan 1 00:00:00 1970 Return-Path: Received: from mails.dpdk.org (mails.dpdk.org [217.70.189.124]) by inbox.dpdk.org (Postfix) with ESMTP id 679A5489ED for ; Wed, 5 Nov 2025 21:57:32 +0100 (CET) Received: from mails.dpdk.org (localhost [127.0.0.1]) by mails.dpdk.org (Postfix) with ESMTP id 4C1E4402E6; Wed, 5 Nov 2025 21:57:32 +0100 (CET) Received: from mail-qv1-f98.google.com (mail-qv1-f98.google.com [209.85.219.98]) by mails.dpdk.org (Postfix) with ESMTP id 8ABC7402E6 for ; Wed, 5 Nov 2025 21:57:30 +0100 (CET) Received: by mail-qv1-f98.google.com with SMTP id 6a1803df08f44-880576ebe38so3298726d6.2 for ; Wed, 05 Nov 2025 12:57:30 -0800 (PST) DKIM-Signature: v=1; a=rsa-sha256; c=relaxed/relaxed; d=iol.unh.edu; s=unh-iol; t=1762376250; x=1762981050; darn=dpdk.org; h=references:in-reply-to:cc:to:from:subject:message-id:date:from:to :cc:subject:date:message-id:reply-to; bh=9HtiKsIs/0i648QrmjXv9mTnXZMvQ8fAiIPIhNeurng=; b=d29uMZaimayrXOKNfCnRHNqNqenVtsREBuNguDpD/koD7cg1nucCWvwDCJVV8YBJ8Y b1nOeIMysBAfgSriiQQjYyanbeAchPk/of6LlHv2CdPWBA+SkP8/DZJ1/CVOTK3wPVYR xVMdeJLG072GzFJQ6bcbYLXLSeucZy1cvJPWE= X-Google-DKIM-Signature: v=1; a=rsa-sha256; c=relaxed/relaxed; d=1e100.net; s=20230601; t=1762376250; x=1762981050; h=references:in-reply-to:cc:to:from:subject:message-id:date :x-gm-message-state:from:to:cc:subject:date:message-id:reply-to; bh=9HtiKsIs/0i648QrmjXv9mTnXZMvQ8fAiIPIhNeurng=; b=w0iiOGIWNOliSVS2xBCKCjxa4mT5iH6e8Yqr9kZI2mxRNyZGuAaWBWi3kgavEHzgiT jQcQUUnB0YOW0byxUx7OeQNQOX2k3Kfyfq1IhNY4D0j6VUw1d9nOgg3w2FsWA5LbS38m 0180NZ2Y9xp2eKXALHJeq2ZzMAGJNes8hB9UTBc9TPVdpHMmgx7Qyrq0trhAeljI8H6u HMJIajaj1OUd6GKaODaMP1Np8IFNXsRzTaXoIoRlin1jcEiG5saqUwpSteGZRHophzN1 wME92Z1lgtdE3Aukp303BDioC9Z1KZENPEdPX8KG/wxJ7/F8QtqAuuzMb+TEKvUshJrE FmVw== X-Gm-Message-State: AOJu0Yw/uZIBk/C4a4KMfUB3SoEX8WEhbaY/JvijcJZ/cXPToycUfF+p kTPvxTPuzLZCoXibCAmEYiBuPX0cXO+gqBYjYcvW6k4asYhqr2R99aD3Oatr5phmpfo/WBQWk6i Ai3WK2ZHw18S6TiDaX8kOo0o6Wp/5oNrOaGE1T+GGz9OSSf9867K/qN1QXQVF X-Gm-Gg: ASbGnctJxWzotFYnYukPKCs/DBaVEo8GfyWP/ykhC3XaTt0VFK4HSKdotP9UA5AEesP lnZcH+SqiZpp1xS/PNRxoNYlPvrzTX/aSk9BNtmjusA6A26DciPZoNqvDMAyu3MGaqH0l4VgtAG eGPEhXwxxAwm80PnnmKblrdAdSV2gLJj47c9cWYvUaDl58JulwHqQYs2yaT9WD+3ZPMUeqgUQfg 4pb+fZrw+hRrmgOUHvWBRboTbl9zHFJl7R7vfOMYSvQ4E0V8Evm4TM6Nk6x24kQHqOLprw5Ouw0 u/7n29+1OdAinLpVzCAHNWRwlBtgMgWBkrys68vXzaPSk/QyPrlJK2V7mkfTVLAQnJ5DQqUwgrg wBM+jVOa6 X-Google-Smtp-Source: AGHT+IFKzJh5+q1hucYdp+wf2xsDrzlcFzL+E12Axbs6w0IW4UwDFHR2tQCNRhVjab2wzsGz09DCGUqJMcx+ X-Received: by 2002:ad4:5967:0:b0:78d:be82:fffa with SMTP id 6a1803df08f44-88071160100mr72097286d6.33.1762376249921; Wed, 05 Nov 2025 12:57:29 -0800 (PST) Received: from postal.iol.unh.edu (postal.iol.unh.edu. [2606:4100:3880:1234::84]) by smtp-relay.gmail.com with ESMTPS id 6a1803df08f44-880829c925bsm514156d6.19.2025.11.05.12.57.29 (version=TLS1_2 cipher=ECDHE-ECDSA-AES128-GCM-SHA256 bits=128/128); Wed, 05 Nov 2025 12:57:29 -0800 (PST) X-Relaying-Domain: iol.unh.edu Date: Wed, 05 Nov 2025 12:57:29 -0800 (PST) Message-ID: <690bba39.d40a0220.1e75a2.2dd7SMTPIN_ADDED_MISSING@mx.google.com> Received: from [172.21.0.2] (unknown [172.18.0.240]) by postal.iol.unh.edu (Postfix) with ESMTP id 984E96051830; Wed, 5 Nov 2025 15:57:29 -0500 (EST) Subject: |SUCCESS| pw158477 [PATCH] net/bonding: fix MAC address propagation From: dpdklab@iol.unh.edu To: Test Report Cc: dpdk-test-reports@iol.unh.edu, Stephen Hemminger In-Reply-To: <20251105180135.1181619-1-shperetz@nvidia.com> References: <20251105180135.1181619-1-shperetz@nvidia.com> Content-Type: text/plain X-BeenThere: test-report@dpdk.org X-Mailman-Version: 2.1.29 Precedence: list List-Id: automatic DPDK test reports List-Unsubscribe: , List-Archive: List-Post: List-Help: List-Subscribe: , Errors-To: test-report-bounces@dpdk.org Test-Label: iol-unit-amd64-testing Test-Status: SUCCESS http://dpdk.org/patch/158477 _Testing PASS_ Submitter: Shani Peretz Date: Wednesday, November 05 2025 18:01:35 DPDK git baseline: Repo:dpdk-next-net Branch: master CommitID:538052bb364db22ba8cc08b5e23a9e6d25a864a9 158477 --> testing pass Upstream job id: Generic-VM-Unit-Test-DPDK#32327 Test environment and result as below: +-------------------------------+----------------+ | Environment | dpdk_unit_test | +===============================+================+ | CentOS Stream 9 | PASS | +-------------------------------+----------------+ | CentOS Stream 10 | PASS | +-------------------------------+----------------+ | Fedora Linux 40 | PASS | +-------------------------------+----------------+ | Debian GNU/Linux 12 | PASS | +-------------------------------+----------------+ | Fedora Linux 41 | PASS | +-------------------------------+----------------+ | Fedora Linux 42 | PASS | +-------------------------------+----------------+ | Red Hat Enterprise Linux 9.5 | PASS | +-------------------------------+----------------+ | Red Hat Enterprise Linux 8.10 | PASS | +-------------------------------+----------------+ | Ubuntu 24.04 | PASS | +-------------------------------+----------------+ | Ubuntu 22.04 | PASS | +-------------------------------+----------------+ | Ubuntu 20.04 | PASS | +-------------------------------+----------------+ | Windows Server 2022 | PASS | +-------------------------------+----------------+ CentOS Stream 9 Kernel: 5.15 Compiler: gcc gcc (GCC) 11.5.0 20240719 (Red Hat 11.5.0-11) CentOS Stream 10 Kernel: 5.15 Compiler: gcc gcc (GCC) 14.2.1 20250110 (Red Hat 14.2.1-8) Fedora Linux 40 Kernel: 5.15 Compiler: gcc gcc (GCC) 14.2.1 20240912 (Red Hat 14.2.1-3) Debian GNU/Linux 12 Kernel: 5.15 Compiler: gcc gcc (Debian 12.2.0-14+deb12u1) 12.2.0 Fedora Linux 41 Kernel: 5.15 Compiler: clang gcc (GCC) 14.3.1 20250523 (Red Hat 14.3.1-1) Fedora Linux 42 Kernel: 5.15 Compiler: clang gcc (GCC) 15.2.1 20250808 (Red Hat 15.2.1-1) Red Hat Enterprise Linux 9.5 Kernel: 5.15 Compiler: gcc gcc (GCC) 11.5.0 20240719 (Red Hat 11.5.0-2) Red Hat Enterprise Linux 8.10 Kernel: 5.15 Compiler: gcc gcc (GCC) 8.5.0 20210514 (Red Hat 8.5.0-22) Ubuntu 24.04 Kernel: 5.15 Compiler: gcc gcc (Ubuntu 13.3.0-6ubuntu2~24.04) 13.3.0 Ubuntu 22.04 Kernel: 5.15 Compiler: gcc gcc (Ubuntu 11.4.0-1ubuntu1~22.04) 11.4.0 Ubuntu 20.04 Kernel: 5.15 Compiler: gcc gcc (Ubuntu 9.4.0-1ubuntu1~20.04.2) 9.4.0 Windows Server 2022 Kernel: 10.0.20348.2031 Compiler: clang 15.0.7, gcc 14.1.0 (MinGW), and MSVC VS 19.39.33521 To view detailed results, visit: https://lab.dpdk.org/results/dashboard/patchsets/34481/ UNH-IOL DPDK Community Lab To manage your email subscriptions, visit: https://lab.dpdk.org/results/dashboard/preferences/subscriptions/