From mboxrd@z Thu Jan 1 00:00:00 1970 Return-Path: Received: from mails.dpdk.org (mails.dpdk.org [217.70.189.124]) by inbox.dpdk.org (Postfix) with ESMTP id C910348A4E for ; Wed, 5 Nov 2025 22:01:39 +0100 (CET) Received: from mails.dpdk.org (localhost [127.0.0.1]) by mails.dpdk.org (Postfix) with ESMTP id ACA20402E6; Wed, 5 Nov 2025 22:01:39 +0100 (CET) Received: from mail-io1-f99.google.com (mail-io1-f99.google.com [209.85.166.99]) by mails.dpdk.org (Postfix) with ESMTP id 02290402E6 for ; Wed, 5 Nov 2025 22:01:37 +0100 (CET) Received: by mail-io1-f99.google.com with SMTP id ca18e2360f4ac-9486d008fdbso15921139f.1 for ; Wed, 05 Nov 2025 13:01:37 -0800 (PST) DKIM-Signature: v=1; a=rsa-sha256; c=relaxed/relaxed; d=iol.unh.edu; s=unh-iol; t=1762376497; x=1762981297; darn=dpdk.org; h=references:in-reply-to:cc:to:from:subject:message-id:date:from:to :cc:subject:date:message-id:reply-to; bh=MmIebDjHCCh45GOkijvDA0VSp9PCO9H+5HBI8e/EIDk=; b=Pb4LeKjMPuDWxXYtcB5sbVvmTBp046NLkspezg3pDW6tTLZYsESYmvQYuzhtPwbM4h X2lm4IzUza95cUXuA3Ra4GM/w4QvG4Z2enRMX5c+cx08mXvDeJWTgEJhPrP5XhDdkd3E P5D5FlmYb+V4dqcTYzDfnpffVI1+lzkb5E+ig= X-Google-DKIM-Signature: v=1; a=rsa-sha256; c=relaxed/relaxed; d=1e100.net; s=20230601; t=1762376497; x=1762981297; h=references:in-reply-to:cc:to:from:subject:message-id:date:x-gm-gg :x-gm-message-state:from:to:cc:subject:date:message-id:reply-to; bh=MmIebDjHCCh45GOkijvDA0VSp9PCO9H+5HBI8e/EIDk=; b=fq3zYt7IKs0UaukK3n3rTh5qtjxU96rDI2mGvWbhCwbQFFO8N4qNucrPFANF3O/qCt tAJP8Xss/cwFXetxway8w71xf5HtVpWHbGyrclsIQN87X+0ETlaOykH3VItYhPK2uNTs GLwgeXTXQ6yRxFmCb5bMtDfO+Ey0ODxghF8XldPjYr5/eD+bktSSImX3NZmnZJtpmJ82 OYB5bi2bCft21r2QFiv2f6yBSbIWpTyw3P5fYdkCA+ihHD2vNGIOBXEVzqOanug7jneV paPIffKEcy4w72u6g699tiCjXgEqWyHo6WYOYQ6Ua0uL01Nwc8REJYNFxt8qCDtsG/Fx gEZg== X-Gm-Message-State: AOJu0YwR9cXzirQ4WFFEpJkqWvODao6hFtIFtGBHCavuOK7zvf7ZccUC XAmI2HaMP1n3beumqUGCoK5nTnxBkor2w6x6pNTr1D7CXmYuFaRCJrKTdlIiFZFbkKPF+0etEEw UifuJRNUbet/gdqrYDIQwbBUZmMcEkZ96nRuYLf/R7nsz X-Gm-Gg: ASbGncuQ4baM/0TURX1KBp72E10XjMSiai5EHjUYgqvQCWGfZoLM04R28tkCAK2O9JL P69QbpQHWSDRnBZcc2EThoJsJjxhAAqzKx39piWhbeisZbf9pdY4V3a6dL5658K3gDhYhyAWkhJ iO4C55abBUvdpvWehfOMiuN2zTgepy9WVZUtmlwbpQo8k+1ofA/1AJYaYYjPXQPjjpNikikiBD8 FQl9rMc+0Sp9cukvMSNBLvTIycROWJyQLIFctlw2gKIOt/UHoKwNH3e1F7+qBDBfISXpTd1gT9+ fpI2vXU0dnc9yqiQTP13e41/+HZ9lzydG1uWz9MLtkk0YNBMbHm5vRRYk6dOx44z03tPnPmdH3j SWWo0M7OVfvzqbu185/GzwfMqwWsPg8w= X-Google-Smtp-Source: AGHT+IG+SkKw7w22V1TuchODY4v5NyF4hZUGMrEkkg/OUpvhJTN2G3toTNw7u3ud0K1mIbxS5r3ZM53uO6dY X-Received: by 2002:a5e:c641:0:b0:945:9e9c:721 with SMTP id ca18e2360f4ac-94879516b3fmr123138739f.3.1762376497190; Wed, 05 Nov 2025 13:01:37 -0800 (PST) Received: from postal.iol.unh.edu (postal.iol.unh.edu. [132.177.123.84]) by smtp-relay.gmail.com with ESMTPS id ca18e2360f4ac-9487935c8c8sm4601339f.0.2025.11.05.13.01.37 (version=TLS1_2 cipher=ECDHE-ECDSA-AES128-GCM-SHA256 bits=128/128); Wed, 05 Nov 2025 13:01:37 -0800 (PST) X-Relaying-Domain: iol.unh.edu Date: Wed, 05 Nov 2025 13:01:37 -0800 (PST) Message-ID: <690bbb31.050a0220.1d84ed.28bbSMTPIN_ADDED_MISSING@mx.google.com> Received: from [172.21.0.3] (unknown [172.18.0.240]) by postal.iol.unh.edu (Postfix) with ESMTP id B38F36051830; Wed, 5 Nov 2025 16:01:36 -0500 (EST) Subject: |SUCCESS| pw158461-158466 [PATCH] [v2,6/6] net/iavf: fix QinQ insert From: dpdklab@iol.unh.edu To: Test Report Cc: dpdk-test-reports@iol.unh.edu, Bruce Richardson In-Reply-To: <20251105152642.2981673-7-ciara.loftus@intel.com> References: <20251105152642.2981673-7-ciara.loftus@intel.com> Content-Type: text/plain X-BeenThere: test-report@dpdk.org X-Mailman-Version: 2.1.29 Precedence: list List-Id: automatic DPDK test reports List-Unsubscribe: , List-Archive: List-Post: List-Help: List-Subscribe: , Errors-To: test-report-bounces@dpdk.org Test-Label: iol-compile-amd64-testing Test-Status: SUCCESS http://dpdk.org/patch/158466 _Testing PASS_ Submitter: Ciara Loftus Date: Wednesday, November 05 2025 15:26:42 DPDK git baseline: Repo:dpdk-next-net-intel Branch: master CommitID:03e1f9ac281264a54af53f547a2eb80f25bc19e6 158461-158466 --> testing pass Upstream job id: Windows-Compile-DPDK-Native#32143 Test environment and result as below: +-------------------------------+--------------------+------------------+-------------------+-------------------------+ | Environment | dpdk_meson_compile | dpdk_compile_ovs | dpdk_msvc_compile | dpdk_llvm_clang_compile | +===============================+====================+==================+===================+=========================+ | Ubuntu 20.04 | PASS | SKIPPED | SKIPPED | SKIPPED | +-------------------------------+--------------------+------------------+-------------------+-------------------------+ | CentOS Stream 9 | PASS | SKIPPED | SKIPPED | SKIPPED | +-------------------------------+--------------------+------------------+-------------------+-------------------------+ | CentOS Stream 10 | PASS | SKIPPED | SKIPPED | SKIPPED | +-------------------------------+--------------------+------------------+-------------------+-------------------------+ | Debian GNU/Linux 12 | PASS | SKIPPED | SKIPPED | SKIPPED | +-------------------------------+--------------------+------------------+-------------------+-------------------------+ | Fedora Linux 42 | PASS | PASS | SKIPPED | SKIPPED | +-------------------------------+--------------------+------------------+-------------------+-------------------------+ | openSUSE Leap 15.6 | PASS | SKIPPED | SKIPPED | SKIPPED | +-------------------------------+--------------------+------------------+-------------------+-------------------------+ | Red Hat Enterprise Linux 8.10 | PASS | SKIPPED | SKIPPED | SKIPPED | +-------------------------------+--------------------+------------------+-------------------+-------------------------+ | Red Hat Enterprise Linux 9.5 | PASS | SKIPPED | SKIPPED | SKIPPED | +-------------------------------+--------------------+------------------+-------------------+-------------------------+ | Ubuntu 22.04 | PASS | SKIPPED | SKIPPED | SKIPPED | +-------------------------------+--------------------+------------------+-------------------+-------------------------+ | Ubuntu 24.04 | PASS | PASS | SKIPPED | SKIPPED | +-------------------------------+--------------------+------------------+-------------------+-------------------------+ | FreeBSD 14.2 | PASS | SKIPPED | SKIPPED | SKIPPED | +-------------------------------+--------------------+------------------+-------------------+-------------------------+ | Alpine Linux 3.22.0 | PASS | SKIPPED | SKIPPED | SKIPPED | +-------------------------------+--------------------+------------------+-------------------+-------------------------+ | Windows Server 2022 | SKIPPED | SKIPPED | PASS | PASS | +-------------------------------+--------------------+------------------+-------------------+-------------------------+ Ubuntu 20.04 Kernel: 4.19 Compiler: gcc gcc (Ubuntu 9.4.0-1ubuntu1~20.04.2) 9.4.0 CentOS Stream 9 Kernel: 5.15 Compiler: gcc gcc (GCC) 11.5.0 20240719 (Red Hat 11.5.0-11) CentOS Stream 10 Kernel: 5.15 Compiler: gcc gcc (GCC) 14.2.1 20250110 (Red Hat 14.2.1-8) Debian GNU/Linux 12 Kernel: 5.15 Compiler: gcc gcc (Debian 12.2.0-14+deb12u1) 12.2.0 Fedora Linux 42 Kernel: 5.15 Compiler: gcc gcc (GCC) 15.2.1 20250808 (Red Hat 15.2.1-1) openSUSE Leap 15.6 Kernel: 5.15 Compiler: gcc gcc (SUSE Linux) 7.5.0 Red Hat Enterprise Linux 8.10 Kernel: 5.15 Compiler: gcc gcc (GCC) 8.5.0 20210514 (Red Hat 8.5.0-22) Red Hat Enterprise Linux 9.5 Kernel: 5.15 Compiler: gcc gcc (GCC) 11.5.0 20240719 (Red Hat 11.5.0-2) Ubuntu 22.04 Kernel: 5.15 Compiler: gcc gcc (Ubuntu 11.4.0-1ubuntu1~22.04) 11.4.0 Ubuntu 24.04 Kernel: 5.15 Compiler: gcc gcc (Ubuntu 13.3.0-6ubuntu2~24.04) 13.3.0 FreeBSD 14.2 Kernel: 14.2-RELEASE Compiler: clang 18.1.6 Alpine Linux 3.22.0 Kernel: 5.15 Compiler: gcc gcc (Alpine 14.2.0) 14.2.0 Windows Server 2022 Kernel: 10.0.20348.2031 Compiler: clang 15.0.7, gcc 14.1.0 (MinGW), and MSVC VS 19.39.33521 To view detailed results, visit: https://lab.dpdk.org/results/dashboard/patchsets/34475/ UNH-IOL DPDK Community Lab To manage your email subscriptions, visit: https://lab.dpdk.org/results/dashboard/preferences/subscriptions/