From mboxrd@z Thu Jan 1 00:00:00 1970 Return-Path: Received: from mails.dpdk.org (mails.dpdk.org [217.70.189.124]) by inbox.dpdk.org (Postfix) with ESMTP id 0D2B648A4E for ; Wed, 5 Nov 2025 22:03:34 +0100 (CET) Received: from mails.dpdk.org (localhost [127.0.0.1]) by mails.dpdk.org (Postfix) with ESMTP id DD289402E6; Wed, 5 Nov 2025 22:03:33 +0100 (CET) Received: from mail-pl1-f226.google.com (mail-pl1-f226.google.com [209.85.214.226]) by mails.dpdk.org (Postfix) with ESMTP id 004E8402E6 for ; Wed, 5 Nov 2025 22:03:32 +0100 (CET) Received: by mail-pl1-f226.google.com with SMTP id d9443c01a7336-295df6ad56cso2793265ad.3 for ; Wed, 05 Nov 2025 13:03:32 -0800 (PST) DKIM-Signature: v=1; a=rsa-sha256; c=relaxed/relaxed; d=iol.unh.edu; s=unh-iol; t=1762376612; x=1762981412; darn=dpdk.org; h=references:in-reply-to:cc:to:from:subject:message-id:date:from:to :cc:subject:date:message-id:reply-to; bh=97wymdmUfXIIzBZEdDZJuBXAHSbWLgE7mN0Ra1opqsQ=; b=g2MOMv05214wdbT0Asru1onsz0MSJFGHiEcOdvB6CYQxO4H53m32nfKVBp0sdMvOLA sIlwenphoECXtQLHsTqDjkGl6ey1ztd9sqXqHsmV3mQo9KJ6wy13Sz+ohBDXs2ewNhfc b5rmsbzB3UZWsI1ahUCiC05qW2D4XG3rixVHk= X-Google-DKIM-Signature: v=1; a=rsa-sha256; c=relaxed/relaxed; d=1e100.net; s=20230601; t=1762376612; x=1762981412; h=references:in-reply-to:cc:to:from:subject:message-id:date :x-gm-message-state:from:to:cc:subject:date:message-id:reply-to; bh=97wymdmUfXIIzBZEdDZJuBXAHSbWLgE7mN0Ra1opqsQ=; b=woGyK2BSYZbd6Co621Idr87SmoYtiux0zZuVj94MVMMDOelevnfjVh9+K7dXhXDq1+ upglzw6Pv/ZhsAU1E7AgdDFNMCTp7Khw2BLNZSaVDEFl9aBgbMcwv3jDHodSRTBYo3yh M7UEjWb/6EWu1aLPzAwKbcRJzRU3i1rcDOMiniZKHLFzz+OnhCrTWBcpgPVWdJ8RnU8c Z77eMnsPgH/Cmg4mAj50OWOt1Pc3wdAWVgY7aH5HZiXGLKDfvVwms/xFvQvoYanEmq+/ MEj+PNnvfG9Xho1hZAgi/70GwLsNTKFT+D2JFRnnZgnywJ9oF5g0LcVyAjrjR4jWNkXz rD0w== X-Gm-Message-State: AOJu0YwC31mF74nNZi9rYCQLkymsuBuVebpW8j/BQ6K61P0NcjvKMTuS /yScEg4fXPQLGLZgeLRNPkkGi7S3FHmPRy20xtsqth8nYpUrn20vVPjcLVUPcZHpSwLTKVm+CZy hFXWbOHZex5MW50+InUKOGyg0vcxyB1t8w859ahrc5is7 X-Gm-Gg: ASbGncuW/fSyOUfUhdeYSlZv+tOiaWWYs6iN9Ab8OKLjym5vQQvp+yIe71SNwatH0qk +PEaq5uI0wC4bhFxeICZ0xmiI+eHvsJ8Wk6VGoc0pjqB+veoQOReJzq89pVsEOI74594Otgpc6Q lA7KLhqlh+ImkguGuvYamNCEXruVYIXiWoYej9KAeqkfCFWVX4SGOFk0Sjo+2gHtEF6msJEaA+q qiqJJM82beYYoworxU+tfLngYg5pdlBMB+tjDJ3FBYm0DIqSUjVMDyFQSc00uxt0wEs/TyCptLH YsBKVxbVkcdln1abP7tkM0ivhqIra5mOv8DGzv3IapwGc1g1Y9+HmIOFApqzNj21gU+YvcMClOa R5LjEibfG+cZ5k6HJdfJ85WAyL2BVW1o= X-Google-Smtp-Source: AGHT+IEYQ/RKgD68C9ohlQ5seEuHVGPflmwDsR8Y+aB1w8oLFifi8Rtv8QNCvjoTZm5Cm4D/RfTIRo4xnbN2 X-Received: by 2002:a17:903:3d0f:b0:295:3ad7:948a with SMTP id d9443c01a7336-2962adda084mr61094745ad.16.1762376611906; Wed, 05 Nov 2025 13:03:31 -0800 (PST) Received: from postal.iol.unh.edu (postal.iol.unh.edu. [132.177.123.84]) by smtp-relay.gmail.com with ESMTPS id 98e67ed59e1d1-341d0aec574sm2072a91.1.2025.11.05.13.03.31 (version=TLS1_2 cipher=ECDHE-ECDSA-AES128-GCM-SHA256 bits=128/128); Wed, 05 Nov 2025 13:03:31 -0800 (PST) X-Relaying-Domain: iol.unh.edu Date: Wed, 05 Nov 2025 13:03:31 -0800 (PST) Message-ID: <690bbba3.170a0220.1bbf6d.019fSMTPIN_ADDED_MISSING@mx.google.com> Received: from [172.21.0.2] (unknown [172.18.0.240]) by postal.iol.unh.edu (Postfix) with ESMTP id 20DE36051830; Wed, 5 Nov 2025 16:03:31 -0500 (EST) Subject: |SUCCESS| pw158461-158466 [PATCH] [v2,6/6] net/iavf: fix QinQ insert From: dpdklab@iol.unh.edu To: Test Report Cc: dpdk-test-reports@iol.unh.edu, Bruce Richardson In-Reply-To: <20251105152642.2981673-7-ciara.loftus@intel.com> References: <20251105152642.2981673-7-ciara.loftus@intel.com> Content-Type: text/plain X-BeenThere: test-report@dpdk.org X-Mailman-Version: 2.1.29 Precedence: list List-Id: automatic DPDK test reports List-Unsubscribe: , List-Archive: List-Post: List-Help: List-Subscribe: , Errors-To: test-report-bounces@dpdk.org Test-Label: iol-compile-amd64-testing Test-Status: SUCCESS http://dpdk.org/patch/158466 _Testing PASS_ Submitter: Ciara Loftus Date: Wednesday, November 05 2025 15:26:42 DPDK git baseline: Repo:dpdk-next-net-intel Branch: master CommitID:03e1f9ac281264a54af53f547a2eb80f25bc19e6 158461-158466 --> testing pass Upstream job id: Windows-Compile-DPDK-Native#32144 Test environment and result as below: +-------------------------------+--------------------+------------------+-------------------+-------------------------+----------------------+ | Environment | dpdk_meson_compile | dpdk_compile_ovs | dpdk_msvc_compile | dpdk_llvm_clang_compile | dpdk_mingw64_compile | +===============================+====================+==================+===================+=========================+======================+ | Ubuntu 20.04 | PASS | SKIPPED | SKIPPED | SKIPPED | SKIPPED | +-------------------------------+--------------------+------------------+-------------------+-------------------------+----------------------+ | CentOS Stream 9 | PASS | SKIPPED | SKIPPED | SKIPPED | SKIPPED | +-------------------------------+--------------------+------------------+-------------------+-------------------------+----------------------+ | CentOS Stream 10 | PASS | SKIPPED | SKIPPED | SKIPPED | SKIPPED | +-------------------------------+--------------------+------------------+-------------------+-------------------------+----------------------+ | Debian GNU/Linux 12 | PASS | SKIPPED | SKIPPED | SKIPPED | SKIPPED | +-------------------------------+--------------------+------------------+-------------------+-------------------------+----------------------+ | Fedora Linux 42 | PASS | PASS | SKIPPED | SKIPPED | SKIPPED | +-------------------------------+--------------------+------------------+-------------------+-------------------------+----------------------+ | openSUSE Leap 15.6 | PASS | SKIPPED | SKIPPED | SKIPPED | SKIPPED | +-------------------------------+--------------------+------------------+-------------------+-------------------------+----------------------+ | Red Hat Enterprise Linux 8.10 | PASS | SKIPPED | SKIPPED | SKIPPED | SKIPPED | +-------------------------------+--------------------+------------------+-------------------+-------------------------+----------------------+ | Red Hat Enterprise Linux 9.5 | PASS | SKIPPED | SKIPPED | SKIPPED | SKIPPED | +-------------------------------+--------------------+------------------+-------------------+-------------------------+----------------------+ | Ubuntu 22.04 | PASS | SKIPPED | SKIPPED | SKIPPED | SKIPPED | +-------------------------------+--------------------+------------------+-------------------+-------------------------+----------------------+ | Ubuntu 24.04 | PASS | PASS | SKIPPED | SKIPPED | SKIPPED | +-------------------------------+--------------------+------------------+-------------------+-------------------------+----------------------+ | FreeBSD 14.2 | PASS | SKIPPED | SKIPPED | SKIPPED | SKIPPED | +-------------------------------+--------------------+------------------+-------------------+-------------------------+----------------------+ | Alpine Linux 3.22.0 | PASS | SKIPPED | SKIPPED | SKIPPED | SKIPPED | +-------------------------------+--------------------+------------------+-------------------+-------------------------+----------------------+ | Windows Server 2022 | SKIPPED | SKIPPED | PASS | PASS | PASS | +-------------------------------+--------------------+------------------+-------------------+-------------------------+----------------------+ Ubuntu 20.04 Kernel: 4.19 Compiler: gcc gcc (Ubuntu 9.4.0-1ubuntu1~20.04.2) 9.4.0 CentOS Stream 9 Kernel: 5.15 Compiler: gcc gcc (GCC) 11.5.0 20240719 (Red Hat 11.5.0-11) CentOS Stream 10 Kernel: 5.15 Compiler: gcc gcc (GCC) 14.2.1 20250110 (Red Hat 14.2.1-8) Debian GNU/Linux 12 Kernel: 5.15 Compiler: gcc gcc (Debian 12.2.0-14+deb12u1) 12.2.0 Fedora Linux 42 Kernel: 5.15 Compiler: gcc gcc (GCC) 15.2.1 20250808 (Red Hat 15.2.1-1) openSUSE Leap 15.6 Kernel: 5.15 Compiler: gcc gcc (SUSE Linux) 7.5.0 Red Hat Enterprise Linux 8.10 Kernel: 5.15 Compiler: gcc gcc (GCC) 8.5.0 20210514 (Red Hat 8.5.0-22) Red Hat Enterprise Linux 9.5 Kernel: 5.15 Compiler: gcc gcc (GCC) 11.5.0 20240719 (Red Hat 11.5.0-2) Ubuntu 22.04 Kernel: 5.15 Compiler: gcc gcc (Ubuntu 11.4.0-1ubuntu1~22.04) 11.4.0 Ubuntu 24.04 Kernel: 5.15 Compiler: gcc gcc (Ubuntu 13.3.0-6ubuntu2~24.04) 13.3.0 FreeBSD 14.2 Kernel: 14.2-RELEASE Compiler: clang 18.1.6 Alpine Linux 3.22.0 Kernel: 5.15 Compiler: gcc gcc (Alpine 14.2.0) 14.2.0 Windows Server 2022 Kernel: 10.0.20348.2031 Compiler: clang 15.0.7, gcc 14.1.0 (MinGW), and MSVC VS 19.39.33521 To view detailed results, visit: https://lab.dpdk.org/results/dashboard/patchsets/34475/ UNH-IOL DPDK Community Lab To manage your email subscriptions, visit: https://lab.dpdk.org/results/dashboard/preferences/subscriptions/