From mboxrd@z Thu Jan 1 00:00:00 1970 Return-Path: Received: from mails.dpdk.org (mails.dpdk.org [217.70.189.124]) by inbox.dpdk.org (Postfix) with ESMTP id 1F32948A4E for ; Wed, 5 Nov 2025 22:04:35 +0100 (CET) Received: from mails.dpdk.org (localhost [127.0.0.1]) by mails.dpdk.org (Postfix) with ESMTP id 19409402E6; Wed, 5 Nov 2025 22:04:35 +0100 (CET) Received: from mail-pg1-f226.google.com (mail-pg1-f226.google.com [209.85.215.226]) by mails.dpdk.org (Postfix) with ESMTP id E59AA402E6 for ; Wed, 5 Nov 2025 22:04:33 +0100 (CET) Received: by mail-pg1-f226.google.com with SMTP id 41be03b00d2f7-ba488b064cbso182945a12.1 for ; Wed, 05 Nov 2025 13:04:33 -0800 (PST) DKIM-Signature: v=1; a=rsa-sha256; c=relaxed/relaxed; d=iol.unh.edu; s=unh-iol; t=1762376673; x=1762981473; darn=dpdk.org; h=references:in-reply-to:cc:to:from:subject:message-id:date:from:to :cc:subject:date:message-id:reply-to; bh=rXi76jWftq3s3GmroAeHSGO5yg7/WfPhZ3JUwudJGS4=; b=RFGntBv5JvX/vqi9v2IJ9/dKuQPhJmJLGL/PgbXuVmQku3SRpVH2dHzbx7CGKmTxn4 oJrwlECks8rqHpfVtsxYF0pyAhpYdUHbkCM03fvkRiAufM+bvMHHg5qGlGL1cepLSyF/ tkrEMRmj9R15OuUc65gnVrOamADrkVhXIXEGs= X-Google-DKIM-Signature: v=1; a=rsa-sha256; c=relaxed/relaxed; d=1e100.net; s=20230601; t=1762376673; x=1762981473; h=references:in-reply-to:cc:to:from:subject:message-id:date :x-gm-message-state:from:to:cc:subject:date:message-id:reply-to; bh=rXi76jWftq3s3GmroAeHSGO5yg7/WfPhZ3JUwudJGS4=; b=vqUIsIObN/1DEIBSDdls33AfjE2vot+JdYTLn2dmL0RK/13Jv34lry4LeCXxNrtPip x6DpbVgcbGjWL/cA8wCIYwmhrdkHt2uJVYHY0sZBRpFz+eJ8hl4vM0vKtKLEv9gCqSW0 howsSRGDPMo4sJ0IXm072e940V50oVCtfRaSue0WGp1qDAbzXWQridu92FfHsE7Jbcg1 hvzv2cylZuvYk/71cdpE7wXfqppjSt4LxjUkJkknIG5g8rxfcNrATwcpFkrdUJhDE8i6 04HMDuswPe5OkOCGuFY309CV4dfdP/O0kAntTrTg4h3B0P49u/+UyKg0MevSOFB5p0US p4tQ== X-Gm-Message-State: AOJu0YxHLEqsrD/u29oqVXzbVNJKLoKoWiNjsLtDSU0Fa3TFOxcz40/6 pohl9R9XkHyKeQGWQgVT0EllleuhOHqdaOCXjkxnmnw9mHw3amSW4atRsH/QG+6O9ln6qsMs+Xi 1HCtf/UnKMDeyV/XJKrBR5ms636I6ahwYqTZcrq/Ink05 X-Gm-Gg: ASbGncubqJISzLyYgoZoiKDBvs5alOzEtwAeB0o2ZY2c93aOhORpO1nemyR09sg/IU1 pqxUxaIlMyoL1hWuenyIfFrwAnU3cJ1r41fHFu+/ayIPpOnIix5VzVYcsIV9jvODCBFgfT6SKlP Gnu4tcRpw8CikfiKCSFmBvbuK0A8Pr+sN5nQjYW0glfE9Ug9HYY5G/vr6/36pkvTlXDZmGfBn59 LwIGY1yEqgPjhPjVfL0MLPzC6XypAR5Af7omnOgjGsTApCVdEImHTif6A4cpq1R+/FGM6mujJJ/ r4IlDbmGYIIbKJD6yuaL4JH3SQxyNODlk0wyP0YFz5XMcWa64skPqGiOnjnaLesupGLzf/s7dRx QCQutOlMkucdb4qfvi0eGkFp0oNhfL8c= X-Google-Smtp-Source: AGHT+IEWEWJLI3py0v/iWpJO9C1rfffHUoFyV8R1dTgNkIv8u4TRCxvddI5FPS610XCDLmIITpByv5dvZC+T X-Received: by 2002:a17:903:41ca:b0:293:e5f:85b7 with SMTP id d9443c01a7336-2962ad0c942mr70637305ad.11.1762376673063; Wed, 05 Nov 2025 13:04:33 -0800 (PST) Received: from postal.iol.unh.edu (postal.iol.unh.edu. [132.177.123.84]) by smtp-relay.gmail.com with ESMTPS id d9443c01a7336-29651cc00basm435145ad.62.2025.11.05.13.04.32 (version=TLS1_2 cipher=ECDHE-ECDSA-AES128-GCM-SHA256 bits=128/128); Wed, 05 Nov 2025 13:04:33 -0800 (PST) X-Relaying-Domain: iol.unh.edu Date: Wed, 05 Nov 2025 13:04:33 -0800 (PST) Message-ID: <690bbbe1.170a0220.45f72.289cSMTPIN_ADDED_MISSING@mx.google.com> Received: from [172.21.0.2] (unknown [172.18.0.240]) by postal.iol.unh.edu (Postfix) with ESMTP id 52AED6051830; Wed, 5 Nov 2025 16:04:32 -0500 (EST) Subject: |SUCCESS| pw158477 [PATCH] net/bonding: fix MAC address propagation From: dpdklab@iol.unh.edu To: Test Report Cc: dpdk-test-reports@iol.unh.edu, Stephen Hemminger In-Reply-To: <20251105180135.1181619-1-shperetz@nvidia.com> References: <20251105180135.1181619-1-shperetz@nvidia.com> Content-Type: text/plain X-BeenThere: test-report@dpdk.org X-Mailman-Version: 2.1.29 Precedence: list List-Id: automatic DPDK test reports List-Unsubscribe: , List-Archive: List-Post: List-Help: List-Subscribe: , Errors-To: test-report-bounces@dpdk.org Test-Label: iol-unit-amd64-testing Test-Status: SUCCESS http://dpdk.org/patch/158477 _Testing PASS_ Submitter: Shani Peretz Date: Wednesday, November 05 2025 18:01:35 DPDK git baseline: Repo:dpdk-next-net Branch: master CommitID:538052bb364db22ba8cc08b5e23a9e6d25a864a9 158477 --> testing pass Upstream job id: Generic-VM-Unit-Test-DPDK#32328 Test environment and result as below: +-------------------------------+----------------+ | Environment | dpdk_unit_test | +===============================+================+ | CentOS Stream 9 | PASS | +-------------------------------+----------------+ | CentOS Stream 10 | PASS | +-------------------------------+----------------+ | Fedora Linux 40 | PASS | +-------------------------------+----------------+ | Debian GNU/Linux 12 | PASS | +-------------------------------+----------------+ | Fedora Linux 41 | PASS | +-------------------------------+----------------+ | Fedora Linux 42 | PASS | +-------------------------------+----------------+ | Red Hat Enterprise Linux 9.5 | PASS | +-------------------------------+----------------+ | Red Hat Enterprise Linux 8.10 | PASS | +-------------------------------+----------------+ | Ubuntu 24.04 | PASS | +-------------------------------+----------------+ | Ubuntu 22.04 | PASS | +-------------------------------+----------------+ | Ubuntu 20.04 | PASS | +-------------------------------+----------------+ | Windows Server 2022 | PASS | +-------------------------------+----------------+ CentOS Stream 9 Kernel: 5.15 Compiler: gcc gcc (GCC) 11.5.0 20240719 (Red Hat 11.5.0-11) CentOS Stream 10 Kernel: 5.15 Compiler: gcc gcc (GCC) 14.2.1 20250110 (Red Hat 14.2.1-8) Fedora Linux 40 Kernel: 5.15 Compiler: gcc gcc (GCC) 14.2.1 20240912 (Red Hat 14.2.1-3) Debian GNU/Linux 12 Kernel: 5.15 Compiler: gcc gcc (Debian 12.2.0-14+deb12u1) 12.2.0 Fedora Linux 41 Kernel: 5.15 Compiler: clang gcc (GCC) 14.3.1 20250523 (Red Hat 14.3.1-1) Fedora Linux 42 Kernel: 5.15 Compiler: clang gcc (GCC) 15.2.1 20250808 (Red Hat 15.2.1-1) Red Hat Enterprise Linux 9.5 Kernel: 5.15 Compiler: gcc gcc (GCC) 11.5.0 20240719 (Red Hat 11.5.0-2) Red Hat Enterprise Linux 8.10 Kernel: 5.15 Compiler: gcc gcc (GCC) 8.5.0 20210514 (Red Hat 8.5.0-22) Ubuntu 24.04 Kernel: 5.15 Compiler: gcc gcc (Ubuntu 13.3.0-6ubuntu2~24.04) 13.3.0 Ubuntu 22.04 Kernel: 5.15 Compiler: gcc gcc (Ubuntu 11.4.0-1ubuntu1~22.04) 11.4.0 Ubuntu 20.04 Kernel: 5.15 Compiler: gcc gcc (Ubuntu 9.4.0-1ubuntu1~20.04.2) 9.4.0 Windows Server 2022 Kernel: 10.0.20348.2031 Compiler: clang 15.0.7, gcc 14.1.0 (MinGW), and MSVC VS 19.39.33521 To view detailed results, visit: https://lab.dpdk.org/results/dashboard/patchsets/34481/ UNH-IOL DPDK Community Lab To manage your email subscriptions, visit: https://lab.dpdk.org/results/dashboard/preferences/subscriptions/