From mboxrd@z Thu Jan 1 00:00:00 1970 Return-Path: Received: from mails.dpdk.org (mails.dpdk.org [217.70.189.124]) by inbox.dpdk.org (Postfix) with ESMTP id 80B4548A4E for ; Wed, 5 Nov 2025 22:08:35 +0100 (CET) Received: from mails.dpdk.org (localhost [127.0.0.1]) by mails.dpdk.org (Postfix) with ESMTP id 7C390402E6; Wed, 5 Nov 2025 22:08:35 +0100 (CET) Received: from mail-io1-f98.google.com (mail-io1-f98.google.com [209.85.166.98]) by mails.dpdk.org (Postfix) with ESMTP id 78B57402E6 for ; Wed, 5 Nov 2025 22:08:34 +0100 (CET) Received: by mail-io1-f98.google.com with SMTP id ca18e2360f4ac-9486251090eso16107639f.2 for ; Wed, 05 Nov 2025 13:08:34 -0800 (PST) DKIM-Signature: v=1; a=rsa-sha256; c=relaxed/relaxed; d=iol.unh.edu; s=unh-iol; t=1762376914; x=1762981714; darn=dpdk.org; h=references:in-reply-to:cc:to:from:subject:message-id:date:from:to :cc:subject:date:message-id:reply-to; bh=ESZltienHJorRoZAAGpT453q4Us9HFpAX56hJzhf6Ew=; b=faNtwBgBcxpUbDN736ZUyYGUQph182/2ZluWYhG/J5cdy0NuyvCLuF+3GClNEClreO AFXyk/3jYDhp/KzYmJOrwSDWVhsBk8EbMiPpFxKhreVp1FNuVZFad1GtHJJQLjpl/qyO jMzYroV+vxFXLoxssYankd962C+ghg1sQx4FQ= X-Google-DKIM-Signature: v=1; a=rsa-sha256; c=relaxed/relaxed; d=1e100.net; s=20230601; t=1762376914; x=1762981714; h=references:in-reply-to:cc:to:from:subject:message-id:date :x-gm-message-state:from:to:cc:subject:date:message-id:reply-to; bh=ESZltienHJorRoZAAGpT453q4Us9HFpAX56hJzhf6Ew=; b=TjjOzAZ46unZyvn9p4v7rDDOAWo9hJlxUwlVsutedpwwmDjBx+IEURr6daBweBTuQG 6oaOXz/codC4eQmitsgGJM12l8IzNT3wli067bK3Hw8UWo5SUx5KaKexADZ4DWK9r55N 1M6BCXxw1MZOagr8jtHMJwbUd8aK0ja2FzmwJTmLQHsMfm9TYdPLoXkTMod6RqrKijKP DC+Lo/OlB+10tW98biJF9xXXScXNQLQcoClgFCy8QLhodnT5upQY/t072QFJ+Rd74QW4 8f6MbHXYw5QpdkKxOKB+0AsGntB3GiHl0JQOQb/8xTFD2BgWzoLJnOZXMUTEpwS09DZA jRxg== X-Gm-Message-State: AOJu0YzEyGCCQZYh2D8/EvhaQZ5G8h2TAU4fc+YUTSyTz6r23ogA8b67 f5nCAWAC1BiqGlvMhB1avSH223zymIwl6yAJPsd0GOcLtZXdwQO2tHQJ/hxJmJ6RPjMSMUta0tE CPz9pUTjcr6xLihM+LjPFPFKRobDki2FgXNFDlgUbyyXT X-Gm-Gg: ASbGncslP/zJDIRXTDtkCKIak2mBy0+/s5Uxu22RKE6oNl+47qShVqfZ00osSNDxYnM vi55m1vjb6PmapKHEQ1/BL3XTtHeWyOHabdtXcLnM1gYeVCPlmDchOiOFvq6JE8oKtZ6Fhj4+N4 ivTmYhp6KPf/U+0dQxnUBvM4BDGQdBUeho9UUQpz2gCwu7a93VG0WJsG84Tb6QrW6gvHRzdCRep JzVHVIlv9HxDOl3O69pRxXE0BbTkV0RvK0ctdn2HYVF0ZH+k+b2Icp2POpZkZ6r3R77dA3QCOfN IhGb9j4paJP8a4ARDxMoDO0o7y6kQfwekceuPfqtsQPBG5bzzQImqtQF39jYbhRRZqxNH2BvSIT ixfK0Lv0CGCM08dt3m6AMOMJMyFzQF/M= X-Google-Smtp-Source: AGHT+IEBxgV/fHdOj3L8GZiBuoqoA9BeSztRRVtzn78LxmFnIFVsKEFMFMaY4NOWtrqMeh7GBSCMBFQN6mMr X-Received: by 2002:a92:dd07:0:b0:433:4ac7:13bb with SMTP id e9e14a558f8ab-4334ac7158fmr31418735ab.11.1762376913830; Wed, 05 Nov 2025 13:08:33 -0800 (PST) Received: from postal.iol.unh.edu (postal.iol.unh.edu. [132.177.123.84]) by smtp-relay.gmail.com with ESMTPS id 8926c6da1cb9f-5b746739b41sm35792173.4.2025.11.05.13.08.33 (version=TLS1_2 cipher=ECDHE-ECDSA-AES128-GCM-SHA256 bits=128/128); Wed, 05 Nov 2025 13:08:33 -0800 (PST) X-Relaying-Domain: iol.unh.edu Date: Wed, 05 Nov 2025 13:08:33 -0800 (PST) Message-ID: <690bbcd1.050a0220.462e8.1eb6SMTPIN_ADDED_MISSING@mx.google.com> Received: from [172.21.0.3] (unknown [172.18.0.240]) by postal.iol.unh.edu (Postfix) with ESMTP id 510336051830; Wed, 5 Nov 2025 16:08:33 -0500 (EST) Subject: |SUCCESS| pw158467 [PATCH] drivers: add ConnectX-9 device ID From: dpdklab@iol.unh.edu To: Test Report Cc: dpdk-test-reports@iol.unh.edu In-Reply-To: <20251105154418.99211-1-rasland@nvidia.com> References: <20251105154418.99211-1-rasland@nvidia.com> Content-Type: text/plain X-BeenThere: test-report@dpdk.org X-Mailman-Version: 2.1.29 Precedence: list List-Id: automatic DPDK test reports List-Unsubscribe: , List-Archive: List-Post: List-Help: List-Subscribe: , Errors-To: test-report-bounces@dpdk.org Test-Label: iol-compile-amd64-testing Test-Status: SUCCESS http://dpdk.org/patch/158467 _Testing PASS_ Submitter: Raslan Darawsheh Date: Wednesday, November 05 2025 15:44:17 DPDK git baseline: Repo:dpdk Branch: master CommitID:a054de204b0b937dd976d0390fbb03353745e7cb 158467 --> testing pass Upstream job id: Windows-Compile-DPDK-Native#32145 Test environment and result as below: +-------------------------------+--------------------+-------------------+------------------+-------------------------+ | Environment | dpdk_meson_compile | dpdk_msvc_compile | dpdk_compile_ovs | dpdk_llvm_clang_compile | +===============================+====================+===================+==================+=========================+ | Ubuntu 20.04 | PASS | SKIPPED | SKIPPED | SKIPPED | +-------------------------------+--------------------+-------------------+------------------+-------------------------+ | FreeBSD 14.2 | PASS | SKIPPED | SKIPPED | SKIPPED | +-------------------------------+--------------------+-------------------+------------------+-------------------------+ | CentOS Stream 9 | PASS | SKIPPED | SKIPPED | SKIPPED | +-------------------------------+--------------------+-------------------+------------------+-------------------------+ | CentOS Stream 10 | PASS | SKIPPED | SKIPPED | SKIPPED | +-------------------------------+--------------------+-------------------+------------------+-------------------------+ | Debian GNU/Linux 12 | PASS | SKIPPED | SKIPPED | SKIPPED | +-------------------------------+--------------------+-------------------+------------------+-------------------------+ | Fedora Linux 42 | PASS | SKIPPED | PASS | SKIPPED | +-------------------------------+--------------------+-------------------+------------------+-------------------------+ | openSUSE Leap 15.6 | PASS | SKIPPED | SKIPPED | SKIPPED | +-------------------------------+--------------------+-------------------+------------------+-------------------------+ | Red Hat Enterprise Linux 8.10 | PASS | SKIPPED | SKIPPED | SKIPPED | +-------------------------------+--------------------+-------------------+------------------+-------------------------+ | Red Hat Enterprise Linux 9.5 | PASS | SKIPPED | SKIPPED | SKIPPED | +-------------------------------+--------------------+-------------------+------------------+-------------------------+ | Ubuntu 22.04 | PASS | SKIPPED | SKIPPED | SKIPPED | +-------------------------------+--------------------+-------------------+------------------+-------------------------+ | Ubuntu 24.04 | PASS | SKIPPED | PASS | SKIPPED | +-------------------------------+--------------------+-------------------+------------------+-------------------------+ | Alpine Linux 3.22.0 | PASS | SKIPPED | SKIPPED | SKIPPED | +-------------------------------+--------------------+-------------------+------------------+-------------------------+ | Windows Server 2022 | SKIPPED | PASS | SKIPPED | PASS | +-------------------------------+--------------------+-------------------+------------------+-------------------------+ Ubuntu 20.04 Kernel: 4.19 Compiler: gcc gcc (Ubuntu 9.4.0-1ubuntu1~20.04.2) 9.4.0 FreeBSD 14.2 Kernel: 14.2-RELEASE Compiler: clang 18.1.6 CentOS Stream 9 Kernel: 5.15 Compiler: gcc gcc (GCC) 11.5.0 20240719 (Red Hat 11.5.0-11) CentOS Stream 10 Kernel: 5.15 Compiler: gcc gcc (GCC) 14.2.1 20250110 (Red Hat 14.2.1-8) Debian GNU/Linux 12 Kernel: 5.15 Compiler: gcc gcc (Debian 12.2.0-14+deb12u1) 12.2.0 Fedora Linux 42 Kernel: 5.15 Compiler: clang gcc (GCC) 15.2.1 20250808 (Red Hat 15.2.1-1) openSUSE Leap 15.6 Kernel: 5.15 Compiler: gcc gcc (SUSE Linux) 7.5.0 Red Hat Enterprise Linux 8.10 Kernel: 5.15 Compiler: gcc gcc (GCC) 8.5.0 20210514 (Red Hat 8.5.0-22) Red Hat Enterprise Linux 9.5 Kernel: 5.15 Compiler: gcc gcc (GCC) 11.5.0 20240719 (Red Hat 11.5.0-2) Ubuntu 22.04 Kernel: 5.15 Compiler: gcc gcc (Ubuntu 11.4.0-1ubuntu1~22.04) 11.4.0 Ubuntu 24.04 Kernel: 5.15 Compiler: gcc gcc (Ubuntu 13.3.0-6ubuntu2~24.04) 13.3.0 Alpine Linux 3.22.0 Kernel: 5.15 Compiler: gcc gcc (Alpine 14.2.0) 14.2.0 Windows Server 2022 Kernel: 10.0.20348.2031 Compiler: clang 15.0.7, gcc 14.1.0 (MinGW), and MSVC VS 19.39.33521 To view detailed results, visit: https://lab.dpdk.org/results/dashboard/patchsets/34476/ UNH-IOL DPDK Community Lab To manage your email subscriptions, visit: https://lab.dpdk.org/results/dashboard/preferences/subscriptions/