From mboxrd@z Thu Jan 1 00:00:00 1970 Return-Path: Received: from mails.dpdk.org (mails.dpdk.org [217.70.189.124]) by inbox.dpdk.org (Postfix) with ESMTP id B7A3E48A4E for ; Wed, 5 Nov 2025 22:10:17 +0100 (CET) Received: from mails.dpdk.org (localhost [127.0.0.1]) by mails.dpdk.org (Postfix) with ESMTP id B36AC402E6; Wed, 5 Nov 2025 22:10:17 +0100 (CET) Received: from mail-qv1-f98.google.com (mail-qv1-f98.google.com [209.85.219.98]) by mails.dpdk.org (Postfix) with ESMTP id 6AA87402E6 for ; Wed, 5 Nov 2025 22:10:16 +0100 (CET) Received: by mail-qv1-f98.google.com with SMTP id 6a1803df08f44-8805d54ac94so3057096d6.3 for ; Wed, 05 Nov 2025 13:10:16 -0800 (PST) DKIM-Signature: v=1; a=rsa-sha256; c=relaxed/relaxed; d=iol.unh.edu; s=unh-iol; t=1762377016; x=1762981816; darn=dpdk.org; h=references:in-reply-to:cc:to:from:subject:message-id:date:from:to :cc:subject:date:message-id:reply-to; bh=jPvu4XNBod6hCTuM5RfAwUZtiZ5fnRUIm+JnPLocLNg=; b=NgQQbatW8FTtbveb7PFCQ36UfW+6IHrK7NQw4/k33ZbRou6GSjz982fuE3cVyc+Mfh ggKzTppQDOEX32/uAkx8UAkKpNk4J5H/yXY2RA+EN+II48Vnj5sCT+oNCX8LV07wqFvX 7LCeim/fxOOwPAPRW/2R+QkP9LtqjaXTthLn0= X-Google-DKIM-Signature: v=1; a=rsa-sha256; c=relaxed/relaxed; d=1e100.net; s=20230601; t=1762377016; x=1762981816; h=references:in-reply-to:cc:to:from:subject:message-id:date :x-gm-message-state:from:to:cc:subject:date:message-id:reply-to; bh=jPvu4XNBod6hCTuM5RfAwUZtiZ5fnRUIm+JnPLocLNg=; b=KXKDwuNTFVJ8mc/eM87egsgDnaPPew6Eoa/t67KhCqEu5PVs2mdaR1UwEfs5Vx5DQq fNc5oWZH9YhHaWdc188RZHZWmRVSSpy9XSm5lAKdfzOTASk9y0EXPJSCEiUMUIfzHiT5 OuMRpdgbbgUiSOkB692/DIDZ5C+b3vScb4LkDfF1ViI6L47JJ3FSFFwxKBvMqotlp/Kq xo3/AzBwoIkiSR/6p0OZQkidMreDvofaWPFGz96fmgfti5FunB7Wj/wmCDXI3nVCBF83 dvjxxWhTXOr9ZyGp2kslj+P8UpXaV0ipF7XhbXEgVems1YN8pye+T5YJju1pb/xa5W81 SAqA== X-Gm-Message-State: AOJu0Yx/0U9xegtqLt9dwFfo8IEkZ+rnhgehwJmxSGVmiWnBzOq2LYGT AvILzFKpsLlt3hN7JCNTiXv1UFB3EaJSE73+Hv8vsTe02n+UQkOLwTTcsCzSt/LbYcZxRK9dGi9 lapFPRHwHbVkuj5Fnf1ZjBaAUv0xnJjJvejX1eP1W6PIXamhInVrN4Hn4M9gV X-Gm-Gg: ASbGncvm3XoVPnM74MoFwHVL9eX/6QRDIsSa3ViZctQMO9Vx9PwhOHy4gScutMvMlrL G9dhJl0ZfEUIdJFzvUSpFlcv15aF6+WvjJFh9Kzam4K+bL2xbXq25TQyM+hmZ52wcBnu0vElVw3 Wt4ocMfxQ730uKrIroColRVVaINZM0CQ5GFYB0xDhkNTUH2hqHMz1BhPLemx5fBMUv0g8D8KkWf R9UV8MmdqnxetiqjxUfJ2LT8tiQBo0uhGdOTYicYdBi3TX28hdU7igiIFzZzMwzQSsdPUGNT5mG iodXu/ppYnHAh5bKVQIxnOsZ96PrqzgnpEnboRpsyrjirQTjKU3SM3bfeeoYx9D1VQT7L8yj3a0 pSyD+oSYg X-Google-Smtp-Source: AGHT+IHM3HCabKvs1UEl0Jw65TV4Cufu4Wj1d5yafDwb0HwoQE3WC6uAJsnW2ypoCCSRZNOLK+LW4DpmeyK4 X-Received: by 2002:a05:6214:d05:b0:880:4ac3:fbdc with SMTP id 6a1803df08f44-88071190808mr75634916d6.46.1762377015792; Wed, 05 Nov 2025 13:10:15 -0800 (PST) Received: from postal.iol.unh.edu (postal.iol.unh.edu. [2606:4100:3880:1234::84]) by smtp-relay.gmail.com with ESMTPS id 6a1803df08f44-88082a35d47sm512756d6.33.2025.11.05.13.10.15 (version=TLS1_2 cipher=ECDHE-ECDSA-AES128-GCM-SHA256 bits=128/128); Wed, 05 Nov 2025 13:10:15 -0800 (PST) X-Relaying-Domain: iol.unh.edu Date: Wed, 05 Nov 2025 13:10:15 -0800 (PST) Message-ID: <690bbd37.050a0220.48ff8.349bSMTPIN_ADDED_MISSING@mx.google.com> Received: from [172.21.0.2] (unknown [172.18.0.240]) by postal.iol.unh.edu (Postfix) with ESMTP id 7DB1E6051830; Wed, 5 Nov 2025 16:10:15 -0500 (EST) Subject: |SUCCESS| pw158467 [PATCH] drivers: add ConnectX-9 device ID From: dpdklab@iol.unh.edu To: Test Report Cc: dpdk-test-reports@iol.unh.edu In-Reply-To: <20251105154418.99211-1-rasland@nvidia.com> References: <20251105154418.99211-1-rasland@nvidia.com> Content-Type: text/plain X-BeenThere: test-report@dpdk.org X-Mailman-Version: 2.1.29 Precedence: list List-Id: automatic DPDK test reports List-Unsubscribe: , List-Archive: List-Post: List-Help: List-Subscribe: , Errors-To: test-report-bounces@dpdk.org Test-Label: iol-compile-amd64-testing Test-Status: SUCCESS http://dpdk.org/patch/158467 _Testing PASS_ Submitter: Raslan Darawsheh Date: Wednesday, November 05 2025 15:44:17 DPDK git baseline: Repo:dpdk Branch: master CommitID:a054de204b0b937dd976d0390fbb03353745e7cb 158467 --> testing pass Upstream job id: Windows-Compile-DPDK-Native#32146 Test environment and result as below: +-------------------------------+--------------------+-------------------+------------------+-------------------------+----------------------+ | Environment | dpdk_meson_compile | dpdk_msvc_compile | dpdk_compile_ovs | dpdk_llvm_clang_compile | dpdk_mingw64_compile | +===============================+====================+===================+==================+=========================+======================+ | Ubuntu 20.04 | PASS | SKIPPED | SKIPPED | SKIPPED | SKIPPED | +-------------------------------+--------------------+-------------------+------------------+-------------------------+----------------------+ | FreeBSD 14.2 | PASS | SKIPPED | SKIPPED | SKIPPED | SKIPPED | +-------------------------------+--------------------+-------------------+------------------+-------------------------+----------------------+ | CentOS Stream 9 | PASS | SKIPPED | SKIPPED | SKIPPED | SKIPPED | +-------------------------------+--------------------+-------------------+------------------+-------------------------+----------------------+ | CentOS Stream 10 | PASS | SKIPPED | SKIPPED | SKIPPED | SKIPPED | +-------------------------------+--------------------+-------------------+------------------+-------------------------+----------------------+ | Debian GNU/Linux 12 | PASS | SKIPPED | SKIPPED | SKIPPED | SKIPPED | +-------------------------------+--------------------+-------------------+------------------+-------------------------+----------------------+ | Fedora Linux 42 | PASS | SKIPPED | PASS | SKIPPED | SKIPPED | +-------------------------------+--------------------+-------------------+------------------+-------------------------+----------------------+ | openSUSE Leap 15.6 | PASS | SKIPPED | SKIPPED | SKIPPED | SKIPPED | +-------------------------------+--------------------+-------------------+------------------+-------------------------+----------------------+ | Red Hat Enterprise Linux 8.10 | PASS | SKIPPED | SKIPPED | SKIPPED | SKIPPED | +-------------------------------+--------------------+-------------------+------------------+-------------------------+----------------------+ | Red Hat Enterprise Linux 9.5 | PASS | SKIPPED | SKIPPED | SKIPPED | SKIPPED | +-------------------------------+--------------------+-------------------+------------------+-------------------------+----------------------+ | Ubuntu 22.04 | PASS | SKIPPED | SKIPPED | SKIPPED | SKIPPED | +-------------------------------+--------------------+-------------------+------------------+-------------------------+----------------------+ | Ubuntu 24.04 | PASS | SKIPPED | PASS | SKIPPED | SKIPPED | +-------------------------------+--------------------+-------------------+------------------+-------------------------+----------------------+ | Alpine Linux 3.22.0 | PASS | SKIPPED | SKIPPED | SKIPPED | SKIPPED | +-------------------------------+--------------------+-------------------+------------------+-------------------------+----------------------+ | Windows Server 2022 | SKIPPED | PASS | SKIPPED | PASS | PASS | +-------------------------------+--------------------+-------------------+------------------+-------------------------+----------------------+ Ubuntu 20.04 Kernel: 4.19 Compiler: gcc gcc (Ubuntu 9.4.0-1ubuntu1~20.04.2) 9.4.0 FreeBSD 14.2 Kernel: 14.2-RELEASE Compiler: clang 18.1.6 CentOS Stream 9 Kernel: 5.15 Compiler: gcc gcc (GCC) 11.5.0 20240719 (Red Hat 11.5.0-11) CentOS Stream 10 Kernel: 5.15 Compiler: gcc gcc (GCC) 14.2.1 20250110 (Red Hat 14.2.1-8) Debian GNU/Linux 12 Kernel: 5.15 Compiler: gcc gcc (Debian 12.2.0-14+deb12u1) 12.2.0 Fedora Linux 42 Kernel: 5.15 Compiler: clang gcc (GCC) 15.2.1 20250808 (Red Hat 15.2.1-1) openSUSE Leap 15.6 Kernel: 5.15 Compiler: gcc gcc (SUSE Linux) 7.5.0 Red Hat Enterprise Linux 8.10 Kernel: 5.15 Compiler: gcc gcc (GCC) 8.5.0 20210514 (Red Hat 8.5.0-22) Red Hat Enterprise Linux 9.5 Kernel: 5.15 Compiler: gcc gcc (GCC) 11.5.0 20240719 (Red Hat 11.5.0-2) Ubuntu 22.04 Kernel: 5.15 Compiler: gcc gcc (Ubuntu 11.4.0-1ubuntu1~22.04) 11.4.0 Ubuntu 24.04 Kernel: 5.15 Compiler: gcc gcc (Ubuntu 13.3.0-6ubuntu2~24.04) 13.3.0 Alpine Linux 3.22.0 Kernel: 5.15 Compiler: gcc gcc (Alpine 14.2.0) 14.2.0 Windows Server 2022 Kernel: 10.0.20348.2031 Compiler: clang 15.0.7, gcc 14.1.0 (MinGW), and MSVC VS 19.39.33521 To view detailed results, visit: https://lab.dpdk.org/results/dashboard/patchsets/34476/ UNH-IOL DPDK Community Lab To manage your email subscriptions, visit: https://lab.dpdk.org/results/dashboard/preferences/subscriptions/