From mboxrd@z Thu Jan 1 00:00:00 1970 Return-Path: Received: from mails.dpdk.org (mails.dpdk.org [217.70.189.124]) by inbox.dpdk.org (Postfix) with ESMTP id 470BF48A4E for ; Wed, 5 Nov 2025 22:14:33 +0100 (CET) Received: from mails.dpdk.org (localhost [127.0.0.1]) by mails.dpdk.org (Postfix) with ESMTP id 3F0FD402E6; Wed, 5 Nov 2025 22:14:33 +0100 (CET) Received: from mail-io1-f100.google.com (mail-io1-f100.google.com [209.85.166.100]) by mails.dpdk.org (Postfix) with ESMTP id C1D12402E6 for ; Wed, 5 Nov 2025 22:14:31 +0100 (CET) Received: by mail-io1-f100.google.com with SMTP id ca18e2360f4ac-88703c873d5so7952439f.3 for ; Wed, 05 Nov 2025 13:14:31 -0800 (PST) DKIM-Signature: v=1; a=rsa-sha256; c=relaxed/relaxed; d=iol.unh.edu; s=unh-iol; t=1762377271; x=1762982071; darn=dpdk.org; h=references:in-reply-to:cc:to:from:subject:message-id:date:from:to :cc:subject:date:message-id:reply-to; bh=Wr20yiDUvxvuXjRitNj8/rQb24XVnGEp9LyUDiEVqfo=; b=CVnEBatC43w6MJOAaC95ZPmNIGo14w7NJvBjWyBqgaasUjwqY8U4Q2GOgFwqiIE8t3 Eb2Tczv4nCHVR4IfSNX1P9xGWPzZ9dyPvfH+VVJ+vCj8YEX0fDAQ2VTdfRfzt4hYkPg1 WyUgTr18kQ8OUO9+K979p/VmLFajjUcP+B0VM= X-Google-DKIM-Signature: v=1; a=rsa-sha256; c=relaxed/relaxed; d=1e100.net; s=20230601; t=1762377271; x=1762982071; h=references:in-reply-to:cc:to:from:subject:message-id:date :x-gm-message-state:from:to:cc:subject:date:message-id:reply-to; bh=Wr20yiDUvxvuXjRitNj8/rQb24XVnGEp9LyUDiEVqfo=; b=FmWdjTNTrDwgTS9K4zQDdFiFtkINe2/nT7yMBLxg1xqNQTE75AHvizaSqwqykXvkT4 r1YyPl7Kc0vUhst9DqkXZ4b1bydTAW9eOACyGT2IIJNMC3yjwijQnnGVwcAWIG7MvAy2 B3fgSkewbOUDabsLuuBBkVRC+vfAAi8KXb8G7Hp0utpz29IgLIAfe4FA79sWSaeixhga lDGeU79HwqaN/U/whHh4KlkdkthCah88e3VQTShuE3AWCL/11/MjRzEc04eEOYDcfMMv YxTannZJLC/Io+JD3oSqo+EbyBf7sUoKouwaMH7L9u5q/C8pGgQw5bDeFysMg6NAFKZo pSOg== X-Gm-Message-State: AOJu0YyAX/bUkN35Q+W4W9fJxnmm8EQEs2KuhvURBbCCjf665Ng0JRBW YwBqBO6dmRtJ5n/7yTdwJvlrIV79uQ/k2L/jcVc/hZc7CW0p/I9sk8oIsluN5Bwtqt5pdHRlJuG jn1g7f7rjAg56S/FfkcZMpqByAl3sn9CDl8qIYQK124jRoUFSciICqwuZ0A52 X-Gm-Gg: ASbGncsd5ZKAYrzCGpFH6FDITO5v4fDik1P0wIewyvDlRw1/c+xDKb643ORyfWbWIDR CLj05JKRyYRP/Y2PfyMb5b0X9LjzHzcQB5QNZ+RmygES053//8roDLjLLhMUIkJOqAQfJq0EX88 FUxZZF/hmYppbSF4zUhshjhUS7kbKpWLRJsWjRq1iadFVG2Px2D3DD4H19RR0NuyTbIpk58kzEn zR7zADOzZ5vuhKRaFjXCmOatAPEhz0n27rPB2azPTmbheYdi3+neWWWAWzFBM7M/v6HGxUuWpOt XmHuNG+iHRsdwAj04w5FPynwUck0yok4sYtMQgymHNi1nGZr92qSoPDWD9JdWDv66pgfUqujMP6 EAhBWXkMt X-Google-Smtp-Source: AGHT+IEbtnvp0c3Ygd6s5xesxG6IVC+cUAsoelyLVIIpow26H6pKpNRUtyRSur4mfnA2cMSzZ4OIugn+CrFZ X-Received: by 2002:a92:cd84:0:b0:430:cad8:45fc with SMTP id e9e14a558f8ab-433407d865bmr66684765ab.29.1762377271091; Wed, 05 Nov 2025 13:14:31 -0800 (PST) Received: from postal.iol.unh.edu (postal.iol.unh.edu. [2606:4100:3880:1234::84]) by smtp-relay.gmail.com with ESMTPS id 8926c6da1cb9f-5b7467399ddsm37504173.7.2025.11.05.13.14.31 (version=TLS1_2 cipher=ECDHE-ECDSA-AES128-GCM-SHA256 bits=128/128); Wed, 05 Nov 2025 13:14:31 -0800 (PST) X-Relaying-Domain: iol.unh.edu Date: Wed, 05 Nov 2025 13:14:31 -0800 (PST) Message-ID: <690bbe37.050a0220.63387.24a1SMTPIN_ADDED_MISSING@mx.google.com> Received: from [172.21.0.3] (unknown [172.18.0.240]) by postal.iol.unh.edu (Postfix) with ESMTP id 8023D6051830; Wed, 5 Nov 2025 16:14:30 -0500 (EST) Subject: |SUCCESS| pw158468-158472 [PATCH] [v2,5/5] net/mlx5: support count a From: dpdklab@iol.unh.edu To: Test Report Cc: dpdk-test-reports@iol.unh.edu In-Reply-To: <20251105165258.1396352-6-dsosnowski@nvidia.com> References: <20251105165258.1396352-6-dsosnowski@nvidia.com> Content-Type: text/plain X-BeenThere: test-report@dpdk.org X-Mailman-Version: 2.1.29 Precedence: list List-Id: automatic DPDK test reports List-Unsubscribe: , List-Archive: List-Post: List-Help: List-Subscribe: , Errors-To: test-report-bounces@dpdk.org Test-Label: iol-compile-amd64-testing Test-Status: SUCCESS http://dpdk.org/patch/158472 _Testing PASS_ Submitter: Dariusz Sosnowski Date: Wednesday, November 05 2025 16:52:58 DPDK git baseline: Repo:dpdk-next-net-mlx Branch: master CommitID:f1c1f82f2421be9ac2f46b4ec2a616ca28da4ca7 158468-158472 --> testing pass Upstream job id: Windows-Compile-DPDK-Native#32147 Test environment and result as below: +-------------------------------+--------------------+-------------------+------------------+-------------------------+ | Environment | dpdk_meson_compile | dpdk_msvc_compile | dpdk_compile_ovs | dpdk_llvm_clang_compile | +===============================+====================+===================+==================+=========================+ | Ubuntu 20.04 | PASS | SKIPPED | SKIPPED | SKIPPED | +-------------------------------+--------------------+-------------------+------------------+-------------------------+ | FreeBSD 14.2 | PASS | SKIPPED | SKIPPED | SKIPPED | +-------------------------------+--------------------+-------------------+------------------+-------------------------+ | CentOS Stream 9 | PASS | SKIPPED | SKIPPED | SKIPPED | +-------------------------------+--------------------+-------------------+------------------+-------------------------+ | CentOS Stream 10 | PASS | SKIPPED | SKIPPED | SKIPPED | +-------------------------------+--------------------+-------------------+------------------+-------------------------+ | Debian GNU/Linux 12 | PASS | SKIPPED | SKIPPED | SKIPPED | +-------------------------------+--------------------+-------------------+------------------+-------------------------+ | Fedora Linux 42 | PASS | SKIPPED | PASS | SKIPPED | +-------------------------------+--------------------+-------------------+------------------+-------------------------+ | openSUSE Leap 15.6 | PASS | SKIPPED | SKIPPED | SKIPPED | +-------------------------------+--------------------+-------------------+------------------+-------------------------+ | Red Hat Enterprise Linux 8.10 | PASS | SKIPPED | SKIPPED | SKIPPED | +-------------------------------+--------------------+-------------------+------------------+-------------------------+ | Red Hat Enterprise Linux 9.5 | PASS | SKIPPED | SKIPPED | SKIPPED | +-------------------------------+--------------------+-------------------+------------------+-------------------------+ | Ubuntu 22.04 | PASS | SKIPPED | SKIPPED | SKIPPED | +-------------------------------+--------------------+-------------------+------------------+-------------------------+ | Ubuntu 24.04 | PASS | SKIPPED | PASS | SKIPPED | +-------------------------------+--------------------+-------------------+------------------+-------------------------+ | Alpine Linux 3.22.0 | PASS | SKIPPED | SKIPPED | SKIPPED | +-------------------------------+--------------------+-------------------+------------------+-------------------------+ | Windows Server 2022 | SKIPPED | PASS | SKIPPED | PASS | +-------------------------------+--------------------+-------------------+------------------+-------------------------+ Ubuntu 20.04 Kernel: 4.19 Compiler: gcc gcc (Ubuntu 9.4.0-1ubuntu1~20.04.2) 9.4.0 FreeBSD 14.2 Kernel: 14.2-RELEASE Compiler: clang 18.1.6 CentOS Stream 9 Kernel: 5.15 Compiler: gcc gcc (GCC) 11.5.0 20240719 (Red Hat 11.5.0-11) CentOS Stream 10 Kernel: 5.15 Compiler: gcc gcc (GCC) 14.2.1 20250110 (Red Hat 14.2.1-8) Debian GNU/Linux 12 Kernel: 5.15 Compiler: gcc gcc (Debian 12.2.0-14+deb12u1) 12.2.0 Fedora Linux 42 Kernel: 5.15 Compiler: clang gcc (GCC) 15.2.1 20250808 (Red Hat 15.2.1-1) openSUSE Leap 15.6 Kernel: 5.15 Compiler: gcc gcc (SUSE Linux) 7.5.0 Red Hat Enterprise Linux 8.10 Kernel: 5.15 Compiler: gcc gcc (GCC) 8.5.0 20210514 (Red Hat 8.5.0-22) Red Hat Enterprise Linux 9.5 Kernel: 5.15 Compiler: gcc gcc (GCC) 11.5.0 20240719 (Red Hat 11.5.0-2) Ubuntu 22.04 Kernel: 5.15 Compiler: gcc gcc (Ubuntu 11.4.0-1ubuntu1~22.04) 11.4.0 Ubuntu 24.04 Kernel: 5.15 Compiler: gcc gcc (Ubuntu 13.3.0-6ubuntu2~24.04) 13.3.0 Alpine Linux 3.22.0 Kernel: 5.15 Compiler: gcc gcc (Alpine 14.2.0) 14.2.0 Windows Server 2022 Kernel: 10.0.20348.2031 Compiler: clang 15.0.7, gcc 14.1.0 (MinGW), and MSVC VS 19.39.33521 To view detailed results, visit: https://lab.dpdk.org/results/dashboard/patchsets/34477/ UNH-IOL DPDK Community Lab To manage your email subscriptions, visit: https://lab.dpdk.org/results/dashboard/preferences/subscriptions/