From mboxrd@z Thu Jan 1 00:00:00 1970 Return-Path: Received: from mails.dpdk.org (mails.dpdk.org [217.70.189.124]) by inbox.dpdk.org (Postfix) with ESMTP id 8718148A4E for ; Wed, 5 Nov 2025 22:16:27 +0100 (CET) Received: from mails.dpdk.org (localhost [127.0.0.1]) by mails.dpdk.org (Postfix) with ESMTP id 822DF402E6; Wed, 5 Nov 2025 22:16:27 +0100 (CET) Received: from mail-il1-f226.google.com (mail-il1-f226.google.com [209.85.166.226]) by mails.dpdk.org (Postfix) with ESMTP id A0709402E6 for ; Wed, 5 Nov 2025 22:16:25 +0100 (CET) Received: by mail-il1-f226.google.com with SMTP id e9e14a558f8ab-43325879139so2144325ab.1 for ; Wed, 05 Nov 2025 13:16:25 -0800 (PST) DKIM-Signature: v=1; a=rsa-sha256; c=relaxed/relaxed; d=iol.unh.edu; s=unh-iol; t=1762377385; x=1762982185; darn=dpdk.org; h=references:in-reply-to:cc:to:from:subject:message-id:date:from:to :cc:subject:date:message-id:reply-to; bh=W6oju7dY8BeOcHhfPdT9UO+JtoyDmIYE7Xz4On0mr9k=; b=NDQWCdgYv10x0Y3BFNhBn6SCSYDN1d8DeBh+YGbiPmnaeQj+3N9riD/iZa4PJPzhGF +0BqkJ77Lz86VkuBvvvpn4ZfuwJwTuIlX2bgfLaVYJ1iLOCr1nn8pHn0itPx77hTYuDr NdFC63sz6c3fgmek3TC8I5ZI/pc+M79NDhPzg= X-Google-DKIM-Signature: v=1; a=rsa-sha256; c=relaxed/relaxed; d=1e100.net; s=20230601; t=1762377385; x=1762982185; h=references:in-reply-to:cc:to:from:subject:message-id:date :x-gm-message-state:from:to:cc:subject:date:message-id:reply-to; bh=W6oju7dY8BeOcHhfPdT9UO+JtoyDmIYE7Xz4On0mr9k=; b=KBT6E4WvT1jrAitwvceWZrzDl1BGH329PNR0UvSkmrlk10cPGb4SFaD4hnMIoX7m3n snHIZ3PLBdw5IayZ2eQqAHuo7aBIFVJpwW7v3Ot2U9IgBNu7Bdr4J3X1CYIRktbYR5VD 5ostJnw99evacj7fEBmtuI9/Gqvls2INykVJcS2cPpa8gpFIVR1d3aotF6AfGTKdScKO 76h78fIThZcgbAOc0FOutqvD9BORExDZV05oOVehsfyVA5Q1tXEHaNCNQH5UxrK2afvw WOyClLBwIHMKWbknT2ZPJ19uEwxcFYPQCzmDWtbyLUPMjWd7IjZtoOl8Jfl+4StAs0BK k2gw== X-Gm-Message-State: AOJu0Yw5GjjtYgLRwMOPfkBZK+GptL3p28798rH8FjW7xcmAhrCkmhVQ GY9mrFJ6BjOA6+jP8gLHrSE1uOfkuz4dB4w/E0KijBp58jdvuSTyevDbNiKe5Ld3Vr+2j/umNJT 4W9N35ME7b7LlojVhOpG4xHStBIkkgDsdol2OFrYVy5Skvfxs+dfSc+ysHYTy X-Gm-Gg: ASbGncsFkQYRKC4k3qX3HBzrzL77mqrxwAQADFTZrk3AJdFjLB66nnpUGnNT6j6+zX9 LbqgvvnfFtc/Pz7yIga24ujVIPvoGTvq22LBypPgdZqngZO4WyUFyffk/oRFi5Vgrxv8gSQUzz4 Fr2GlmsuB0KylW9tJOKbTxNyHFDHB/j6XxOwZYPQOGu10cSH2k0nsk8iVrlYI+Dw/FKXYetgQNZ BYM1lBeiH0Keao7BDjEDFvossMfdZ8KaZxQYixlUs8zjtvLPUSMBLuVKtOvEX7n8YUQYiPoMOh5 bmrdilO86jQ1jWtcEIHS8M15mDy5sn/sdS2PkJOKSWLNrVBEK3E7vNXJlPPYEelukz8aNsK7OiT gQc4Uuio6 X-Google-Smtp-Source: AGHT+IHwlfdd24WH5IWhBaMy86znDWdu1PAN2T5JEUjnx4nufS/qfYsiTU7gXQVqunpmXivnXlOzXt4ekAQg X-Received: by 2002:a05:6e02:2404:b0:430:b6a3:53b4 with SMTP id e9e14a558f8ab-43340787eebmr79597125ab.3.1762377384968; Wed, 05 Nov 2025 13:16:24 -0800 (PST) Received: from postal.iol.unh.edu (postal.iol.unh.edu. [2606:4100:3880:1234::84]) by smtp-relay.gmail.com with ESMTPS id 8926c6da1cb9f-5b7468b63f7sm40118173.36.2025.11.05.13.16.24 (version=TLS1_2 cipher=ECDHE-ECDSA-AES128-GCM-SHA256 bits=128/128); Wed, 05 Nov 2025 13:16:24 -0800 (PST) X-Relaying-Domain: iol.unh.edu Date: Wed, 05 Nov 2025 13:16:24 -0800 (PST) Message-ID: <690bbea8.050a0220.ef7a7.2323SMTPIN_ADDED_MISSING@mx.google.com> Received: from [172.21.0.2] (unknown [172.18.0.240]) by postal.iol.unh.edu (Postfix) with ESMTP id 8AC736051830; Wed, 5 Nov 2025 16:16:24 -0500 (EST) Subject: |SUCCESS| pw158461-158466 [PATCH] [v2,6/6] net/iavf: fix QinQ insert From: dpdklab@iol.unh.edu To: Test Report Cc: dpdk-test-reports@iol.unh.edu, Bruce Richardson In-Reply-To: <20251105152642.2981673-7-ciara.loftus@intel.com> References: <20251105152642.2981673-7-ciara.loftus@intel.com> Content-Type: text/plain X-BeenThere: test-report@dpdk.org X-Mailman-Version: 2.1.29 Precedence: list List-Id: automatic DPDK test reports List-Unsubscribe: , List-Archive: List-Post: List-Help: List-Subscribe: , Errors-To: test-report-bounces@dpdk.org Test-Label: iol-compile-arm64-testing Test-Status: SUCCESS http://dpdk.org/patch/158466 _Testing PASS_ Submitter: Ciara Loftus Date: Wednesday, November 05 2025 15:26:42 DPDK git baseline: Repo:dpdk-next-net-intel Branch: master CommitID:03e1f9ac281264a54af53f547a2eb80f25bc19e6 158461-158466 --> testing pass Upstream job id: Generic-DPDK-Compile-Meson#441126 Test environment and result as below: +------------------------------+--------------------+ | Environment | dpdk_meson_compile | +==============================+====================+ | Red Hat Enterprise Linux 9.5 | PASS | +------------------------------+--------------------+ | Ubuntu 20.04 | PASS | +------------------------------+--------------------+ | Ubuntu 24.04 | PASS | +------------------------------+--------------------+ | Ubuntu 22.04 | PASS | +------------------------------+--------------------+ | Debian GNU/Linux 12 | PASS | +------------------------------+--------------------+ | Fedora Linux 42 | PASS | +------------------------------+--------------------+ | CentOS Stream 10 | PASS | +------------------------------+--------------------+ | CentOS Stream 9 | PASS | +------------------------------+--------------------+ Red Hat Enterprise Linux 9.5 Kernel: 5.4 Compiler: gcc gcc (GCC) 11.5.0 20240719 (Red Hat 11.5.0-2) Ubuntu 20.04 Kernel: 5.15 Compiler: aarch64-linux-gnu-gcc gcc (Ubuntu 9.4.0-1ubuntu1~20.04.2) 9.4.0 Ubuntu 24.04 Kernel: 5.4 Compiler: gcc gcc (Ubuntu 13.3.0-6ubuntu2~24.04) 13.3.0 Ubuntu 22.04 Kernel: 5.4 Compiler: gcc gcc (Ubuntu 11.4.0-1ubuntu1~22.04) 11.4.0 Debian GNU/Linux 12 Kernel: 5.4 Compiler: gcc gcc (Debian 12.2.0-14+deb12u1) 12.2.0 Fedora Linux 42 Kernel: 5.4 Compiler: clang gcc (GCC) 15.2.1 20250808 (Red Hat 15.2.1-1) CentOS Stream 10 Kernel: 5.4 Compiler: gcc gcc (GCC) 14.2.1 20250110 (Red Hat 14.2.1-8) CentOS Stream 9 Kernel: 5.4 Compiler: gcc gcc (GCC) 11.5.0 20240719 (Red Hat 11.5.0-11) To view detailed results, visit: https://lab.dpdk.org/results/dashboard/patchsets/34475/ UNH-IOL DPDK Community Lab To manage your email subscriptions, visit: https://lab.dpdk.org/results/dashboard/preferences/subscriptions/