From mboxrd@z Thu Jan 1 00:00:00 1970 Return-Path: Received: from mails.dpdk.org (mails.dpdk.org [217.70.189.124]) by inbox.dpdk.org (Postfix) with ESMTP id E257E48A4E for ; Wed, 5 Nov 2025 22:19:58 +0100 (CET) Received: from mails.dpdk.org (localhost [127.0.0.1]) by mails.dpdk.org (Postfix) with ESMTP id B51D9402E6; Wed, 5 Nov 2025 22:19:58 +0100 (CET) Received: from mail-io1-f100.google.com (mail-io1-f100.google.com [209.85.166.100]) by mails.dpdk.org (Postfix) with ESMTP id 17927402E6 for ; Wed, 5 Nov 2025 22:19:57 +0100 (CET) Received: by mail-io1-f100.google.com with SMTP id ca18e2360f4ac-94822ad1baeso16890239f.2 for ; Wed, 05 Nov 2025 13:19:57 -0800 (PST) DKIM-Signature: v=1; a=rsa-sha256; c=relaxed/relaxed; d=iol.unh.edu; s=unh-iol; t=1762377596; x=1762982396; darn=dpdk.org; h=references:in-reply-to:cc:to:from:subject:message-id:date:from:to :cc:subject:date:message-id:reply-to; bh=qh/bOw8ERSNz0GkUrlywaGCZagw6KtYqkQGV2WVPWZQ=; b=b2E3CTzg0+OsyN6puTCxMgNrcvXQ8YsGrCNJrkK4AvuxUIBK6MM1R/1BL1tGPK06y7 XToVLP2OmvcvpDLR2cyfpVp8b+P3CzNOThCTOfINhrm+agJX2TIL7ZjChDY4dRitpyZH FgwcKIRsuiPhygNFKKsmfWaWDwyhKcFhgkZD0= X-Google-DKIM-Signature: v=1; a=rsa-sha256; c=relaxed/relaxed; d=1e100.net; s=20230601; t=1762377596; x=1762982396; h=references:in-reply-to:cc:to:from:subject:message-id:date :x-gm-message-state:from:to:cc:subject:date:message-id:reply-to; bh=qh/bOw8ERSNz0GkUrlywaGCZagw6KtYqkQGV2WVPWZQ=; b=WlLwwsM5ngmYnjO4k9Sjs3hHg/aMr2GrUgj22FGuU4AWAAxW9G7iPtNtXQG7dNW5QZ cbxq1VEyAZcfk9umKV3mFCoQcbf+qlY/A7aeLWw9Vw0rUFyqHE+poY8gg3fyL1yfFnwL sRINso8Qug+zvKevVvtndim0hH/HHX+XY6kh5Kx4BGN5mZfYwfRGG24xx2Jk81l6EqdV Qk2bmEcDKWSMIb2DIlyDrpgyqPRS6i1OgZ8tFwmuwOLNoixp6jXr1t7g2H4aSrfC2ZDP VvHpnMMgxzGTXtKV3ElqLHTdM77ADvcPdmyWJ3gqbVh/UjfosdVO9dWBB04N0JItVsq/ KPyQ== X-Gm-Message-State: AOJu0YyOKe7agpn1DqA8xUp5ucJny01fv8vD09Qmc/ZnGcxekyKoduq0 YVKMh8sIZAGjVLKjHmrOcoyT7I+EU2nNRKecPYTGi8fkTOoNakyHQ/YlVuwOhOIuSvfkqXtvm+n r7QiZYU4JvB1Au2SgUfdGtY2lVJaX/pA1sEcrmGzIcIoq X-Gm-Gg: ASbGncvBCYxLvgbPRYl6j0/QiMVTCkz9hpjLaY2KPBY0b2sxrJ8HO+nB607GCTl2QWB Wc5q7WoPEujG8jpP0vmGd+fe+/C+Kn2BQxVtA2SlIo7afTumWZGgc0tJqHAveafYvBZVWLvKZNK 1/gLS+5JetXgqzCdgh5N+/tXy4yMhMZLArtxmEKhxS/b9PrnN0OHhSQZjelUQRflBs/VLORP49B VNH1AWCryxrOIQHzuLjv8XXjni1BJ/g0J4j8NnjeSSLrmLJxsxP2eg7khYDi4dJThhPhyulamEM AdHcbb9+Qo+XGVPS+ui/vQcA0wfMDUNw/SPnaO5bezZIhNIgjVv8iETBKLvXr8V92lNz/kkpqiL +/y500SrAy6Y5LV9IEvPIpto4yrPLhNw= X-Google-Smtp-Source: AGHT+IFKS0JO4aTCMBl7c289DZjh2a3Eh+0jqJGUswydYvOo0CZZlhhV3ilZKcwPikjdv2i848kNiFtJFAw1 X-Received: by 2002:a05:6602:3429:b0:941:a80:7ae1 with SMTP id ca18e2360f4ac-94869eae904mr789347639f.14.1762377596331; Wed, 05 Nov 2025 13:19:56 -0800 (PST) Received: from postal.iol.unh.edu (postal.iol.unh.edu. [132.177.123.84]) by smtp-relay.gmail.com with ESMTPS id ca18e2360f4ac-94879551936sm4845539f.4.2025.11.05.13.19.56 (version=TLS1_2 cipher=ECDHE-ECDSA-AES128-GCM-SHA256 bits=128/128); Wed, 05 Nov 2025 13:19:56 -0800 (PST) X-Relaying-Domain: iol.unh.edu Date: Wed, 05 Nov 2025 13:19:56 -0800 (PST) Message-ID: <690bbf7c.050a0220.3cce85.2e48SMTPIN_ADDED_MISSING@mx.google.com> Received: from [172.21.0.2] (unknown [172.18.0.240]) by postal.iol.unh.edu (Postfix) with ESMTP id D59A36051830; Wed, 5 Nov 2025 16:19:55 -0500 (EST) Subject: |SUCCESS| pw158475-158476 [PATCH] [v3,2/2] net/mlx5: support PF repr From: dpdklab@iol.unh.edu To: Test Report Cc: dpdk-test-reports@iol.unh.edu, Stephen Hemminger In-Reply-To: <20251105174839.323085-2-getelson@nvidia.com> References: <20251105174839.323085-2-getelson@nvidia.com> Content-Type: text/plain X-BeenThere: test-report@dpdk.org X-Mailman-Version: 2.1.29 Precedence: list List-Id: automatic DPDK test reports List-Unsubscribe: , List-Archive: List-Post: List-Help: List-Subscribe: , Errors-To: test-report-bounces@dpdk.org Test-Label: iol-compile-amd64-testing Test-Status: SUCCESS http://dpdk.org/patch/158476 _Testing PASS_ Submitter: Gregory Etelson Date: Wednesday, November 05 2025 17:48:38 DPDK git baseline: Repo:dpdk-next-net Branch: master CommitID:538052bb364db22ba8cc08b5e23a9e6d25a864a9 158475-158476 --> testing pass Upstream job id: Windows-Compile-DPDK-Native#32149 Test environment and result as below: +-------------------------------+--------------------+-------------------+------------------+-------------------------+ | Environment | dpdk_meson_compile | dpdk_msvc_compile | dpdk_compile_ovs | dpdk_llvm_clang_compile | +===============================+====================+===================+==================+=========================+ | FreeBSD 14.2 | PASS | SKIPPED | SKIPPED | SKIPPED | +-------------------------------+--------------------+-------------------+------------------+-------------------------+ | Ubuntu 20.04 | PASS | SKIPPED | SKIPPED | SKIPPED | +-------------------------------+--------------------+-------------------+------------------+-------------------------+ | CentOS Stream 9 | PASS | SKIPPED | SKIPPED | SKIPPED | +-------------------------------+--------------------+-------------------+------------------+-------------------------+ | CentOS Stream 10 | PASS | SKIPPED | SKIPPED | SKIPPED | +-------------------------------+--------------------+-------------------+------------------+-------------------------+ | Debian GNU/Linux 12 | PASS | SKIPPED | SKIPPED | SKIPPED | +-------------------------------+--------------------+-------------------+------------------+-------------------------+ | Fedora Linux 42 | PASS | SKIPPED | PASS | SKIPPED | +-------------------------------+--------------------+-------------------+------------------+-------------------------+ | openSUSE Leap 15.6 | PASS | SKIPPED | SKIPPED | SKIPPED | +-------------------------------+--------------------+-------------------+------------------+-------------------------+ | Red Hat Enterprise Linux 8.10 | PASS | SKIPPED | SKIPPED | SKIPPED | +-------------------------------+--------------------+-------------------+------------------+-------------------------+ | Red Hat Enterprise Linux 9.5 | PASS | SKIPPED | SKIPPED | SKIPPED | +-------------------------------+--------------------+-------------------+------------------+-------------------------+ | Ubuntu 22.04 | PASS | SKIPPED | SKIPPED | SKIPPED | +-------------------------------+--------------------+-------------------+------------------+-------------------------+ | Ubuntu 24.04 | PASS | SKIPPED | PASS | SKIPPED | +-------------------------------+--------------------+-------------------+------------------+-------------------------+ | Alpine Linux 3.22.0 | PASS | SKIPPED | SKIPPED | SKIPPED | +-------------------------------+--------------------+-------------------+------------------+-------------------------+ | Windows Server 2022 | SKIPPED | PASS | SKIPPED | PASS | +-------------------------------+--------------------+-------------------+------------------+-------------------------+ FreeBSD 14.2 Kernel: 14.2-RELEASE Compiler: clang 18.1.6 Ubuntu 20.04 Kernel: 4.19 Compiler: gcc gcc (Ubuntu 9.4.0-1ubuntu1~20.04.2) 9.4.0 CentOS Stream 9 Kernel: 5.15 Compiler: gcc gcc (GCC) 11.5.0 20240719 (Red Hat 11.5.0-11) CentOS Stream 10 Kernel: 5.15 Compiler: gcc gcc (GCC) 14.2.1 20250110 (Red Hat 14.2.1-8) Debian GNU/Linux 12 Kernel: 5.15 Compiler: gcc gcc (Debian 12.2.0-14+deb12u1) 12.2.0 Fedora Linux 42 Kernel: 5.15 Compiler: gcc gcc (GCC) 15.2.1 20250808 (Red Hat 15.2.1-1) openSUSE Leap 15.6 Kernel: 5.15 Compiler: gcc gcc (SUSE Linux) 7.5.0 Red Hat Enterprise Linux 8.10 Kernel: 5.15 Compiler: gcc gcc (GCC) 8.5.0 20210514 (Red Hat 8.5.0-22) Red Hat Enterprise Linux 9.5 Kernel: 5.15 Compiler: gcc gcc (GCC) 11.5.0 20240719 (Red Hat 11.5.0-2) Ubuntu 22.04 Kernel: 5.15 Compiler: gcc gcc (Ubuntu 11.4.0-1ubuntu1~22.04) 11.4.0 Ubuntu 24.04 Kernel: 5.15 Compiler: gcc gcc (Ubuntu 13.3.0-6ubuntu2~24.04) 13.3.0 Alpine Linux 3.22.0 Kernel: 5.15 Compiler: gcc gcc (Alpine 14.2.0) 14.2.0 Windows Server 2022 Kernel: 10.0.20348.2031 Compiler: clang 15.0.7, gcc 14.1.0 (MinGW), and MSVC VS 19.39.33521 To view detailed results, visit: https://lab.dpdk.org/results/dashboard/patchsets/34479/ UNH-IOL DPDK Community Lab To manage your email subscriptions, visit: https://lab.dpdk.org/results/dashboard/preferences/subscriptions/