From mboxrd@z Thu Jan 1 00:00:00 1970 Return-Path: Received: from mails.dpdk.org (mails.dpdk.org [217.70.189.124]) by inbox.dpdk.org (Postfix) with ESMTP id 2900748A4E for ; Wed, 5 Nov 2025 22:23:15 +0100 (CET) Received: from mails.dpdk.org (localhost [127.0.0.1]) by mails.dpdk.org (Postfix) with ESMTP id 0A9CE402E6; Wed, 5 Nov 2025 22:23:15 +0100 (CET) Received: from mail-il1-f225.google.com (mail-il1-f225.google.com [209.85.166.225]) by mails.dpdk.org (Postfix) with ESMTP id 2BFF5402E6 for ; Wed, 5 Nov 2025 22:23:14 +0100 (CET) Received: by mail-il1-f225.google.com with SMTP id e9e14a558f8ab-4334f0f9c6cso2777515ab.0 for ; Wed, 05 Nov 2025 13:23:14 -0800 (PST) DKIM-Signature: v=1; a=rsa-sha256; c=relaxed/relaxed; d=iol.unh.edu; s=unh-iol; t=1762377793; x=1762982593; darn=dpdk.org; h=references:in-reply-to:cc:to:from:subject:message-id:date:from:to :cc:subject:date:message-id:reply-to; bh=9E5PnkkPAwe4sjVd95MXnMyBj7uSOYAQGGfnYnynUgk=; b=O+wuFuz24C//n3VPHjYCWmtjr7FQV4d9di+S8ltQE7dkSVRAW19aZHJ0V+wmzzMytB zR48oPABG+Cs9mjkSD9dKoIDklouOf3XpsSV4Xu2x4Rx4+S1ojvCVfqzvc6BoP2U0VMz TNq6V0Hrvz15MmCwAhcO0Nq5siXPb3HIxOciU= X-Google-DKIM-Signature: v=1; a=rsa-sha256; c=relaxed/relaxed; d=1e100.net; s=20230601; t=1762377793; x=1762982593; h=references:in-reply-to:cc:to:from:subject:message-id:date :x-gm-message-state:from:to:cc:subject:date:message-id:reply-to; bh=9E5PnkkPAwe4sjVd95MXnMyBj7uSOYAQGGfnYnynUgk=; b=ffulK0/PlLppoD/NQjoXBcV6Pw4ppmho8Y/mUdE7eLL8Cvx9QOltxpSh2Y028K9n1M JJtbDwjzuwbGG8gjYh3OIy/ynIu+BcGAhWGn8x6L7fL3v4/DLj4Bxx9g2GL2bGS+8Q5P q6R4PPJyTV3aycJsf4mLsbs5PR9TYT6IcmWQyulzGNvubnkwHZ2GiZnMksO7VmD/O5TB AE0DHW7cj4yOanLxI+bgD7qcyUtEo61LVY3sPD/biiuCeIq7vNFdPdxQwxyS3HXKxqb5 /2iigKhOt6zGO1wpCJZVY24M41n7Aatoo5suRFZV2jdB7cTbfXxqmKp182A+pY27YkSQ kElg== X-Gm-Message-State: AOJu0YwCcCX5mw36RigFOQmG8WEPcX32EMIWtZO019iByXMZ0r7M0qDG 8dJFaH91K8GB37WpFt5IxyUxp0Us18hZDf2QDGsB0jmLLhWeBt+TawL+Pq1cHCgTcNlWChc237u VUHdnQCvk4GxtKx8eoHiOgUdPlj3dRCKq9IO1cXlFOlayyYt9FOkeBIcX0tI9 X-Gm-Gg: ASbGnctj+oknWOmaqvfc9Wo96GKUvL0mg+ChO9BOF3qm/fxSNVvb6DgOtoeySgNjgYL 7B6fbl35n3KBG7+C/7JxDeVACig/MyevXvESh5AqY+qbBGFScuRG6wDkasEjttvXsARbxKkYcTW EMI4ZhP8H10HWykj+PeBD5yrhQqpHXRmYzWuWgHvzpqKk+mz2onWF2bRuwNifoTLE9krHI/EY7e GrUUyxk+0i7T9DI2E4lSGvvdAZdmSa8Kl8o2JKjfDMFlaPqmb5kcM/b4jWWK6kPF8q+fzqwryw0 avABWEEGL1PS8crtDRHGm7CqZOOPwte4UHrmVMbIAK9EuzNbMAYLgd1U67wr0Wx0q5fypb+BeFm s7iCqEyYT X-Google-Smtp-Source: AGHT+IHscjRIIHbyWDFSdynTi/gHLx5gkNd3w+fuKFuafj05IunG9hUuUGFpjqffI0AHXEB399bKPZ/6HVoY X-Received: by 2002:a05:6e02:1546:b0:433:2c61:b483 with SMTP id e9e14a558f8ab-433407d4cc6mr69971155ab.25.1762377793470; Wed, 05 Nov 2025 13:23:13 -0800 (PST) Received: from postal.iol.unh.edu (postal.iol.unh.edu. [2606:4100:3880:1234::84]) by smtp-relay.gmail.com with ESMTPS id e9e14a558f8ab-4334f4b46c7sm381095ab.20.2025.11.05.13.23.13 (version=TLS1_2 cipher=ECDHE-ECDSA-AES128-GCM-SHA256 bits=128/128); Wed, 05 Nov 2025 13:23:13 -0800 (PST) X-Relaying-Domain: iol.unh.edu Date: Wed, 05 Nov 2025 13:23:13 -0800 (PST) Message-ID: <690bc041.050a0220.304f5.2439SMTPIN_ADDED_MISSING@mx.google.com> Received: from [172.21.0.3] (unknown [172.18.0.240]) by postal.iol.unh.edu (Postfix) with ESMTP id F02C36051830; Wed, 5 Nov 2025 16:23:12 -0500 (EST) Subject: |SUCCESS| pw158475-158476 [PATCH] [v3,2/2] net/mlx5: support PF repr From: dpdklab@iol.unh.edu To: Test Report Cc: dpdk-test-reports@iol.unh.edu, Stephen Hemminger In-Reply-To: <20251105174839.323085-2-getelson@nvidia.com> References: <20251105174839.323085-2-getelson@nvidia.com> Content-Type: text/plain X-BeenThere: test-report@dpdk.org X-Mailman-Version: 2.1.29 Precedence: list List-Id: automatic DPDK test reports List-Unsubscribe: , List-Archive: List-Post: List-Help: List-Subscribe: , Errors-To: test-report-bounces@dpdk.org Test-Label: iol-compile-amd64-testing Test-Status: SUCCESS http://dpdk.org/patch/158476 _Testing PASS_ Submitter: Gregory Etelson Date: Wednesday, November 05 2025 17:48:38 DPDK git baseline: Repo:dpdk-next-net Branch: master CommitID:538052bb364db22ba8cc08b5e23a9e6d25a864a9 158475-158476 --> testing pass Upstream job id: Windows-Compile-DPDK-Native#32150 Test environment and result as below: +-------------------------------+--------------------+-------------------+------------------+-------------------------+----------------------+ | Environment | dpdk_meson_compile | dpdk_msvc_compile | dpdk_compile_ovs | dpdk_llvm_clang_compile | dpdk_mingw64_compile | +===============================+====================+===================+==================+=========================+======================+ | FreeBSD 14.2 | PASS | SKIPPED | SKIPPED | SKIPPED | SKIPPED | +-------------------------------+--------------------+-------------------+------------------+-------------------------+----------------------+ | Ubuntu 20.04 | PASS | SKIPPED | SKIPPED | SKIPPED | SKIPPED | +-------------------------------+--------------------+-------------------+------------------+-------------------------+----------------------+ | CentOS Stream 9 | PASS | SKIPPED | SKIPPED | SKIPPED | SKIPPED | +-------------------------------+--------------------+-------------------+------------------+-------------------------+----------------------+ | CentOS Stream 10 | PASS | SKIPPED | SKIPPED | SKIPPED | SKIPPED | +-------------------------------+--------------------+-------------------+------------------+-------------------------+----------------------+ | Debian GNU/Linux 12 | PASS | SKIPPED | SKIPPED | SKIPPED | SKIPPED | +-------------------------------+--------------------+-------------------+------------------+-------------------------+----------------------+ | Fedora Linux 42 | PASS | SKIPPED | PASS | SKIPPED | SKIPPED | +-------------------------------+--------------------+-------------------+------------------+-------------------------+----------------------+ | openSUSE Leap 15.6 | PASS | SKIPPED | SKIPPED | SKIPPED | SKIPPED | +-------------------------------+--------------------+-------------------+------------------+-------------------------+----------------------+ | Red Hat Enterprise Linux 8.10 | PASS | SKIPPED | SKIPPED | SKIPPED | SKIPPED | +-------------------------------+--------------------+-------------------+------------------+-------------------------+----------------------+ | Red Hat Enterprise Linux 9.5 | PASS | SKIPPED | SKIPPED | SKIPPED | SKIPPED | +-------------------------------+--------------------+-------------------+------------------+-------------------------+----------------------+ | Ubuntu 22.04 | PASS | SKIPPED | SKIPPED | SKIPPED | SKIPPED | +-------------------------------+--------------------+-------------------+------------------+-------------------------+----------------------+ | Ubuntu 24.04 | PASS | SKIPPED | PASS | SKIPPED | SKIPPED | +-------------------------------+--------------------+-------------------+------------------+-------------------------+----------------------+ | Alpine Linux 3.22.0 | PASS | SKIPPED | SKIPPED | SKIPPED | SKIPPED | +-------------------------------+--------------------+-------------------+------------------+-------------------------+----------------------+ | Windows Server 2022 | SKIPPED | PASS | SKIPPED | PASS | PASS | +-------------------------------+--------------------+-------------------+------------------+-------------------------+----------------------+ FreeBSD 14.2 Kernel: 14.2-RELEASE Compiler: clang 18.1.6 Ubuntu 20.04 Kernel: 4.19 Compiler: gcc gcc (Ubuntu 9.4.0-1ubuntu1~20.04.2) 9.4.0 CentOS Stream 9 Kernel: 5.15 Compiler: gcc gcc (GCC) 11.5.0 20240719 (Red Hat 11.5.0-11) CentOS Stream 10 Kernel: 5.15 Compiler: gcc gcc (GCC) 14.2.1 20250110 (Red Hat 14.2.1-8) Debian GNU/Linux 12 Kernel: 5.15 Compiler: gcc gcc (Debian 12.2.0-14+deb12u1) 12.2.0 Fedora Linux 42 Kernel: 5.15 Compiler: gcc gcc (GCC) 15.2.1 20250808 (Red Hat 15.2.1-1) openSUSE Leap 15.6 Kernel: 5.15 Compiler: gcc gcc (SUSE Linux) 7.5.0 Red Hat Enterprise Linux 8.10 Kernel: 5.15 Compiler: gcc gcc (GCC) 8.5.0 20210514 (Red Hat 8.5.0-22) Red Hat Enterprise Linux 9.5 Kernel: 5.15 Compiler: gcc gcc (GCC) 11.5.0 20240719 (Red Hat 11.5.0-2) Ubuntu 22.04 Kernel: 5.15 Compiler: gcc gcc (Ubuntu 11.4.0-1ubuntu1~22.04) 11.4.0 Ubuntu 24.04 Kernel: 5.15 Compiler: gcc gcc (Ubuntu 13.3.0-6ubuntu2~24.04) 13.3.0 Alpine Linux 3.22.0 Kernel: 5.15 Compiler: gcc gcc (Alpine 14.2.0) 14.2.0 Windows Server 2022 Kernel: 10.0.20348.2031 Compiler: clang 15.0.7, gcc 14.1.0 (MinGW), and MSVC VS 19.39.33521 To view detailed results, visit: https://lab.dpdk.org/results/dashboard/patchsets/34479/ UNH-IOL DPDK Community Lab To manage your email subscriptions, visit: https://lab.dpdk.org/results/dashboard/preferences/subscriptions/