From mboxrd@z Thu Jan 1 00:00:00 1970 Return-Path: Received: from mails.dpdk.org (mails.dpdk.org [217.70.189.124]) by inbox.dpdk.org (Postfix) with ESMTP id 7DF3148A4E for ; Wed, 5 Nov 2025 22:27:37 +0100 (CET) Received: from mails.dpdk.org (localhost [127.0.0.1]) by mails.dpdk.org (Postfix) with ESMTP id 79F20402E6; Wed, 5 Nov 2025 22:27:37 +0100 (CET) Received: from mail-oa1-f97.google.com (mail-oa1-f97.google.com [209.85.160.97]) by mails.dpdk.org (Postfix) with ESMTP id C7443402E6 for ; Wed, 5 Nov 2025 22:27:35 +0100 (CET) Received: by mail-oa1-f97.google.com with SMTP id 586e51a60fabf-3c9a42d6349so363104fac.1 for ; Wed, 05 Nov 2025 13:27:35 -0800 (PST) DKIM-Signature: v=1; a=rsa-sha256; c=relaxed/relaxed; d=iol.unh.edu; s=unh-iol; t=1762378055; x=1762982855; darn=dpdk.org; h=references:in-reply-to:cc:to:from:subject:message-id:date:from:to :cc:subject:date:message-id:reply-to; bh=wNMWALohyf9rTC/sn60qvnUHLgyA8fTyw2ihEZA2wpc=; b=H4kBnjZGOsoguWWL9MpWSchNWTWH79a3rAqzUkzmUvm50hhjSYsTVPcCj4IPezbptn S3a1YfraFGl37d6v1RK2l4ChsgSoIPfdyE66vxMExn5XkylLpbIjmy/Wl5CZRI26bBfb DChvII616a1ruJwvQ0s8v7S687yG+BQ0LVroo= X-Google-DKIM-Signature: v=1; a=rsa-sha256; c=relaxed/relaxed; d=1e100.net; s=20230601; t=1762378055; x=1762982855; h=references:in-reply-to:cc:to:from:subject:message-id:date :x-gm-message-state:from:to:cc:subject:date:message-id:reply-to; bh=wNMWALohyf9rTC/sn60qvnUHLgyA8fTyw2ihEZA2wpc=; b=WkiBDiLpcegMeL2GjyUEe1H5ZOVmcA0miF1r2uiR4mgzFZAnBC6V0ZIE/Jyf8l7o+w 6roOB9NJbufGKRnpVhMk/N4hiJPLxgno4ZwCd+XMp9OkBVGg5NTmLg7pbO/03ovEiT07 mcISbW2tUZbVFAgtqpi9IozK2pSSwZKmlrQmIOl87ENNTw1FTqWmKCPqMMhcUog/fRY/ yDPHDE7OkRdQqIOnzBacgUVXbcJ6BdhaW71K6YRx9nH3QdL3tcZshpsxwx8K2HLoJ2OU rOyKqDAYOYop1DlU7WMrGKJ9uYKSTT/O6p7EqSSNNTJoVkPnIw2AQwho2fGzcthC0iCy Ejjw== X-Gm-Message-State: AOJu0Yx3Nih0rQtO14C+M1mPv6WMAc7PfT7FIRcJfR70rwtXYeBJ40h6 vL+IEEAY/X7oaAn7HvPTsyKcacu3iPF1HJXeJzc9ilz3iMGgjLmn1bUOSyFA3SpxlZ5ajg4tYwb WHoJh22ZSVDKmpu5r3Ehn5G/IbhQ5CGh+mowLplPiMqkSf+267sI/3gHdXYYd X-Gm-Gg: ASbGnct5d6qQSmkPnTA3TchP6raa658ZGL+R/5p5aQs8f63mY4BYW53tIZm9m/6VxXC cMPNFy3SR7tVvH+LxzjswyIw6xuHki3ZG8sZG68q1G66UR61B1iHMLCSTFhRkE9Js3Em/FFS9bA 13o2W6Y6/LUB2zTedns193fuOwc1YKCKTJe6WZ3mrUH5Oqf8xD6V0ruK1v5kx1snzKJIMFcBpeq uB1y8zfilyz9aSMPbZqq48r1OXhicGp8xQpDliu65Y9aejIO8/qxKojq/eXznfboyrchuYQToJl +/7FLn/iilrWEgHIoU1jODZZ/IV0Bhv3XTu6Acv+8fiGZ/T4TER7ZHcXIDysoj0vmM7YFP/LZBS E0Lsvrn/7 X-Google-Smtp-Source: AGHT+IFDLQSa3aaCu/dLCIuQdxUxTovvFw3sbrdpd5yncVZE+c2o+hsMYDnNpicuwzpINFSC/RcitigGjnZr X-Received: by 2002:a05:6870:280b:b0:343:a20a:3fd5 with SMTP id 586e51a60fabf-3e19b42b322mr2401552fac.40.1762378055117; Wed, 05 Nov 2025 13:27:35 -0800 (PST) Received: from postal.iol.unh.edu (postal.iol.unh.edu. [2606:4100:3880:1234::84]) by smtp-relay.gmail.com with ESMTPS id 46e09a7af769-7c6e32e857esm15851a34.8.2025.11.05.13.27.35 (version=TLS1_2 cipher=ECDHE-ECDSA-AES128-GCM-SHA256 bits=128/128); Wed, 05 Nov 2025 13:27:35 -0800 (PST) X-Relaying-Domain: iol.unh.edu Date: Wed, 05 Nov 2025 13:27:35 -0800 (PST) Message-ID: <690bc147.050a0220.326c1e.0d34SMTPIN_ADDED_MISSING@mx.google.com> Received: from [172.21.0.2] (unknown [172.18.0.240]) by postal.iol.unh.edu (Postfix) with ESMTP id 966A16051830; Wed, 5 Nov 2025 16:27:34 -0500 (EST) Subject: |SUCCESS| pw158478-158481 [PATCH] [v3,4/4] doc: update TxPP document From: dpdklab@iol.unh.edu To: Test Report Cc: dpdk-test-reports@iol.unh.edu, Bruce Richardson In-Reply-To: <20251106064638.23020-5-soumyadeep.hore@intel.com> References: <20251106064638.23020-5-soumyadeep.hore@intel.com> Content-Type: text/plain X-BeenThere: test-report@dpdk.org X-Mailman-Version: 2.1.29 Precedence: list List-Id: automatic DPDK test reports List-Unsubscribe: , List-Archive: List-Post: List-Help: List-Subscribe: , Errors-To: test-report-bounces@dpdk.org Test-Label: iol-compile-amd64-testing Test-Status: SUCCESS http://dpdk.org/patch/158481 _Testing PASS_ Submitter: Soumyadeep Hore Date: Thursday, November 06 2025 06:46:37 DPDK git baseline: Repo:dpdk-next-net-intel Branch: master CommitID:03e1f9ac281264a54af53f547a2eb80f25bc19e6 158478-158481 --> testing pass Upstream job id: Windows-Compile-DPDK-Native#32151 Test environment and result as below: +-------------------------------+--------------------+------------------+-------------------+-------------------------+ | Environment | dpdk_meson_compile | dpdk_compile_ovs | dpdk_msvc_compile | dpdk_llvm_clang_compile | +===============================+====================+==================+===================+=========================+ | FreeBSD 14.2 | PASS | SKIPPED | SKIPPED | SKIPPED | +-------------------------------+--------------------+------------------+-------------------+-------------------------+ | Ubuntu 20.04 | PASS | SKIPPED | SKIPPED | SKIPPED | +-------------------------------+--------------------+------------------+-------------------+-------------------------+ | CentOS Stream 9 | PASS | SKIPPED | SKIPPED | SKIPPED | +-------------------------------+--------------------+------------------+-------------------+-------------------------+ | CentOS Stream 10 | PASS | SKIPPED | SKIPPED | SKIPPED | +-------------------------------+--------------------+------------------+-------------------+-------------------------+ | Debian GNU/Linux 12 | PASS | SKIPPED | SKIPPED | SKIPPED | +-------------------------------+--------------------+------------------+-------------------+-------------------------+ | Fedora Linux 42 | PASS | PASS | SKIPPED | SKIPPED | +-------------------------------+--------------------+------------------+-------------------+-------------------------+ | openSUSE Leap 15.6 | PASS | SKIPPED | SKIPPED | SKIPPED | +-------------------------------+--------------------+------------------+-------------------+-------------------------+ | Red Hat Enterprise Linux 8.10 | PASS | SKIPPED | SKIPPED | SKIPPED | +-------------------------------+--------------------+------------------+-------------------+-------------------------+ | Red Hat Enterprise Linux 9.5 | PASS | SKIPPED | SKIPPED | SKIPPED | +-------------------------------+--------------------+------------------+-------------------+-------------------------+ | Ubuntu 22.04 | PASS | SKIPPED | SKIPPED | SKIPPED | +-------------------------------+--------------------+------------------+-------------------+-------------------------+ | Ubuntu 24.04 | PASS | PASS | SKIPPED | SKIPPED | +-------------------------------+--------------------+------------------+-------------------+-------------------------+ | Alpine Linux 3.22.0 | PASS | SKIPPED | SKIPPED | SKIPPED | +-------------------------------+--------------------+------------------+-------------------+-------------------------+ | Windows Server 2022 | SKIPPED | SKIPPED | PASS | PASS | +-------------------------------+--------------------+------------------+-------------------+-------------------------+ FreeBSD 14.2 Kernel: 14.2-RELEASE Compiler: clang 18.1.6 Ubuntu 20.04 Kernel: 4.19 Compiler: gcc gcc (Ubuntu 9.4.0-1ubuntu1~20.04.2) 9.4.0 CentOS Stream 9 Kernel: 5.15 Compiler: gcc gcc (GCC) 11.5.0 20240719 (Red Hat 11.5.0-11) CentOS Stream 10 Kernel: 5.15 Compiler: gcc gcc (GCC) 14.2.1 20250110 (Red Hat 14.2.1-8) Debian GNU/Linux 12 Kernel: 5.15 Compiler: gcc gcc (Debian 12.2.0-14+deb12u1) 12.2.0 Fedora Linux 42 Kernel: 5.15 Compiler: clang gcc (GCC) 15.2.1 20250808 (Red Hat 15.2.1-1) openSUSE Leap 15.6 Kernel: 5.15 Compiler: gcc gcc (SUSE Linux) 7.5.0 Red Hat Enterprise Linux 8.10 Kernel: 5.15 Compiler: gcc gcc (GCC) 8.5.0 20210514 (Red Hat 8.5.0-22) Red Hat Enterprise Linux 9.5 Kernel: 5.15 Compiler: gcc gcc (GCC) 11.5.0 20240719 (Red Hat 11.5.0-2) Ubuntu 22.04 Kernel: 5.15 Compiler: gcc gcc (Ubuntu 11.4.0-1ubuntu1~22.04) 11.4.0 Ubuntu 24.04 Kernel: 5.15 Compiler: gcc gcc (Ubuntu 13.3.0-6ubuntu2~24.04) 13.3.0 Alpine Linux 3.22.0 Kernel: 5.15 Compiler: gcc gcc (Alpine 14.2.0) 14.2.0 Windows Server 2022 Kernel: 10.0.20348.2031 Compiler: clang 15.0.7, gcc 14.1.0 (MinGW), and MSVC VS 19.39.33521 To view detailed results, visit: https://lab.dpdk.org/results/dashboard/patchsets/34480/ UNH-IOL DPDK Community Lab To manage your email subscriptions, visit: https://lab.dpdk.org/results/dashboard/preferences/subscriptions/