From mboxrd@z Thu Jan 1 00:00:00 1970 Return-Path: Received: from mails.dpdk.org (mails.dpdk.org [217.70.189.124]) by inbox.dpdk.org (Postfix) with ESMTP id B43CF48A4E for ; Wed, 5 Nov 2025 22:29:26 +0100 (CET) Received: from mails.dpdk.org (localhost [127.0.0.1]) by mails.dpdk.org (Postfix) with ESMTP id B010940B95; Wed, 5 Nov 2025 22:29:26 +0100 (CET) Received: from mail-pl1-f226.google.com (mail-pl1-f226.google.com [209.85.214.226]) by mails.dpdk.org (Postfix) with ESMTP id 5ABD640B95 for ; Wed, 5 Nov 2025 22:29:25 +0100 (CET) Received: by mail-pl1-f226.google.com with SMTP id d9443c01a7336-295548467c7so3229695ad.2 for ; Wed, 05 Nov 2025 13:29:25 -0800 (PST) DKIM-Signature: v=1; a=rsa-sha256; c=relaxed/relaxed; d=iol.unh.edu; s=unh-iol; t=1762378164; x=1762982964; darn=dpdk.org; h=references:in-reply-to:cc:to:from:subject:message-id:date:from:to :cc:subject:date:message-id:reply-to; bh=4mWgfcuWSP0wxFFOsDt9fFa/2SIgsfZZ8xhXdrbdjiE=; b=ef3uJFtAUDm+u1fV7OybrEiaiE4Uj6XLm0ZDTFl2dulVH8U5ysYNBRZc6YEjxvbhjV l/etFicQRlyEo4FQePG6shS2zS7x8arwfZDagnNAikmcCHMt21R456hZHU06hhMLlhve 2B95RPzSqUW0r2b2BaAboP8SHXxAG2Jo/lHcg= X-Google-DKIM-Signature: v=1; a=rsa-sha256; c=relaxed/relaxed; d=1e100.net; s=20230601; t=1762378164; x=1762982964; h=references:in-reply-to:cc:to:from:subject:message-id:date :x-gm-message-state:from:to:cc:subject:date:message-id:reply-to; bh=4mWgfcuWSP0wxFFOsDt9fFa/2SIgsfZZ8xhXdrbdjiE=; b=S41u1ks48v2yGrQZunjP7QhCWYZC6W608/xL6KsPv/JKb1mPHkj3hWBIz7YtkD+0Tt k22mPocc6ijEVe75RRiFR933ljcXfH3eq7y4V3Gv2JdaViNcCAEon6eKZ8rLQ4BMALlc T4qxwiQHE8GYqlnD4Izn5KGlUFw++c85GyOB2/8dRjG79cjVHzz/LvAwHleVO9aDoSFm 5hfRfhbm4TAfoo7/rBGn3CHooAUhsQG3BwNPtV4s17f2t/GMeNsPMKbBB7xpmT/iFGl8 SYny30OMUQPtTFKe/rr4CrSQ5Z8dZ0jUuWvB8Ff+mZhP65ipE+Badt0z4EVVz0Gk0K2g DAbQ== X-Gm-Message-State: AOJu0Yzkt2QvuC/wJHYlKJHc3qFlDDZMNNnns2/OMJkdAYug/lvFDNNA u9uJcfOmxPfBrLyU6N+TCaOSHaKLc/6fIDVOC+gb2lXaymf4nGuEISOCI08WX1jRSRL0N76XL2o L618Xx97ryn8BGzQCB44GACZgetI2/Oe+Xx98B1j0HPA6 X-Gm-Gg: ASbGncuamknEq32yEP/SKJaByMwir79hrfuHlrtSX8vMlRWpiZJwRN+NKJAHz2dqKs/ rJ10NhQWg5LpARlH8kSNcGtmAle9LkUoqX7glGsRW/Nq0O/JSDITLNEwiCddWvfkv05uVrbQTZ5 ECJ41zOegHnXkL7vBOAbfOrsTv0AhkBokPo7gImxMZuY1YSBf2THVYdVWDIzsbeN5bD0IkIVskF seoZICoVorgguKyLFvP4kBGWejT7rDZg66R7uHMu7PaXgUSFOoZMu5wXH02iVo9JMQj+j3Dizy8 s0Ry1H6sQBT/GaQ9ARC1vHETuj9ZVfaDuXLwCsgLXR56O1JzRSRuU27xqq75Evp2gZGdkObCTjS fSXhYuZ0Dk0GCRJ2ZzvXChcwKNCf69yY= X-Google-Smtp-Source: AGHT+IFgfiFPittQTOu8jl5CWHx1xM6GyapC6iNxqEsSdpkqhpTbt5yR1kHVn1zkB3nGv2WFJBZRZpnklTRS X-Received: by 2002:a17:903:2289:b0:295:557e:747c with SMTP id d9443c01a7336-2962ad0c48amr52881375ad.9.1762378164500; Wed, 05 Nov 2025 13:29:24 -0800 (PST) Received: from postal.iol.unh.edu (postal.iol.unh.edu. [132.177.123.84]) by smtp-relay.gmail.com with ESMTPS id d9443c01a7336-2965096e4b1sm508825ad.9.2025.11.05.13.29.24 (version=TLS1_2 cipher=ECDHE-ECDSA-AES128-GCM-SHA256 bits=128/128); Wed, 05 Nov 2025 13:29:24 -0800 (PST) X-Relaying-Domain: iol.unh.edu Date: Wed, 05 Nov 2025 13:29:24 -0800 (PST) Message-ID: <690bc1b4.170a0220.15d943.2d5bSMTPIN_ADDED_MISSING@mx.google.com> Received: from [172.21.0.2] (unknown [172.18.0.240]) by postal.iol.unh.edu (Postfix) with ESMTP id B6B586051830; Wed, 5 Nov 2025 16:29:23 -0500 (EST) Subject: |SUCCESS| pw158478-158481 [PATCH] [v3,4/4] doc: update TxPP document From: dpdklab@iol.unh.edu To: Test Report Cc: dpdk-test-reports@iol.unh.edu, Bruce Richardson In-Reply-To: <20251106064638.23020-5-soumyadeep.hore@intel.com> References: <20251106064638.23020-5-soumyadeep.hore@intel.com> Content-Type: text/plain X-BeenThere: test-report@dpdk.org X-Mailman-Version: 2.1.29 Precedence: list List-Id: automatic DPDK test reports List-Unsubscribe: , List-Archive: List-Post: List-Help: List-Subscribe: , Errors-To: test-report-bounces@dpdk.org Test-Label: iol-compile-amd64-testing Test-Status: SUCCESS http://dpdk.org/patch/158481 _Testing PASS_ Submitter: Soumyadeep Hore Date: Thursday, November 06 2025 06:46:37 DPDK git baseline: Repo:dpdk-next-net-intel Branch: master CommitID:03e1f9ac281264a54af53f547a2eb80f25bc19e6 158478-158481 --> testing pass Upstream job id: Windows-Compile-DPDK-Native#32152 Test environment and result as below: +-------------------------------+--------------------+------------------+-------------------+-------------------------+----------------------+ | Environment | dpdk_meson_compile | dpdk_compile_ovs | dpdk_msvc_compile | dpdk_llvm_clang_compile | dpdk_mingw64_compile | +===============================+====================+==================+===================+=========================+======================+ | FreeBSD 14.2 | PASS | SKIPPED | SKIPPED | SKIPPED | SKIPPED | +-------------------------------+--------------------+------------------+-------------------+-------------------------+----------------------+ | Ubuntu 20.04 | PASS | SKIPPED | SKIPPED | SKIPPED | SKIPPED | +-------------------------------+--------------------+------------------+-------------------+-------------------------+----------------------+ | CentOS Stream 9 | PASS | SKIPPED | SKIPPED | SKIPPED | SKIPPED | +-------------------------------+--------------------+------------------+-------------------+-------------------------+----------------------+ | CentOS Stream 10 | PASS | SKIPPED | SKIPPED | SKIPPED | SKIPPED | +-------------------------------+--------------------+------------------+-------------------+-------------------------+----------------------+ | Debian GNU/Linux 12 | PASS | SKIPPED | SKIPPED | SKIPPED | SKIPPED | +-------------------------------+--------------------+------------------+-------------------+-------------------------+----------------------+ | Fedora Linux 42 | PASS | PASS | SKIPPED | SKIPPED | SKIPPED | +-------------------------------+--------------------+------------------+-------------------+-------------------------+----------------------+ | openSUSE Leap 15.6 | PASS | SKIPPED | SKIPPED | SKIPPED | SKIPPED | +-------------------------------+--------------------+------------------+-------------------+-------------------------+----------------------+ | Red Hat Enterprise Linux 8.10 | PASS | SKIPPED | SKIPPED | SKIPPED | SKIPPED | +-------------------------------+--------------------+------------------+-------------------+-------------------------+----------------------+ | Red Hat Enterprise Linux 9.5 | PASS | SKIPPED | SKIPPED | SKIPPED | SKIPPED | +-------------------------------+--------------------+------------------+-------------------+-------------------------+----------------------+ | Ubuntu 22.04 | PASS | SKIPPED | SKIPPED | SKIPPED | SKIPPED | +-------------------------------+--------------------+------------------+-------------------+-------------------------+----------------------+ | Ubuntu 24.04 | PASS | PASS | SKIPPED | SKIPPED | SKIPPED | +-------------------------------+--------------------+------------------+-------------------+-------------------------+----------------------+ | Alpine Linux 3.22.0 | PASS | SKIPPED | SKIPPED | SKIPPED | SKIPPED | +-------------------------------+--------------------+------------------+-------------------+-------------------------+----------------------+ | Windows Server 2022 | SKIPPED | SKIPPED | PASS | PASS | PASS | +-------------------------------+--------------------+------------------+-------------------+-------------------------+----------------------+ FreeBSD 14.2 Kernel: 14.2-RELEASE Compiler: clang 18.1.6 Ubuntu 20.04 Kernel: 4.19 Compiler: gcc gcc (Ubuntu 9.4.0-1ubuntu1~20.04.2) 9.4.0 CentOS Stream 9 Kernel: 5.15 Compiler: gcc gcc (GCC) 11.5.0 20240719 (Red Hat 11.5.0-11) CentOS Stream 10 Kernel: 5.15 Compiler: gcc gcc (GCC) 14.2.1 20250110 (Red Hat 14.2.1-8) Debian GNU/Linux 12 Kernel: 5.15 Compiler: gcc gcc (Debian 12.2.0-14+deb12u1) 12.2.0 Fedora Linux 42 Kernel: 5.15 Compiler: clang gcc (GCC) 15.2.1 20250808 (Red Hat 15.2.1-1) openSUSE Leap 15.6 Kernel: 5.15 Compiler: gcc gcc (SUSE Linux) 7.5.0 Red Hat Enterprise Linux 8.10 Kernel: 5.15 Compiler: gcc gcc (GCC) 8.5.0 20210514 (Red Hat 8.5.0-22) Red Hat Enterprise Linux 9.5 Kernel: 5.15 Compiler: gcc gcc (GCC) 11.5.0 20240719 (Red Hat 11.5.0-2) Ubuntu 22.04 Kernel: 5.15 Compiler: gcc gcc (Ubuntu 11.4.0-1ubuntu1~22.04) 11.4.0 Ubuntu 24.04 Kernel: 5.15 Compiler: gcc gcc (Ubuntu 13.3.0-6ubuntu2~24.04) 13.3.0 Alpine Linux 3.22.0 Kernel: 5.15 Compiler: gcc gcc (Alpine 14.2.0) 14.2.0 Windows Server 2022 Kernel: 10.0.20348.2031 Compiler: clang 15.0.7, gcc 14.1.0 (MinGW), and MSVC VS 19.39.33521 To view detailed results, visit: https://lab.dpdk.org/results/dashboard/patchsets/34480/ UNH-IOL DPDK Community Lab To manage your email subscriptions, visit: https://lab.dpdk.org/results/dashboard/preferences/subscriptions/