From mboxrd@z Thu Jan 1 00:00:00 1970 Return-Path: Received: from mails.dpdk.org (mails.dpdk.org [217.70.189.124]) by inbox.dpdk.org (Postfix) with ESMTP id 0E2AF48A4E for ; Wed, 5 Nov 2025 22:33:16 +0100 (CET) Received: from mails.dpdk.org (localhost [127.0.0.1]) by mails.dpdk.org (Postfix) with ESMTP id 099E940B9E; Wed, 5 Nov 2025 22:33:16 +0100 (CET) Received: from mail-qv1-f97.google.com (mail-qv1-f97.google.com [209.85.219.97]) by mails.dpdk.org (Postfix) with ESMTP id 0A68940B9E for ; Wed, 5 Nov 2025 22:33:15 +0100 (CET) Received: by mail-qv1-f97.google.com with SMTP id 6a1803df08f44-880439c5704so2756286d6.1 for ; Wed, 05 Nov 2025 13:33:14 -0800 (PST) DKIM-Signature: v=1; a=rsa-sha256; c=relaxed/relaxed; d=iol.unh.edu; s=unh-iol; t=1762378394; x=1762983194; darn=dpdk.org; h=references:in-reply-to:cc:to:from:subject:message-id:date:from:to :cc:subject:date:message-id:reply-to; bh=Mzci6dDSxhzDDorz6HhcwVrAk6H2cfMChCv2XKHSJTE=; b=ZQdv9y58mYS8FI1gNEAuKST05dT73A9B0Gr5eK0NZ0ZmnBT4nB0LuvY1TuJJlq08h6 dLO0deiNZwVbrEajcWhMPci9oR+WKKNYB2cVY3O6n1eHJAqFe9veU0KEdcGJt/4m+ZZ4 M9XExVD1B2GHXyFd3ZaMNWGJp1ZoGctnh2HcM= X-Google-DKIM-Signature: v=1; a=rsa-sha256; c=relaxed/relaxed; d=1e100.net; s=20230601; t=1762378394; x=1762983194; h=references:in-reply-to:cc:to:from:subject:message-id:date :x-gm-message-state:from:to:cc:subject:date:message-id:reply-to; bh=Mzci6dDSxhzDDorz6HhcwVrAk6H2cfMChCv2XKHSJTE=; b=NvaH+FhhU8jVOFN2v8QK+9vqgJQtSsgZRT9cw+svYEACEPhL9JsYqiI8XOs79lXpIi XrBiZVs2NApKVQSLMGYFdbrjWHRzquhUjjYAOSq/P7OrbgkWVCnsmWF6zQGZtAL8idqM YL+H/umPtMASegZVzPOuTG+P8rYsaXinW7H1IgQ8CskuXaJ8d4sA/uZKbHw1e+b8uqNz SKJ4WpNm9yTBHoDrC5drRN/7EhTm2QZDdP7hMpzURtGIKMTvHSHNG1sjXAwUeHN9DZtT chrxG3igRtcwyyxTubto9zkgHGyi7wmDw6FPMuRtZYEMv9oOnmbct6wh42y2+Zhl/QUV Sv2Q== X-Gm-Message-State: AOJu0YyfQTgbx6yOB+4bIlS9vq2T+bl3Pzi89puYpS8A8/vuWcLi1lRP wCJdD0dVVAeJEY6184rXEw+YooLqAh+R6pzaxbWV1HrJnqDJfa0wfOxh880Npb5nor3zKbYo29F TU+9A8tu6gDNA8Uu8O2e0HC/quutN+j0otX94c3RbCElb X-Gm-Gg: ASbGncv55UtoXl5ajX7lzUJ1E7IAb1/pLP/BoX9mrU3/7qNwfIYkGxtkYx7XhFC3iUl hH0oYuUoH9mXtJf0KT3Zi1JaiuMYQ1TkrvEFzBMlJw9zp4xBBCgFbh1TVOiwIqBL5lspAJCEE9J xQYDOlhweShQ+GzjJxc/j3U+jUkHZfUbRRiI6eE0SAogEDPVXqHfmA1l7jbuL+AwphtiHQ1y42c /W6ne2RNsLwqlrhfA/ZbTNBcf355Rd2yIuvL8wwnsGdSf4fF0b6pMaOYM4mlFaz1Olu3pl+nYV6 YNaHgrQxeyUxns5dE9TJ1mqpjqu5bUFxA9oHE3sAY+m5KPmGHFHMouUqF8OIr7t0oVmO/kHIEVl rqgvuE79meT0ABZbT/xnMkLrGs+M8kDQ= X-Google-Smtp-Source: AGHT+IH8KAPuC4TQrx6vxMj6rHxLJiBdi1n62o0T/LNffKKvzNRpeqk0qF02MZ+CN8joLP5zvqDJEo7uOSwj X-Received: by 2002:a05:6214:2467:b0:863:5c7a:728c with SMTP id 6a1803df08f44-8807115ffb7mr62250246d6.34.1762378394373; Wed, 05 Nov 2025 13:33:14 -0800 (PST) Received: from postal.iol.unh.edu (postal.iol.unh.edu. [132.177.123.84]) by smtp-relay.gmail.com with ESMTPS id 6a1803df08f44-88082a3494esm570206d6.32.2025.11.05.13.33.14 (version=TLS1_2 cipher=ECDHE-ECDSA-AES128-GCM-SHA256 bits=128/128); Wed, 05 Nov 2025 13:33:14 -0800 (PST) X-Relaying-Domain: iol.unh.edu Date: Wed, 05 Nov 2025 13:33:14 -0800 (PST) Message-ID: <690bc29a.050a0220.1b3e73.341bSMTPIN_ADDED_MISSING@mx.google.com> Received: from [172.21.0.2] (unknown [172.18.0.240]) by postal.iol.unh.edu (Postfix) with ESMTP id 04C7B6051830; Wed, 5 Nov 2025 16:33:14 -0500 (EST) Subject: |SUCCESS| pw158477 [PATCH] net/bonding: fix MAC address propagation From: dpdklab@iol.unh.edu To: Test Report Cc: dpdk-test-reports@iol.unh.edu, Stephen Hemminger In-Reply-To: <20251105180135.1181619-1-shperetz@nvidia.com> References: <20251105180135.1181619-1-shperetz@nvidia.com> Content-Type: text/plain X-BeenThere: test-report@dpdk.org X-Mailman-Version: 2.1.29 Precedence: list List-Id: automatic DPDK test reports List-Unsubscribe: , List-Archive: List-Post: List-Help: List-Subscribe: , Errors-To: test-report-bounces@dpdk.org Test-Label: iol-compile-amd64-testing Test-Status: SUCCESS http://dpdk.org/patch/158477 _Testing PASS_ Submitter: Shani Peretz Date: Wednesday, November 05 2025 18:01:35 DPDK git baseline: Repo:dpdk-next-net Branch: master CommitID:538052bb364db22ba8cc08b5e23a9e6d25a864a9 158477 --> testing pass Upstream job id: Windows-Compile-DPDK-Native#32153 Test environment and result as below: +-------------------------------+--------------------+------------------+-------------------+-------------------------+ | Environment | dpdk_meson_compile | dpdk_compile_ovs | dpdk_msvc_compile | dpdk_llvm_clang_compile | +===============================+====================+==================+===================+=========================+ | Ubuntu 20.04 | PASS | SKIPPED | SKIPPED | SKIPPED | +-------------------------------+--------------------+------------------+-------------------+-------------------------+ | FreeBSD 14.2 | PASS | SKIPPED | SKIPPED | SKIPPED | +-------------------------------+--------------------+------------------+-------------------+-------------------------+ | Ubuntu 22.04 | PASS | SKIPPED | SKIPPED | SKIPPED | +-------------------------------+--------------------+------------------+-------------------+-------------------------+ | CentOS Stream 9 | PASS | SKIPPED | SKIPPED | SKIPPED | +-------------------------------+--------------------+------------------+-------------------+-------------------------+ | CentOS Stream 10 | PASS | SKIPPED | SKIPPED | SKIPPED | +-------------------------------+--------------------+------------------+-------------------+-------------------------+ | Debian GNU/Linux 12 | PASS | SKIPPED | SKIPPED | SKIPPED | +-------------------------------+--------------------+------------------+-------------------+-------------------------+ | Fedora Linux 42 | PASS | PASS | SKIPPED | SKIPPED | +-------------------------------+--------------------+------------------+-------------------+-------------------------+ | openSUSE Leap 15.6 | PASS | SKIPPED | SKIPPED | SKIPPED | +-------------------------------+--------------------+------------------+-------------------+-------------------------+ | Red Hat Enterprise Linux 8.10 | PASS | SKIPPED | SKIPPED | SKIPPED | +-------------------------------+--------------------+------------------+-------------------+-------------------------+ | Red Hat Enterprise Linux 9.5 | PASS | SKIPPED | SKIPPED | SKIPPED | +-------------------------------+--------------------+------------------+-------------------+-------------------------+ | Ubuntu 24.04 | PASS | PASS | SKIPPED | SKIPPED | +-------------------------------+--------------------+------------------+-------------------+-------------------------+ | Alpine Linux 3.22.0 | PASS | SKIPPED | SKIPPED | SKIPPED | +-------------------------------+--------------------+------------------+-------------------+-------------------------+ | Windows Server 2022 | SKIPPED | SKIPPED | PASS | PASS | +-------------------------------+--------------------+------------------+-------------------+-------------------------+ Ubuntu 20.04 Kernel: 4.19 Compiler: gcc gcc (Ubuntu 9.4.0-1ubuntu1~20.04.2) 9.4.0 FreeBSD 14.2 Kernel: 14.2-RELEASE Compiler: clang 18.1.6 Ubuntu 22.04 Kernel: 5.15 Compiler: gcc gcc (Ubuntu 11.4.0-1ubuntu1~22.04) 11.4.0 CentOS Stream 9 Kernel: 5.15 Compiler: gcc gcc (GCC) 11.5.0 20240719 (Red Hat 11.5.0-11) CentOS Stream 10 Kernel: 5.15 Compiler: gcc gcc (GCC) 14.2.1 20250110 (Red Hat 14.2.1-8) Debian GNU/Linux 12 Kernel: 5.15 Compiler: gcc gcc (Debian 12.2.0-14+deb12u1) 12.2.0 Fedora Linux 42 Kernel: 5.15 Compiler: clang gcc (GCC) 15.2.1 20250808 (Red Hat 15.2.1-1) openSUSE Leap 15.6 Kernel: 5.15 Compiler: gcc gcc (SUSE Linux) 7.5.0 Red Hat Enterprise Linux 8.10 Kernel: 5.15 Compiler: gcc gcc (GCC) 8.5.0 20210514 (Red Hat 8.5.0-22) Red Hat Enterprise Linux 9.5 Kernel: 5.15 Compiler: gcc gcc (GCC) 11.5.0 20240719 (Red Hat 11.5.0-2) Ubuntu 24.04 Kernel: 5.15 Compiler: gcc gcc (Ubuntu 13.3.0-6ubuntu2~24.04) 13.3.0 Alpine Linux 3.22.0 Kernel: 5.15 Compiler: gcc gcc (Alpine 14.2.0) 14.2.0 Windows Server 2022 Kernel: 10.0.20348.2031 Compiler: clang 15.0.7, gcc 14.1.0 (MinGW), and MSVC VS 19.39.33521 To view detailed results, visit: https://lab.dpdk.org/results/dashboard/patchsets/34481/ UNH-IOL DPDK Community Lab To manage your email subscriptions, visit: https://lab.dpdk.org/results/dashboard/preferences/subscriptions/