From mboxrd@z Thu Jan 1 00:00:00 1970 Return-Path: Received: from mails.dpdk.org (mails.dpdk.org [217.70.189.124]) by inbox.dpdk.org (Postfix) with ESMTP id 3129048A4E for ; Wed, 5 Nov 2025 22:34:51 +0100 (CET) Received: from mails.dpdk.org (localhost [127.0.0.1]) by mails.dpdk.org (Postfix) with ESMTP id 2CB8140DDC; Wed, 5 Nov 2025 22:34:51 +0100 (CET) Received: from mail-oa1-f99.google.com (mail-oa1-f99.google.com [209.85.160.99]) by mails.dpdk.org (Postfix) with ESMTP id 31C4240DF5 for ; Wed, 5 Nov 2025 22:34:50 +0100 (CET) Received: by mail-oa1-f99.google.com with SMTP id 586e51a60fabf-3de7e765439so172017fac.1 for ; Wed, 05 Nov 2025 13:34:50 -0800 (PST) DKIM-Signature: v=1; a=rsa-sha256; c=relaxed/relaxed; d=iol.unh.edu; s=unh-iol; t=1762378489; x=1762983289; darn=dpdk.org; h=references:in-reply-to:cc:to:from:subject:message-id:date:from:to :cc:subject:date:message-id:reply-to; bh=ZfDdhS1/ikg75EDUa7R30raPEgJGrfcoPhHKNDeq5po=; b=M7eA9/bEHUzm62ayCJEreG3m0a62p2iZ8Rz7Bs9PPQ80J/Q36WyZfypKonYxsMLUCq bs8XUqPAeaC0uU4qz0frqggzpBRtcZfJzKNShFEBIM+CyjD9mG3rVMCUEPZG5kuNuz6u UpVVijyL867ROUqAX2T9LM08ReaW4Lg+hWjbY= X-Google-DKIM-Signature: v=1; a=rsa-sha256; c=relaxed/relaxed; d=1e100.net; s=20230601; t=1762378489; x=1762983289; h=references:in-reply-to:cc:to:from:subject:message-id:date :x-gm-message-state:from:to:cc:subject:date:message-id:reply-to; bh=ZfDdhS1/ikg75EDUa7R30raPEgJGrfcoPhHKNDeq5po=; b=PDtGsmgb//JEeQ+udH0q514JGWyRPwZLjoSMhx5wVB08AyIKN8BiyhG733/Lj/Lwkx MUHz86b99zoLRcIGx7WrJaygCWn8BmZZERI3xe4Hia3L2WQZv/h/r2cctl/0LCChURN6 jB4/oAicj+PWF+R5EIeJaiAoEijT/PtzxLmqZuiPgHr46g93zj7vx46rpHG9hTt26QHA SHzxAz0/Ay+i/FINtNDjUqf8L/GLvzi4yapzb18nrh01z+rf6nhMekLHvBIdk7g6NUXt DMAfgVkFS3xi6QKM8ydcbJGjHg5/oWx2bgdNWC/IKDIRI3s8JAoLM17MbUHYTuNedwA4 bUeQ== X-Gm-Message-State: AOJu0Yx79H6Er5BUghjMUtc4x5O4psVISVNdost6gX7Cc6qUnGYaPBOg g82Aqllu/L3cBwY3/L0DmfdGHStWPJA71703jKVNqaAW4jlsHA2tRz1UiihzFZgrLg/2L89XZZn 0AW2SzyG4zL2+u91+f1M4KTRGF+uCe4DrJI5o9vlTav1S X-Gm-Gg: ASbGnct/jkxTaGeQjH7Qk6pDAIGRKnA7Py+IeDA9VvRtXYUnVKOSLyIQA8BSwxD1za9 9Hw1/U0Xw131DwZEvQMZJP3MYV1A/1TgrozmUchnnnP1Uv2m33gPa894lcAMYuY2NeHxh8qDNGC 4F2YQSdNg/2xT1bUhGyg0o4uhNaMbCcEJLFUKzqSWxqQfwhgImMZgyiY7mj8AaGrM0ga2YVTAn/ GyPUKePKCH31B7pPewEb2zypl+Zprofnjfx+rkbAzQY2WqLEEUMqy8KtzVuyuS6q1LgIvSkAzM0 YQ7Ua6tP2stgPnUm270KgpANlLQurzPAwf/+vbyDXCveXp3Nc4KXamT1MUU4hEw/3fHZMpTjOf0 PHlw/Uu0iRDRoKbfWZnwT9BhWJVeyQ1Y= X-Google-Smtp-Source: AGHT+IHO390JnF1PIJo5OQG3xZiHezjdZwXtaOX7DkHweZRYEDLivddkzZEMgzqHyTMp6pXfbxVsPsn8fN4a X-Received: by 2002:a05:6871:6682:b0:2e4:68ee:4f21 with SMTP id 586e51a60fabf-3e19997d1d7mr2163921fac.20.1762378489532; Wed, 05 Nov 2025 13:34:49 -0800 (PST) Received: from postal.iol.unh.edu (postal.iol.unh.edu. [132.177.123.84]) by smtp-relay.gmail.com with ESMTPS id 586e51a60fabf-3e30b486cf8sm25688fac.15.2025.11.05.13.34.49 (version=TLS1_2 cipher=ECDHE-ECDSA-AES128-GCM-SHA256 bits=128/128); Wed, 05 Nov 2025 13:34:49 -0800 (PST) X-Relaying-Domain: iol.unh.edu Date: Wed, 05 Nov 2025 13:34:49 -0800 (PST) Message-ID: <690bc2f9.050a0220.228d0c.158bSMTPIN_ADDED_MISSING@mx.google.com> Received: from [172.21.0.2] (unknown [172.18.0.240]) by postal.iol.unh.edu (Postfix) with ESMTP id 2589A6051830; Wed, 5 Nov 2025 16:34:49 -0500 (EST) Subject: |SUCCESS| pw158477 [PATCH] net/bonding: fix MAC address propagation From: dpdklab@iol.unh.edu To: Test Report Cc: dpdk-test-reports@iol.unh.edu, Stephen Hemminger In-Reply-To: <20251105180135.1181619-1-shperetz@nvidia.com> References: <20251105180135.1181619-1-shperetz@nvidia.com> Content-Type: text/plain X-BeenThere: test-report@dpdk.org X-Mailman-Version: 2.1.29 Precedence: list List-Id: automatic DPDK test reports List-Unsubscribe: , List-Archive: List-Post: List-Help: List-Subscribe: , Errors-To: test-report-bounces@dpdk.org Test-Label: iol-compile-amd64-testing Test-Status: SUCCESS http://dpdk.org/patch/158477 _Testing PASS_ Submitter: Shani Peretz Date: Wednesday, November 05 2025 18:01:35 DPDK git baseline: Repo:dpdk-next-net Branch: master CommitID:538052bb364db22ba8cc08b5e23a9e6d25a864a9 158477 --> testing pass Upstream job id: Windows-Compile-DPDK-Native#32154 Test environment and result as below: +-------------------------------+--------------------+------------------+-------------------+-------------------------+----------------------+ | Environment | dpdk_meson_compile | dpdk_compile_ovs | dpdk_msvc_compile | dpdk_llvm_clang_compile | dpdk_mingw64_compile | +===============================+====================+==================+===================+=========================+======================+ | Ubuntu 20.04 | PASS | SKIPPED | SKIPPED | SKIPPED | SKIPPED | +-------------------------------+--------------------+------------------+-------------------+-------------------------+----------------------+ | FreeBSD 14.2 | PASS | SKIPPED | SKIPPED | SKIPPED | SKIPPED | +-------------------------------+--------------------+------------------+-------------------+-------------------------+----------------------+ | Ubuntu 22.04 | PASS | SKIPPED | SKIPPED | SKIPPED | SKIPPED | +-------------------------------+--------------------+------------------+-------------------+-------------------------+----------------------+ | CentOS Stream 9 | PASS | SKIPPED | SKIPPED | SKIPPED | SKIPPED | +-------------------------------+--------------------+------------------+-------------------+-------------------------+----------------------+ | CentOS Stream 10 | PASS | SKIPPED | SKIPPED | SKIPPED | SKIPPED | +-------------------------------+--------------------+------------------+-------------------+-------------------------+----------------------+ | Debian GNU/Linux 12 | PASS | SKIPPED | SKIPPED | SKIPPED | SKIPPED | +-------------------------------+--------------------+------------------+-------------------+-------------------------+----------------------+ | Fedora Linux 42 | PASS | PASS | SKIPPED | SKIPPED | SKIPPED | +-------------------------------+--------------------+------------------+-------------------+-------------------------+----------------------+ | openSUSE Leap 15.6 | PASS | SKIPPED | SKIPPED | SKIPPED | SKIPPED | +-------------------------------+--------------------+------------------+-------------------+-------------------------+----------------------+ | Red Hat Enterprise Linux 8.10 | PASS | SKIPPED | SKIPPED | SKIPPED | SKIPPED | +-------------------------------+--------------------+------------------+-------------------+-------------------------+----------------------+ | Red Hat Enterprise Linux 9.5 | PASS | SKIPPED | SKIPPED | SKIPPED | SKIPPED | +-------------------------------+--------------------+------------------+-------------------+-------------------------+----------------------+ | Ubuntu 24.04 | PASS | PASS | SKIPPED | SKIPPED | SKIPPED | +-------------------------------+--------------------+------------------+-------------------+-------------------------+----------------------+ | Alpine Linux 3.22.0 | PASS | SKIPPED | SKIPPED | SKIPPED | SKIPPED | +-------------------------------+--------------------+------------------+-------------------+-------------------------+----------------------+ | Windows Server 2022 | SKIPPED | SKIPPED | PASS | PASS | PASS | +-------------------------------+--------------------+------------------+-------------------+-------------------------+----------------------+ Ubuntu 20.04 Kernel: 4.19 Compiler: gcc gcc (Ubuntu 9.4.0-1ubuntu1~20.04.2) 9.4.0 FreeBSD 14.2 Kernel: 14.2-RELEASE Compiler: clang 18.1.6 Ubuntu 22.04 Kernel: 5.15 Compiler: gcc gcc (Ubuntu 11.4.0-1ubuntu1~22.04) 11.4.0 CentOS Stream 9 Kernel: 5.15 Compiler: gcc gcc (GCC) 11.5.0 20240719 (Red Hat 11.5.0-11) CentOS Stream 10 Kernel: 5.15 Compiler: gcc gcc (GCC) 14.2.1 20250110 (Red Hat 14.2.1-8) Debian GNU/Linux 12 Kernel: 5.15 Compiler: gcc gcc (Debian 12.2.0-14+deb12u1) 12.2.0 Fedora Linux 42 Kernel: 5.15 Compiler: clang gcc (GCC) 15.2.1 20250808 (Red Hat 15.2.1-1) openSUSE Leap 15.6 Kernel: 5.15 Compiler: gcc gcc (SUSE Linux) 7.5.0 Red Hat Enterprise Linux 8.10 Kernel: 5.15 Compiler: gcc gcc (GCC) 8.5.0 20210514 (Red Hat 8.5.0-22) Red Hat Enterprise Linux 9.5 Kernel: 5.15 Compiler: gcc gcc (GCC) 11.5.0 20240719 (Red Hat 11.5.0-2) Ubuntu 24.04 Kernel: 5.15 Compiler: gcc gcc (Ubuntu 13.3.0-6ubuntu2~24.04) 13.3.0 Alpine Linux 3.22.0 Kernel: 5.15 Compiler: gcc gcc (Alpine 14.2.0) 14.2.0 Windows Server 2022 Kernel: 10.0.20348.2031 Compiler: clang 15.0.7, gcc 14.1.0 (MinGW), and MSVC VS 19.39.33521 To view detailed results, visit: https://lab.dpdk.org/results/dashboard/patchsets/34481/ UNH-IOL DPDK Community Lab To manage your email subscriptions, visit: https://lab.dpdk.org/results/dashboard/preferences/subscriptions/