From mboxrd@z Thu Jan 1 00:00:00 1970 Return-Path: Received: from mails.dpdk.org (mails.dpdk.org [217.70.189.124]) by inbox.dpdk.org (Postfix) with ESMTP id 493CE48A4E for ; Wed, 5 Nov 2025 22:35:41 +0100 (CET) Received: from mails.dpdk.org (localhost [127.0.0.1]) by mails.dpdk.org (Postfix) with ESMTP id 44F8140B9E; Wed, 5 Nov 2025 22:35:41 +0100 (CET) Received: from mail-il1-f227.google.com (mail-il1-f227.google.com [209.85.166.227]) by mails.dpdk.org (Postfix) with ESMTP id F051D40B9E for ; Wed, 5 Nov 2025 22:35:39 +0100 (CET) Received: by mail-il1-f227.google.com with SMTP id e9e14a558f8ab-4330fc37de7so943335ab.2 for ; Wed, 05 Nov 2025 13:35:39 -0800 (PST) DKIM-Signature: v=1; a=rsa-sha256; c=relaxed/relaxed; d=iol.unh.edu; s=unh-iol; t=1762378539; x=1762983339; darn=dpdk.org; h=references:in-reply-to:cc:to:from:subject:message-id:date:from:to :cc:subject:date:message-id:reply-to; bh=ib5L75Bv3v1GKZtRkqQ4rRiFwyrcXP2yFaZ5SbPIghk=; b=SMahl6QJoeceEBIwRFelhje3YhKB6vl0qtuGpiiNV9lWtg+XfZIWizg3Lj6iZ/eSXt Gd1GB4XLy0dDjejxmxYF/lGwAidmgPqPg89VcRJHW5a+W/tJVK21owGwiKZJdCoIxQso 394TQJaMhw2DBfZbtnqD78m1K6OtvWF/yz9Ls= X-Google-DKIM-Signature: v=1; a=rsa-sha256; c=relaxed/relaxed; d=1e100.net; s=20230601; t=1762378539; x=1762983339; h=references:in-reply-to:cc:to:from:subject:message-id:date :x-gm-message-state:from:to:cc:subject:date:message-id:reply-to; bh=ib5L75Bv3v1GKZtRkqQ4rRiFwyrcXP2yFaZ5SbPIghk=; b=h3+gA5oZJPVwh8/mZB7hlJetq1fBZjlcp6nhbVwYat8gqrnW2Qo0dW2zWzjcD1x9vu uFvymtzG75XvCEvBEEu0kDwWMy7zTzO6HOHJSQjrjwrk3Id+FhDaObSUJ9aESSMZdKCz 5KivpVswoEjDPQH73L2t4ZPVbHao8zJufP8k56fGlKTuKxLVogXP/Jjv+l8q8atSOLgI PIVQFJSLM+IBFIIzm95dtjcRVrog1WTlU47DTSKhzj0KzmDMLi0iubePSzoJxUX9yb5t FLW9fR6t2grmGQWtfGlvUPQLpc0zxP7CVMxd8/g9LMk/Mz3+lsLNAufvDP47NYNBTjD1 KJ4g== X-Gm-Message-State: AOJu0YzRlMdQlZ2M70PtKY3bV9oSo9VVLezoNB9uTKdcdM1q+WyftOdq bTiI4VOzjSdzxX2dpRWZPHc/Mu3Xc9o7y3n4xn3QI8rhRZKWCwAy92j7fciOuhxn5clOyYcUI7j ko6mw7DvMmsmTGvp0XL3WyNMVsFAPi84VC20M7/TsP/xa X-Gm-Gg: ASbGncuSG84/eJmDEAxYStC0FAZSChfIiYzHKor9yt5B9PTKDKGF4HLZDsKocRtyfmU baJZ+WEyR6aJRwzXYlRYP4VwEBp8+tEnCTkbCLisw6Haiwsyoe/U77Tu+NuU0RarnMPAV1YU6OQ VlFsb6qSocOYlPcjVC7OTznvl2QPEhGdqHekGB2IVGD4XN0XbrJJ8+lkZzaRfaWecqRDyMCl/Rs 6HDPmVcwvb7h/yTST19+U4yTltqasVTgVb9rMcSqZ3evac2gGII1FaYhltzBiZTAdwJBsyU240t vb4u5OVz1wOei/IarePUm63Nu2bRL0Nnq7fF89GMwXnb81vMuhkIBlqPX23xm7q0gkMdFmnQ/pF AdV5cBUOu0KB7vHo29o8SDgFfHAve71A= X-Google-Smtp-Source: AGHT+IE3ZcpUkBSq3eXvDAkLDBYpV0f5UBEIgUO+fjlyWyXK7RKTmbBYEJZ8rHjQpng+g/mo+bCLWDy1b/dD X-Received: by 2002:a05:6e02:1d8b:b0:433:3192:4a5 with SMTP id e9e14a558f8ab-43340769701mr75497315ab.3.1762378539222; Wed, 05 Nov 2025 13:35:39 -0800 (PST) Received: from postal.iol.unh.edu (postal.iol.unh.edu. [132.177.123.84]) by smtp-relay.gmail.com with ESMTPS id 8926c6da1cb9f-5b746739b36sm42737173.5.2025.11.05.13.35.39 (version=TLS1_2 cipher=ECDHE-ECDSA-AES128-GCM-SHA256 bits=128/128); Wed, 05 Nov 2025 13:35:39 -0800 (PST) X-Relaying-Domain: iol.unh.edu Date: Wed, 05 Nov 2025 13:35:39 -0800 (PST) Message-ID: <690bc32b.050a0220.32194d.2763SMTPIN_ADDED_MISSING@mx.google.com> Received: from [172.21.0.2] (unknown [172.18.0.240]) by postal.iol.unh.edu (Postfix) with ESMTP id A4A986051830; Wed, 5 Nov 2025 16:35:38 -0500 (EST) Subject: |SUCCESS| pw158467 [PATCH] drivers: add ConnectX-9 device ID From: dpdklab@iol.unh.edu To: Test Report Cc: dpdk-test-reports@iol.unh.edu In-Reply-To: <20251105154418.99211-1-rasland@nvidia.com> References: <20251105154418.99211-1-rasland@nvidia.com> Content-Type: text/plain X-BeenThere: test-report@dpdk.org X-Mailman-Version: 2.1.29 Precedence: list List-Id: automatic DPDK test reports List-Unsubscribe: , List-Archive: List-Post: List-Help: List-Subscribe: , Errors-To: test-report-bounces@dpdk.org Test-Label: iol-compile-arm64-testing Test-Status: SUCCESS http://dpdk.org/patch/158467 _Testing PASS_ Submitter: Raslan Darawsheh Date: Wednesday, November 05 2025 15:44:17 DPDK git baseline: Repo:dpdk Branch: master CommitID:a054de204b0b937dd976d0390fbb03353745e7cb 158467 --> testing pass Upstream job id: Generic-DPDK-Compile-Meson#441140 Test environment and result as below: +------------------------------+--------------------+ | Environment | dpdk_meson_compile | +==============================+====================+ | Red Hat Enterprise Linux 9.5 | PASS | +------------------------------+--------------------+ | Ubuntu 20.04 | PASS | +------------------------------+--------------------+ | Debian GNU/Linux 12 | PASS | +------------------------------+--------------------+ | Fedora Linux 42 | PASS | +------------------------------+--------------------+ | Ubuntu 22.04 | PASS | +------------------------------+--------------------+ | Ubuntu 24.04 | PASS | +------------------------------+--------------------+ | CentOS Stream 9 | PASS | +------------------------------+--------------------+ | CentOS Stream 10 | PASS | +------------------------------+--------------------+ Red Hat Enterprise Linux 9.5 Kernel: 5.4 Compiler: gcc gcc (GCC) 11.5.0 20240719 (Red Hat 11.5.0-2) Ubuntu 20.04 Kernel: 5.15 Compiler: aarch64-linux-gnu-gcc gcc (Ubuntu 9.4.0-1ubuntu1~20.04.2) 9.4.0 Debian GNU/Linux 12 Kernel: 5.4 Compiler: gcc gcc (Debian 12.2.0-14+deb12u1) 12.2.0 Fedora Linux 42 Kernel: 5.4 Compiler: gcc gcc (GCC) 15.2.1 20250808 (Red Hat 15.2.1-1) Ubuntu 22.04 Kernel: 5.4 Compiler: gcc gcc (Ubuntu 11.4.0-1ubuntu1~22.04) 11.4.0 Ubuntu 24.04 Kernel: 5.4 Compiler: gcc gcc (Ubuntu 13.3.0-6ubuntu2~24.04) 13.3.0 CentOS Stream 9 Kernel: 5.4 Compiler: gcc gcc (GCC) 11.5.0 20240719 (Red Hat 11.5.0-11) CentOS Stream 10 Kernel: 5.4 Compiler: gcc gcc (GCC) 14.2.1 20250110 (Red Hat 14.2.1-8) To view detailed results, visit: https://lab.dpdk.org/results/dashboard/patchsets/34476/ UNH-IOL DPDK Community Lab To manage your email subscriptions, visit: https://lab.dpdk.org/results/dashboard/preferences/subscriptions/