From mboxrd@z Thu Jan 1 00:00:00 1970 Return-Path: Received: from mails.dpdk.org (mails.dpdk.org [217.70.189.124]) by inbox.dpdk.org (Postfix) with ESMTP id B300C48A4E for ; Wed, 5 Nov 2025 23:17:59 +0100 (CET) Received: from mails.dpdk.org (localhost [127.0.0.1]) by mails.dpdk.org (Postfix) with ESMTP id AD864402E6; Wed, 5 Nov 2025 23:17:59 +0100 (CET) Received: from mail-il1-f227.google.com (mail-il1-f227.google.com [209.85.166.227]) by mails.dpdk.org (Postfix) with ESMTP id DF3E2402E6 for ; Wed, 5 Nov 2025 23:17:58 +0100 (CET) Received: by mail-il1-f227.google.com with SMTP id e9e14a558f8ab-4334f402e17so1235575ab.2 for ; Wed, 05 Nov 2025 14:17:58 -0800 (PST) DKIM-Signature: v=1; a=rsa-sha256; c=relaxed/relaxed; d=iol.unh.edu; s=unh-iol; t=1762381078; x=1762985878; darn=dpdk.org; h=references:in-reply-to:cc:to:from:subject:message-id:date:from:to :cc:subject:date:message-id:reply-to; bh=KI7lkrQo1ez3VcnI5PiGlyjwUvEHz/MrAijX3+kTU/0=; b=Sm0jYa+qAET6KgaDtEzscgEpI2FVpyN+UmCEa8ie88KuQvG2AlR7i2UVnRIeMFvqlf sJTppbqQnzQLAWkfXnB/dRJzNk8KXBJsaWmmBeT0y2zb/PRVJ5CkHtbjGZPqkJgseyjx npTCSzk2kH8pQbE0M/QlE8FM9dnxPfD+eMjd4= X-Google-DKIM-Signature: v=1; a=rsa-sha256; c=relaxed/relaxed; d=1e100.net; s=20230601; t=1762381078; x=1762985878; h=references:in-reply-to:cc:to:from:subject:message-id:date :x-gm-message-state:from:to:cc:subject:date:message-id:reply-to; bh=KI7lkrQo1ez3VcnI5PiGlyjwUvEHz/MrAijX3+kTU/0=; b=fQdT7fs0WwME9LPHN3Ik66EUnpH7cB+VOdWFS8cRoXp8/2QBEdTvIAQJUe8tccIw8M FlMikoEsmmLA92PMRLo3P2lSX1ZxpZbf5JTckfeUUU6ZMZP63J525BlHHdvdQXMUbVXC 2SCaBulVL23YZrXsCnJPXZkeaQkRa8H5ldeuc9oxHsw7fVE3pSC7pOJwK5aLgdHsEp07 oZu8TkT5OuMTAmeQGjnW9JWOXR1gyYMwAuu7/UZ/8bgVtkCGZuqtHVThffcvrJhf2MlT O+/cr08oBy1TszzJFD4Df0Xyi0Egab8kuLnGKqaD7Spyh6I0g845S+S2oQK0bvSDanox Qstg== X-Gm-Message-State: AOJu0YzeXZxiEpalEpzicpWavzaH2p38UXXGYnW+NXSosunh/sgoyMAm MDVFXBYISJrVn1YvbqJjs6NyKw7tnDF0xJ01wbDdqbv6Gmz0Fx/WXKIp7AXoUXB1RslLmDAMVjU nxEokbQflHr5MLs2/c8DYN24/xqDgmZZHHdmGoQ/KVBfArVwaXwQAvdQ4eF7i X-Gm-Gg: ASbGncs+h/D67vPWjXC1l7Iq63dmGm1lCeBpzmqE/XZtPwageLbEWKLs1PwbrirfbUr D5IRpwR3U1CoM7KP8ABUDtiNAyVDbdhm9o1VIVaUmpEtaiN51pLzWNtrdynJCYfgHeupZ6bEA65 QSX9wFJACiXnfwrobZtirU98trclYR5AsMl/oF7SyEQCVZ76za/WAK0zhIkHE62fhCsarpSLVou 7yMj8kBpv6M56sYunFuv3CtkYghYw3eEaX47kmn0qFn8Z2Cdu3QVyLSYMnVVTnbZ7uhOmuggFp3 Exe+hQLVej+hgDRrGEmYC8qj8jtTqk5bn9okkXENxdyH/FvP8S9tLoTrHKOMBjciLDkw7WO5CBz 6NGF/OVn6 X-Google-Smtp-Source: AGHT+IHnKX2KA8l3xzrr6S897TV+TiMaxzMhxCJR08WuHW45MAQayKNzspGoobcVUzGS4EHUWPBmQnAsk8UC X-Received: by 2002:a92:ca47:0:b0:433:312e:e33c with SMTP id e9e14a558f8ab-433407600c1mr62794415ab.1.1762381078006; Wed, 05 Nov 2025 14:17:58 -0800 (PST) Received: from postal.iol.unh.edu (postal.iol.unh.edu. [2606:4100:3880:1234::84]) by smtp-relay.gmail.com with ESMTPS id 8926c6da1cb9f-5b7468726d1sm54323173.23.2025.11.05.14.17.57 (version=TLS1_2 cipher=ECDHE-ECDSA-AES128-GCM-SHA256 bits=128/128); Wed, 05 Nov 2025 14:17:58 -0800 (PST) X-Relaying-Domain: iol.unh.edu Date: Wed, 05 Nov 2025 14:17:58 -0800 (PST) Message-ID: <690bcd16.050a0220.269d90.2dbaSMTPIN_ADDED_MISSING@mx.google.com> Received: from [172.21.0.2] (unknown [172.18.0.240]) by postal.iol.unh.edu (Postfix) with ESMTP id 8A5E36051830; Wed, 5 Nov 2025 17:17:57 -0500 (EST) Subject: |SUCCESS| pw158468-158472 [PATCH] [v2,5/5] net/mlx5: support count a From: dpdklab@iol.unh.edu To: Test Report Cc: dpdk-test-reports@iol.unh.edu In-Reply-To: <20251105165258.1396352-6-dsosnowski@nvidia.com> References: <20251105165258.1396352-6-dsosnowski@nvidia.com> Content-Type: text/plain X-BeenThere: test-report@dpdk.org X-Mailman-Version: 2.1.29 Precedence: list List-Id: automatic DPDK test reports List-Unsubscribe: , List-Archive: List-Post: List-Help: List-Subscribe: , Errors-To: test-report-bounces@dpdk.org Test-Label: iol-compile-arm64-testing Test-Status: SUCCESS http://dpdk.org/patch/158472 _Testing PASS_ Submitter: Dariusz Sosnowski Date: Wednesday, November 05 2025 16:52:58 DPDK git baseline: Repo:dpdk-next-net-mlx Branch: master CommitID:f1c1f82f2421be9ac2f46b4ec2a616ca28da4ca7 158468-158472 --> testing pass Upstream job id: Generic-DPDK-Compile-Meson#441180 Test environment and result as below: +------------------------------+--------------------+ | Environment | dpdk_meson_compile | +==============================+====================+ | Red Hat Enterprise Linux 9.5 | PASS | +------------------------------+--------------------+ | Ubuntu 20.04 | PASS | +------------------------------+--------------------+ | Debian GNU/Linux 12 | PASS | +------------------------------+--------------------+ | Fedora Linux 42 | PASS | +------------------------------+--------------------+ | Ubuntu 22.04 | PASS | +------------------------------+--------------------+ | Ubuntu 24.04 | PASS | +------------------------------+--------------------+ | CentOS Stream 9 | PASS | +------------------------------+--------------------+ | CentOS Stream 10 | PASS | +------------------------------+--------------------+ Red Hat Enterprise Linux 9.5 Kernel: 5.4 Compiler: gcc gcc (GCC) 11.5.0 20240719 (Red Hat 11.5.0-2) Ubuntu 20.04 Kernel: 5.15 Compiler: aarch64-linux-gnu-gcc gcc (Ubuntu 9.4.0-1ubuntu1~20.04.2) 9.4.0 Debian GNU/Linux 12 Kernel: 5.4 Compiler: gcc gcc (Debian 12.2.0-14+deb12u1) 12.2.0 Fedora Linux 42 Kernel: 5.4 Compiler: gcc gcc (GCC) 15.2.1 20250808 (Red Hat 15.2.1-1) Ubuntu 22.04 Kernel: 5.4 Compiler: gcc gcc (Ubuntu 11.4.0-1ubuntu1~22.04) 11.4.0 Ubuntu 24.04 Kernel: 5.4 Compiler: gcc gcc (Ubuntu 13.3.0-6ubuntu2~24.04) 13.3.0 CentOS Stream 9 Kernel: 5.4 Compiler: gcc gcc (GCC) 11.5.0 20240719 (Red Hat 11.5.0-11) CentOS Stream 10 Kernel: 5.4 Compiler: gcc gcc (GCC) 14.2.1 20250110 (Red Hat 14.2.1-8) To view detailed results, visit: https://lab.dpdk.org/results/dashboard/patchsets/34477/ UNH-IOL DPDK Community Lab To manage your email subscriptions, visit: https://lab.dpdk.org/results/dashboard/preferences/subscriptions/