From mboxrd@z Thu Jan 1 00:00:00 1970 Return-Path: Received: from mails.dpdk.org (mails.dpdk.org [217.70.189.124]) by inbox.dpdk.org (Postfix) with ESMTP id EF3B648A4E for ; Wed, 5 Nov 2025 23:40:20 +0100 (CET) Received: from mails.dpdk.org (localhost [127.0.0.1]) by mails.dpdk.org (Postfix) with ESMTP id E8ECF402E6; Wed, 5 Nov 2025 23:40:20 +0100 (CET) Received: from mail-il1-f228.google.com (mail-il1-f228.google.com [209.85.166.228]) by mails.dpdk.org (Postfix) with ESMTP id 8D4ED402E6 for ; Wed, 5 Nov 2025 23:40:19 +0100 (CET) Received: by mail-il1-f228.google.com with SMTP id e9e14a558f8ab-4334e884b9dso2040075ab.1 for ; Wed, 05 Nov 2025 14:40:19 -0800 (PST) DKIM-Signature: v=1; a=rsa-sha256; c=relaxed/relaxed; d=iol.unh.edu; s=unh-iol; t=1762382419; x=1762987219; darn=dpdk.org; h=references:in-reply-to:cc:to:from:subject:message-id:date:from:to :cc:subject:date:message-id:reply-to; bh=jfVizXiK7mX+zC+rYLuVMnwCnKyIB2QMBC2SQIrw34Y=; b=dDnywwLAmCT/vaihYzfal/j5Ia272kQ55bomm5y+RheuY2ocINXdtEQtSUWB0QFf0T wO0cWpPaL8pSjljrW+tsNOeyEcO/TQZ6c097efl2tmPhDiK1FuyhBPX0lquHM08MqmVB 6bpjhylMwP7OOVHuUO8sN3iPFTBE7dXc2ZsSA= X-Google-DKIM-Signature: v=1; a=rsa-sha256; c=relaxed/relaxed; d=1e100.net; s=20230601; t=1762382419; x=1762987219; h=references:in-reply-to:cc:to:from:subject:message-id:date :x-gm-message-state:from:to:cc:subject:date:message-id:reply-to; bh=jfVizXiK7mX+zC+rYLuVMnwCnKyIB2QMBC2SQIrw34Y=; b=ZHUMQOZT03eVyV5ptABNMjNVgIOVA1q4DooaC10zTqQiCb+K2Yn9O3TFwX7D7btE2z 6A452qxQZgb4jtabRLuXzzZB3J1YAkhiG2E5s/WDio8KLbFFlUmT+h83rHh/VNFKlIY2 sKv6zg4JggA8FeKBbsTMgFQQFt+3PbCS7al0NRur0qc/oJgDHfQoaXHQ7zkpQnhLSfmY YU8RvNV6bz7e46mRpqkJv37Tjj7EreoNaJerZqk63XNwLDKHZ+BydwpRjr71LsL3VrXt gsLwhNVIwudEPhnFBWSQrOAbrq27VF2d7oXsIsWG7eq0+Xb+tZRfU2J836wC3uJCZNeL fIww== X-Gm-Message-State: AOJu0Yyp2Enu9PtKt7AcXBy8Of08lb1j1M40sTHvAyBJnNp0sk3TsScZ cuQckdyraJoSwrLxv2J3FmteaIh5IdmYXF5ybqyiWNNrZ3x4FIvTebiuLVxRcDoqt6u4D1ej/cJ 1qVVgt1YP+42G6SfzQjh7jy1qYeGdHuKHHSADEtQmN++K7bWthqi28ovobGCI X-Gm-Gg: ASbGncsaVlfAPG2d5n/EsSa96R6ofZMSXSHVhzPMQLPNd49dWUM88bnjnL/5ugx7WNL UDhuI8kCt9RYWsFOKYx7VZ4jpINtbzB9liyjLNeMEVmtC05DH/AVEN3EeWjgQwZC6Cjwf8RoBNu K1Dv2MGjueW1aWo/VZ2GC07Yu7alQPlXjQNSWywN8BVMSPwpaKp48qdg0Gr5pr+2f2Ur5dFptUL s7DKEMR9M8h0S7dq57xUDDI/gy/jIESOy5nwRb/J/nBBLpT5wme0JfIL5WOn+uq2qwgwInxMMmM 7vSKifibZ4r0d2dLJzE3VKCQyQDcbWRy40El5D16B/NOMc6N/dFcdY9IYF7jCDZUO9ZqWMuhuFx oAQsgRu5B X-Google-Smtp-Source: AGHT+IHMziHGEjmXy0NOdeesoK0QJChKX/U8VIDB7Z+tDwxrJU+QAk0SV3bf5xokQIr6R8UrUQYUNTnCGyIY X-Received: by 2002:a05:6e02:164b:b0:433:2390:3a4a with SMTP id e9e14a558f8ab-4334ee7a1b8mr18774675ab.14.1762382418851; Wed, 05 Nov 2025 14:40:18 -0800 (PST) Received: from postal.iol.unh.edu (postal.iol.unh.edu. [2606:4100:3880:1234::84]) by smtp-relay.gmail.com with ESMTPS id e9e14a558f8ab-4334f4b46basm487955ab.19.2025.11.05.14.40.18 (version=TLS1_2 cipher=ECDHE-ECDSA-AES128-GCM-SHA256 bits=128/128); Wed, 05 Nov 2025 14:40:18 -0800 (PST) X-Relaying-Domain: iol.unh.edu Date: Wed, 05 Nov 2025 14:40:18 -0800 (PST) Message-ID: <690bd252.050a0220.a2538.2d47SMTPIN_ADDED_MISSING@mx.google.com> Received: from [172.21.0.2] (unknown [172.18.0.240]) by postal.iol.unh.edu (Postfix) with ESMTP id 56C596051830; Wed, 5 Nov 2025 17:40:18 -0500 (EST) Subject: |SUCCESS| pw158475-158476 [PATCH] [v3,2/2] net/mlx5: support PF repr From: dpdklab@iol.unh.edu To: Test Report Cc: dpdk-test-reports@iol.unh.edu, Stephen Hemminger In-Reply-To: <20251105174839.323085-2-getelson@nvidia.com> References: <20251105174839.323085-2-getelson@nvidia.com> Content-Type: text/plain X-BeenThere: test-report@dpdk.org X-Mailman-Version: 2.1.29 Precedence: list List-Id: automatic DPDK test reports List-Unsubscribe: , List-Archive: List-Post: List-Help: List-Subscribe: , Errors-To: test-report-bounces@dpdk.org Test-Label: iol-compile-arm64-testing Test-Status: SUCCESS http://dpdk.org/patch/158476 _Testing PASS_ Submitter: Gregory Etelson Date: Wednesday, November 05 2025 17:48:38 DPDK git baseline: Repo:dpdk-next-net Branch: master CommitID:538052bb364db22ba8cc08b5e23a9e6d25a864a9 158475-158476 --> testing pass Upstream job id: Generic-DPDK-Compile-Meson#441207 Test environment and result as below: +------------------------------+--------------------+ | Environment | dpdk_meson_compile | +==============================+====================+ | Ubuntu 20.04 | PASS | +------------------------------+--------------------+ | Red Hat Enterprise Linux 9.5 | PASS | +------------------------------+--------------------+ | Debian GNU/Linux 12 | PASS | +------------------------------+--------------------+ | Fedora Linux 42 | PASS | +------------------------------+--------------------+ | Ubuntu 22.04 | PASS | +------------------------------+--------------------+ | Ubuntu 24.04 | PASS | +------------------------------+--------------------+ | CentOS Stream 9 | PASS | +------------------------------+--------------------+ | CentOS Stream 10 | PASS | +------------------------------+--------------------+ Ubuntu 20.04 Kernel: 5.15 Compiler: aarch64-linux-gnu-gcc gcc (Ubuntu 9.4.0-1ubuntu1~20.04.2) 9.4.0 Red Hat Enterprise Linux 9.5 Kernel: 5.4 Compiler: gcc gcc (GCC) 11.5.0 20240719 (Red Hat 11.5.0-2) Debian GNU/Linux 12 Kernel: 5.4 Compiler: gcc gcc (Debian 12.2.0-14+deb12u1) 12.2.0 Fedora Linux 42 Kernel: 5.4 Compiler: gcc gcc (GCC) 15.2.1 20250808 (Red Hat 15.2.1-1) Ubuntu 22.04 Kernel: 5.4 Compiler: gcc gcc (Ubuntu 11.4.0-1ubuntu1~22.04) 11.4.0 Ubuntu 24.04 Kernel: 5.4 Compiler: gcc gcc (Ubuntu 13.3.0-6ubuntu2~24.04) 13.3.0 CentOS Stream 9 Kernel: 5.4 Compiler: gcc gcc (GCC) 11.5.0 20240719 (Red Hat 11.5.0-11) CentOS Stream 10 Kernel: 5.4 Compiler: gcc gcc (GCC) 14.2.1 20250110 (Red Hat 14.2.1-8) To view detailed results, visit: https://lab.dpdk.org/results/dashboard/patchsets/34479/ UNH-IOL DPDK Community Lab To manage your email subscriptions, visit: https://lab.dpdk.org/results/dashboard/preferences/subscriptions/